Workbook

Sheet НКСУ
A1: ПРЕДЛОЖЕНИЕ ЗА НАЦИОНАЛНА КАРТА НА СОЦИАЛНИТЕ УСЛУГИ
A2: № | B2: СОЦИАЛНА УСЛУГА | C2: КАРТА
A3: 1 | B3: информиране, консултиране и обучение за реализиране на социални права и за развиване на умения (общодостъпна услуга) | C3: =SUM('Р БЪЛГАРИЯ'!I4) -> 2360
A4: 2 | B4: мобилна превантивна общностна работа(общодостъпна услуга) | C4: =SUM('Р БЪЛГАРИЯ'!I5) -> 3256
A5: 3 | B5: информиране и консултиране (специализирана) | C5: =SUM('Р БЪЛГАРИЯ'!I6) -> 11260
A6: 4 | B6: застъпничество и посредничество | C6: =SUM('Р БЪЛГАРИЯ'!I7) -> 8438
A7: 5 | B7: терапия и рехабилитация | C7: =SUM('Р БЪЛГАРИЯ'!I8) -> 14773
A8: 6 | B8: обучение за придобиване на умения | C8: =SUM('Р БЪЛГАРИЯ'!I9) -> 11063
A9: 7 | B9: подкрепа за придобиване на трудови умения | C9: =SUM('Р БЪЛГАРИЯ'!I10) -> 4927
A10: 8 | B10: дневна грижа за деца с трайни увреждания | C10: =SUM('Р БЪЛГАРИЯ'!I11) -> 5874
A11: 9 | B11: дневна грижа за пълнолетни лица с трайни увреждания | C11: =SUM('Р БЪЛГАРИЯ'!I12) -> 15372
A12: 10 | B12: осигуряване на подслон за бездомни лица | C12: =SUM('Р БЪЛГАРИЯ'!I13) -> 1163
A13: 11 | B13: асистентска подкрепа | C13: =SUM('Р БЪЛГАРИЯ'!I14) -> 23577
A14: 12 | B14: резидентна грижа за деца без увреждания | C14: =SUM('Р БЪЛГАРИЯ'!I15) -> 2082
... A30: 28 | B30: осигуряване на подслон за пълнолетни лица, пострадали от домашно насилие и лица жертви на трафик | C30: =SUM('Р БЪЛГАРИЯ'!I31) -> 791

Sheet Р БЪЛГАРИЯ
A1: РЕПУБЛИКА БЪЛГАРИЯ
A2: № | B2: Социална услуга | C2: Брой на лицата, ползващи социалната услуга, съгласно разпоредбите на НКСУ | E2: СУ | F2: П5 | G2: Р | H2: П | I2: К
C3: мин. | D3: макс.
A4: 1 | B4: информиране, консултиране и обучение за реализиране на социални права и за развиване на умения (общодостъпна услуга) | C4: 10 | D4: 40 | E4: ='Област Благоевград'!E3+'Област Бургас'!E3+'Област Варна'!E3+'Област В. Търново'!E3+'Област Видин'!E3+'Област Враца'!E3+'Област Габрово'!E3+'Област Добрич'!E3+'Област Кърджали'!E3+'Област Кюстендил'!E3+'Област Ловеч'!E3+'Област Монтана'!E3+'Област Пазарджик'!E3+'Област Перник'!E3+'Област Плевен'!E3+'Област Пловдив'!E3+'Област Разград'!E3+'Област Русе'!E3+'Област Силистра'!E3+'Област Сливен'!E3+'Област Смолян'!E3+'Област София'!E3+'Област София-град'!E3+'Област Стара Загора'!E3+'Област Търговище'!E3+'Област Хасково'!E3+'Област Шумен'!E3+'Област Ямбол'!E3 -> 0 | F4: ='Област Благоевград'!F3+'Област Бургас'!F3+'Област Варна'!F3+'Област В. Търново'!F3+'Област Видин'!F3+'Област Враца'!F3+'Област Габрово'!F3+'Област Добрич'!F3+'Област Кърджали'!F3+'Област Кюстендил'!F3+'Област Ловеч'!F3+'Област Монтана'!F3+'Област Пазарджик'!F3+'Област Перник'!F3+'Област Плевен'!F3+'Област Пловдив'!F3+'Област Разград'!F3+'Област Русе'!F3+'Област Силистра'!F3+'Област Сливен'!F3+'Област Смолян'!F3+'Област София'!F3+'Област София-град'!F3+'Област Стара Загора'!F3+'Област Търговище'!F3+'Област Хасково'!F3+'Област Шумен'!F3+'Област Ямбол'!F3 -> 2372 | G4: ='Област Благоевград'!G3+'Област Бургас'!G3+'Област Варна'!G3+'Област В. Търново'!G3+'Област Видин'!G3+'Област Враца'!G3+'Област Габрово'!G3+'Област Добрич'!G3+'Област Кърджали'!G3+'Област Кюстендил'!G3+'Област Ловеч'!G3+'Област Монтана'!G3+'Област Пазарджик'!G3+'Област Перник'!G3+'Област Плевен'!G3+'Област Пловдив'!G3+'Област Разград'!G3+'Област Русе'!G3+'Област Силистра'!G3+'Област Сливен'!G3+'Област Смолян'!G3+'Област София'!G3+'Област София-град'!G3+'Област Стара Загора'!G3+'Област Търговище'!G3+'Област Хасково'!G3+'Област Шумен'!G3+'Област Ямбол'!G3 -> -2372 | H4: ='Област Благоевград'!H3+'Област Бургас'!H3+'Област Варна'!H3+'Област В. Търново'!H3+'Област Видин'!H3+'Област Враца'!H3+'Област Габрово'!H3+'Област Добрич'!H3+'Област Кърджали'!H3+'Област Кюстендил'!H3+'Област Ловеч'!H3+'Област Монтана'!H3+'Област Пазарджик'!H3+'Област Перник'!H3+'Област Плевен'!H3+'Област Пловдив'!H3+'Област Разград'!H3+'Област Русе'!H3+'Област Силистра'!H3+'Област Сливен'!H3+'Област Смолян'!H3+'Област София'!H3+'Област София-град'!H3+'Област Стара Загора'!H3+'Област Търговище'!H3+'Област Хасково'!H3+'Област Шумен'!H3+'Област Ямбол'!H3 -> 2373 | I4: ='Област Благоевград'!I3+'Област Бургас'!I3+'Област Варна'!I3+'Област В. Търново'!I3+'Област Видин'!I3+'Област Враца'!I3+'Област Габрово'!I3+'Област Добрич'!I3+'Област Кърджали'!I3+'Област Кюстендил'!I3+'Област Ловеч'!I3+'Област Монтана'!I3+'Област Пазарджик'!I3+'Област Перник'!I3+'Област Плевен'!I3+'Област Пловдив'!I3+'Област Разград'!I3+'Област Русе'!I3+'Област Силистра'!I3+'Област Сливен'!I3+'Област Смолян'!I3+'Област София'!I3+'Област София-град'!I3+'Област Стара Загора'!I3+'Област Търговище'!I3+'Област Хасково'!I3+'Област Шумен'!I3+'Област Ямбол'!I3 -> 2360
A5: 2 | B5: мобилна превантивна общностна работа(общодостъпна услуга) | C5: - | D5: - | E5: ='Област Благоевград'!E4+'Област Бургас'!E4+'Област Варна'!E4+'Област В. Търново'!E4+'Област Видин'!E4+'Област Враца'!E4+'Област Габрово'!E4+'Област Добрич'!E4+'Област Кърджали'!E4+'Област Кюстендил'!E4+'Област Ловеч'!E4+'Област Монтана'!E4+'Област Пазарджик'!E4+'Област Перник'!E4+'Област Плевен'!E4+'Област Пловдив'!E4+'Област Разград'!E4+'Област Русе'!E4+'Област Силистра'!E4+'Област Сливен'!E4+'Област Смолян'!E4+'Област София'!E4+'Област София-град'!E4+'Област Стара Загора'!E4+'Област Търговище'!E4+'Област Хасково'!E4+'Област Шумен'!E4+'Област Ямбол'!E4 -> 0 | F5: ='Област Благоевград'!F4+'Област Бургас'!F4+'Област Варна'!F4+'Област В. Търново'!F4+'Област Видин'!F4+'Област Враца'!F4+'Област Габрово'!F4+'Област Добрич'!F4+'Област Кърджали'!F4+'Област Кюстендил'!F4+'Област Ловеч'!F4+'Област Монтана'!F4+'Област Пазарджик'!F4+'Област Перник'!F4+'Област Плевен'!F4+'Област Пловдив'!F4+'Област Разград'!F4+'Област Русе'!F4+'Област Силистра'!F4+'Област Сливен'!F4+'Област Смолян'!F4+'Област София'!F4+'Област София-град'!F4+'Област Стара Загора'!F4+'Област Търговище'!F4+'Област Хасково'!F4+'Област Шумен'!F4+'Област Ямбол'!F4 -> 3273 | G5: ='Област Благоевград'!G4+'Област Бургас'!G4+'Област Варна'!G4+'Област В. Търново'!G4+'Област Видин'!G4+'Област Враца'!G4+'Област Габрово'!G4+'Област Добрич'!G4+'Област Кърджали'!G4+'Област Кюстендил'!G4+'Област Ловеч'!G4+'Област Монтана'!G4+'Област Пазарджик'!G4+'Област Перник'!G4+'Област Плевен'!G4+'Област Пловдив'!G4+'Област Разград'!G4+'Област Русе'!G4+'Област Силистра'!G4+'Област Сливен'!G4+'Област Смолян'!G4+'Област София'!G4+'Област София-град'!G4+'Област Стара Загора'!G4+'Област Търговище'!G4+'Област Хасково'!G4+'Област Шумен'!G4+'Област Ямбол'!G4 -> -3273 | H5: ='Област Благоевград'!H4+'Област Бургас'!H4+'Област Варна'!H4+'Област В. Търново'!H4+'Област Видин'!H4+'Област Враца'!H4+'Област Габрово'!H4+'Област Добрич'!H4+'Област Кърджали'!H4+'Област Кюстендил'!H4+'Област Ловеч'!H4+'Област Монтана'!H4+'Област Пазарджик'!H4+'Област Перник'!H4+'Област Плевен'!H4+'Област Пловдив'!H4+'Област Разград'!H4+'Област Русе'!H4+'Област Силистра'!H4+'Област Сливен'!H4+'Област Смолян'!H4+'Област София'!H4+'Област София-град'!H4+'Област Стара Загора'!H4+'Област Търговище'!H4+'Област Хасково'!H4+'Област Шумен'!H4+'Област Ямбол'!H4 -> 3275 | I5: ='Област Благоевград'!I4+'Област Бургас'!I4+'Област Варна'!I4+'Област В. Търново'!I4+'Област Видин'!I4+'Област Враца'!I4+'Област Габрово'!I4+'Област Добрич'!I4+'Област Кърджали'!I4+'Област Кюстендил'!I4+'Област Ловеч'!I4+'Област Монтана'!I4+'Област Пазарджик'!I4+'Област Перник'!I4+'Област Плевен'!I4+'Област Пловдив'!I4+'Област Разград'!I4+'Област Русе'!I4+'Област Силистра'!I4+'Област Сливен'!I4+'Област Смолян'!I4+'Област София'!I4+'Област София-град'!I4+'Област Стара Загора'!I4+'Област Търговище'!I4+'Област Хасково'!I4+'Област Шумен'!I4+'Област Ямбол'!I4 -> 3256
A6: 3 | B6: информиране и консултиране (специализирана) | C6: 4 | D6: 35 | E6: ='Област Благоевград'!E5+'Област Бургас'!E5+'Област Варна'!E5+'Област В. Търново'!E5+'Област Видин'!E5+'Област Враца'!E5+'Област Габрово'!E5+'Област Добрич'!E5+'Област Кърджали'!E5+'Област Кюстендил'!E5+'Област Ловеч'!E5+'Област Монтана'!E5+'Област Пазарджик'!E5+'Област Перник'!E5+'Област Плевен'!E5+'Област Пловдив'!E5+'Област Разград'!E5+'Област Русе'!E5+'Област Силистра'!E5+'Област Сливен'!E5+'Област Смолян'!E5+'Област София'!E5+'Област София-град'!E5+'Област Стара Загора'!E5+'Област Търговище'!E5+'Област Хасково'!E5+'Област Шумен'!E5+'Област Ямбол'!E5 -> 6792 | F6: ='Област Благоевград'!F5+'Област Бургас'!F5+'Област Варна'!F5+'Област В. Търново'!F5+'Област Видин'!F5+'Област Враца'!F5+'Област Габрово'!F5+'Област Добрич'!F5+'Област Кърджали'!F5+'Област Кюстендил'!F5+'Област Ловеч'!F5+'Област Монтана'!F5+'Област Пазарджик'!F5+'Област Перник'!F5+'Област Плевен'!F5+'Област Пловдив'!F5+'Област Разград'!F5+'Област Русе'!F5+'Област Силистра'!F5+'Област Сливен'!F5+'Област Смолян'!F5+'Област София'!F5+'Област София-град'!F5+'Област Стара Загора'!F5+'Област Търговище'!F5+'Област Хасково'!F5+'Област Шумен'!F5+'Област Ямбол'!F5 -> 10717 | G6: ='Област Благоевград'!G5+'Област Бургас'!G5+'Област Варна'!G5+'Област В. Търново'!G5+'Област Видин'!G5+'Област Враца'!G5+'Област Габрово'!G5+'Област Добрич'!G5+'Област Кърджали'!G5+'Област Кюстендил'!G5+'Област Ловеч'!G5+'Област Монтана'!G5+'Област Пазарджик'!G5+'Област Перник'!G5+'Област Плевен'!G5+'Област Пловдив'!G5+'Област Разград'!G5+'Област Русе'!G5+'Област Силистра'!G5+'Област Сливен'!G5+'Област Смолян'!G5+'Област София'!G5+'Област София-град'!G5+'Област Стара Загора'!G5+'Област Търговище'!G5+'Област Хасково'!G5+'Област Шумен'!G5+'Област Ямбол'!G5 -> -3925 | H6: ='Област Благоевград'!H5+'Област Бургас'!H5+'Област Варна'!H5+'Област В. Търново'!H5+'Област Видин'!H5+'Област Враца'!H5+'Област Габрово'!H5+'Област Добрич'!H5+'Област Кърджали'!H5+'Област Кюстендил'!H5+'Област Ловеч'!H5+'Област Монтана'!H5+'Област Пазарджик'!H5+'Област Перник'!H5+'Област Плевен'!H5+'Област Пловдив'!H5+'Област Разград'!H5+'Област Русе'!H5+'Област Силистра'!H5+'Област Сливен'!H5+'Област Смолян'!H5+'Област София'!H5+'Област София-град'!H5+'Област Стара Загора'!H5+'Област Търговище'!H5+'Област Хасково'!H5+'Област Шумен'!H5+'Област Ямбол'!H5 -> 4532 | I6: ='Област Благоевград'!I5+'Област Бургас'!I5+'Област Варна'!I5+'Област В. Търново'!I5+'Област Видин'!I5+'Област Враца'!I5+'Област Габрово'!I5+'Област Добрич'!I5+'Област Кърджали'!I5+'Област Кюстендил'!I5+'Област Ловеч'!I5+'Област Монтана'!I5+'Област Пазарджик'!I5+'Област Перник'!I5+'Област Плевен'!I5+'Област Пловдив'!I5+'Област Разград'!I5+'Област Русе'!I5+'Област Силистра'!I5+'Област Сливен'!I5+'Област Смолян'!I5+'Област София'!I5+'Област София-град'!I5+'Област Стара Загора'!I5+'Област Търговище'!I5+'Област Хасково'!I5+'Област Шумен'!I5+'Област Ямбол'!I5 -> 11260
A7: 4 | B7: застъпничество и посредничество | C7: 8 | D7: 25 | E7: ='Област Благоевград'!E6+'Област Бургас'!E6+'Област Варна'!E6+'Област В. Търново'!E6+'Област Видин'!E6+'Област Враца'!E6+'Област Габрово'!E6+'Област Добрич'!E6+'Област Кърджали'!E6+'Област Кюстендил'!E6+'Област Ловеч'!E6+'Област Монтана'!E6+'Област Пазарджик'!E6+'Област Перник'!E6+'Област Плевен'!E6+'Област Пловдив'!E6+'Област Разград'!E6+'Област Русе'!E6+'Област Силистра'!E6+'Област Сливен'!E6+'Област Смолян'!E6+'Област София'!E6+'Област София-град'!E6+'Област Стара Загора'!E6+'Област Търговище'!E6+'Област Хасково'!E6+'Област Шумен'!E6+'Област Ямбол'!E6 -> 6140 | F7: ='Област Благоевград'!F6+'Област Бургас'!F6+'Област Варна'!F6+'Област В. Търново'!F6+'Област Видин'!F6+'Област Враца'!F6+'Област Габрово'!F6+'Област Добрич'!F6+'Област Кърджали'!F6+'Област Кюстендил'!F6+'Област Ловеч'!F6+'Област Монтана'!F6+'Област Пазарджик'!F6+'Област Перник'!F6+'Област Плевен'!F6+'Област Пловдив'!F6+'Област Разград'!F6+'Област Русе'!F6+'Област Силистра'!F6+'Област Сливен'!F6+'Област Смолян'!F6+'Област София'!F6+'Област София-град'!F6+'Област Стара Загора'!F6+'Област Търговище'!F6+'Област Хасково'!F6+'Област Шумен'!F6+'Област Ямбол'!F6 -> 7591 | G7: ='Област Благоевград'!G6+'Област Бургас'!G6+'Област Варна'!G6+'Област В. Търново'!G6+'Област Видин'!G6+'Област Враца'!G6+'Област Габрово'!G6+'Област Добрич'!G6+'Област Кърджали'!G6+'Област Кюстендил'!G6+'Област Ловеч'!G6+'Област Монтана'!G6+'Област Пазарджик'!G6+'Област Перник'!G6+'Област Плевен'!G6+'Област Пловдив'!G6+'Област Разград'!G6+'Област Русе'!G6+'Област Силистра'!G6+'Област Сливен'!G6+'Област Смолян'!G6+'Област София'!G6+'Област София-град'!G6+'Област Стара Загора'!G6+'Област Търговище'!G6+'Област Хасково'!G6+'Област Шумен'!G6+'Област Ямбол'!G6 -> -1483 | H7: ='Област Благоевград'!H6+'Област Бургас'!H6+'Област Варна'!H6+'Област В. Търново'!H6+'Област Видин'!H6+'Област Враца'!H6+'Област Габрово'!H6+'Област Добрич'!H6+'Област Кърджали'!H6+'Област Кюстендил'!H6+'Област Ловеч'!H6+'Област Монтана'!H6+'Област Пазарджик'!H6+'Област Перник'!H6+'Област Плевен'!H6+'Област Пловдив'!H6+'Област Разград'!H6+'Област Русе'!H6+'Област Силистра'!H6+'Област Сливен'!H6+'Област Смолян'!H6+'Област София'!H6+'Област София-град'!H6+'Област Стара Загора'!H6+'Област Търговище'!H6+'Област Хасково'!H6+'Област Шумен'!H6+'Област Ямбол'!H6 -> 2345 | I7: ='Област Благоевград'!I6+'Област Бургас'!I6+'Област Варна'!I6+'Област В. Търново'!I6+'Област Видин'!I6+'Област Враца'!I6+'Област Габрово'!I6+'Област Добрич'!I6+'Област Кърджали'!I6+'Област Кюстендил'!I6+'Област Ловеч'!I6+'Област Монтана'!I6+'Област Пазарджик'!I6+'Област Перник'!I6+'Област Плевен'!I6+'Област Пловдив'!I6+'Област Разград'!I6+'Област Русе'!I6+'Област Силистра'!I6+'Област Сливен'!I6+'Област Смолян'!I6+'Област София'!I6+'Област София-град'!I6+'Област Стара Загора'!I6+'Област Търговище'!I6+'Област Хасково'!I6+'Област Шумен'!I6+'Област Ямбол'!I6 -> 8438
A8: 5 | B8: терапия и рехабилитация | C8: 20 | D8: 50 | E8: ='Област Благоевград'!E7+'Област Бургас'!E7+'Област Варна'!E7+'Област В. Търново'!E7+'Област Видин'!E7+'Област Враца'!E7+'Област Габрово'!E7+'Област Добрич'!E7+'Област Кърджали'!E7+'Област Кюстендил'!E7+'Област Ловеч'!E7+'Област Монтана'!E7+'Област Пазарджик'!E7+'Област Перник'!E7+'Област Плевен'!E7+'Област Пловдив'!E7+'Област Разград'!E7+'Област Русе'!E7+'Област Силистра'!E7+'Област Сливен'!E7+'Област Смолян'!E7+'Област София'!E7+'Област София-град'!E7+'Област Стара Загора'!E7+'Област Търговище'!E7+'Област Хасково'!E7+'Област Шумен'!E7+'Област Ямбол'!E7 -> 9170 | F8: ='Област Благоевград'!F7+'Област Бургас'!F7+'Област Варна'!F7+'Област В. Търново'!F7+'Област Видин'!F7+'Област Враца'!F7+'Област Габрово'!F7+'Област Добрич'!F7+'Област Кърджали'!F7+'Област Кюстендил'!F7+'Област Ловеч'!F7+'Област Монтана'!F7+'Област Пазарджик'!F7+'Област Перник'!F7+'Област Плевен'!F7+'Област Пловдив'!F7+'Област Разград'!F7+'Област Русе'!F7+'Област Силистра'!F7+'Област Сливен'!F7+'Област Смолян'!F7+'Област София'!F7+'Област София-град'!F7+'Област Стара Загора'!F7+'Област Търговище'!F7+'Област Хасково'!F7+'Област Шумен'!F7+'Област Ямбол'!F7 -> 13697 | G8: ='Област Благоевград'!G7+'Област Бургас'!G7+'Област Варна'!G7+'Област В. Търново'!G7+'Област Видин'!G7+'Област Враца'!G7+'Област Габрово'!G7+'Област Добрич'!G7+'Област Кърджали'!G7+'Област Кюстендил'!G7+'Област Ловеч'!G7+'Област Монтана'!G7+'Област Пазарджик'!G7+'Област Перник'!G7+'Област Плевен'!G7+'Област Пловдив'!G7+'Област Разград'!G7+'Област Русе'!G7+'Област Силистра'!G7+'Област Сливен'!G7+'Област Смолян'!G7+'Област София'!G7+'Област София-град'!G7+'Област Стара Загора'!G7+'Област Търговище'!G7+'Област Хасково'!G7+'Област Шумен'!G7+'Област Ямбол'!G7 -> -4527 | H8: ='Област Благоевград'!H7+'Област Бургас'!H7+'Област Варна'!H7+'Област В. Търново'!H7+'Област Видин'!H7+'Област Враца'!H7+'Област Габрово'!H7+'Област Добрич'!H7+'Област Кърджали'!H7+'Област Кюстендил'!H7+'Област Ловеч'!H7+'Област Монтана'!H7+'Област Пазарджик'!H7+'Област Перник'!H7+'Област Плевен'!H7+'Област Пловдив'!H7+'Област Разград'!H7+'Област Русе'!H7+'Област Силистра'!H7+'Област Сливен'!H7+'Област Смолян'!H7+'Област София'!H7+'Област София-град'!H7+'Област Стара Загора'!H7+'Област Търговище'!H7+'Област Хасково'!H7+'Област Шумен'!H7+'Област Ямбол'!H7 -> 5702 | I8: ='Област Благоевград'!I7+'Област Бургас'!I7+'Област Варна'!I7+'Област В. Търново'!I7+'Област Видин'!I7+'Област Враца'!I7+'Област Габрово'!I7+'Област Добрич'!I7+'Област Кърджали'!I7+'Област Кюстендил'!I7+'Област Ловеч'!I7+'Област Монтана'!I7+'Област Пазарджик'!I7+'Област Перник'!I7+'Област Плевен'!I7+'Област Пловдив'!I7+'Област Разград'!I7+'Област Русе'!I7+'Област Силистра'!I7+'Област Сливен'!I7+'Област Смолян'!I7+'Област София'!I7+'Област София-град'!I7+'Област Стара Загора'!I7+'Област Търговище'!I7+'Област Хасково'!I7+'Област Шумен'!I7+'Област Ямбол'!I7 -> 14773
A9: 6 | B9: обучение за придобиване на умения | C9: 8 | D9: 35 | E9: ='Област Благоевград'!E8+'Област Бургас'!E8+'Област Варна'!E8+'Област В. Търново'!E8+'Област Видин'!E8+'Област Враца'!E8+'Област Габрово'!E8+'Област Добрич'!E8+'Област Кърджали'!E8+'Област Кюстендил'!E8+'Област Ловеч'!E8+'Област Монтана'!E8+'Област Пазарджик'!E8+'Област Перник'!E8+'Област Плевен'!E8+'Област Пловдив'!E8+'Област Разград'!E8+'Област Русе'!E8+'Област Силистра'!E8+'Област Сливен'!E8+'Област Смолян'!E8+'Област София'!E8+'Област София-град'!E8+'Област Стара Загора'!E8+'Област Търговище'!E8+'Област Хасково'!E8+'Област Шумен'!E8+'Област Ямбол'!E8 -> 8504 | F9: ='Област Благоевград'!F8+'Област Бургас'!F8+'Област Варна'!F8+'Област В. Търново'!F8+'Област Видин'!F8+'Област Враца'!F8+'Област Габрово'!F8+'Област Добрич'!F8+'Област Кърджали'!F8+'Област Кюстендил'!F8+'Област Ловеч'!F8+'Област Монтана'!F8+'Област Пазарджик'!F8+'Област Перник'!F8+'Област Плевен'!F8+'Област Пловдив'!F8+'Област Разград'!F8+'Област Русе'!F8+'Област Силистра'!F8+'Област Сливен'!F8+'Област Смолян'!F8+'Област София'!F8+'Област София-град'!F8+'Област Стара Загора'!F8+'Област Търговище'!F8+'Област Хасково'!F8+'Област Шумен'!F8+'Област Ямбол'!F8 -> 9266 | G9: ='Област Благоевград'!G8+'Област Бургас'!G8+'Област Варна'!G8+'Област В. Търново'!G8+'Област Видин'!G8+'Област Враца'!G8+'Област Габрово'!G8+'Област Добрич'!G8+'Област Кърджали'!G8+'Област Кюстендил'!G8+'Област Ловеч'!G8+'Област Монтана'!G8+'Област Пазарджик'!G8+'Област Перник'!G8+'Област Плевен'!G8+'Област Пловдив'!G8+'Област Разград'!G8+'Област Русе'!G8+'Област Силистра'!G8+'Област Сливен'!G8+'Област Смолян'!G8+'Област София'!G8+'Област София-град'!G8+'Област Стара Загора'!G8+'Област Търговище'!G8+'Област Хасково'!G8+'Област Шумен'!G8+'Област Ямбол'!G8 -> -762 | H9: ='Област Благоевград'!H8+'Област Бургас'!H8+'Област Варна'!H8+'Област В. Търново'!H8+'Област Видин'!H8+'Област Враца'!H8+'Област Габрово'!H8+'Област Добрич'!H8+'Област Кърджали'!H8+'Област Кюстендил'!H8+'Област Ловеч'!H8+'Област Монтана'!H8+'Област Пазарджик'!H8+'Област Перник'!H8+'Област Плевен'!H8+'Област Пловдив'!H8+'Област Разград'!H8+'Област Русе'!H8+'Област Силистра'!H8+'Област Сливен'!H8+'Област Смолян'!H8+'Област София'!H8+'Област София-град'!H8+'Област Стара Загора'!H8+'Област Търговище'!H8+'Област Хасково'!H8+'Област Шумен'!H8+'Област Ямбол'!H8 -> 2646 | I9: ='Област Благоевград'!I8+'Област Бургас'!I8+'Област Варна'!I8+'Област В. Търново'!I8+'Област Видин'!I8+'Област Враца'!I8+'Област Габрово'!I8+'Област Добрич'!I8+'Област Кърджали'!I8+'Област Кюстендил'!I8+'Област Ловеч'!I8+'Област Монтана'!I8+'Област Пазарджик'!I8+'Област Перник'!I8+'Област Плевен'!I8+'Област Пловдив'!I8+'Област Разград'!I8+'Област Русе'!I8+'Област Силистра'!I8+'Област Сливен'!I8+'Област Смолян'!I8+'Област София'!I8+'Област София-град'!I8+'Област Стара Загора'!I8+'Област Търговище'!I8+'Област Хасково'!I8+'Област Шумен'!I8+'Област Ямбол'!I8 -> 11063
A10: 7 | B10: подкрепа за придобиване на трудови умения | C10: 8 | D10: 30 | E10: ='Област Благоевград'!E9+'Област Бургас'!E9+'Област Варна'!E9+'Област В. Търново'!E9+'Област Видин'!E9+'Област Враца'!E9+'Област Габрово'!E9+'Област Добрич'!E9+'Област Кърджали'!E9+'Област Кюстендил'!E9+'Област Ловеч'!E9+'Област Монтана'!E9+'Област Пазарджик'!E9+'Област Перник'!E9+'Област Плевен'!E9+'Област Пловдив'!E9+'Област Разград'!E9+'Област Русе'!E9+'Област Силистра'!E9+'Област Сливен'!E9+'Област Смолян'!E9+'Област София'!E9+'Област София-град'!E9+'Област Стара Загора'!E9+'Област Търговище'!E9+'Област Хасково'!E9+'Област Шумен'!E9+'Област Ямбол'!E9 -> 3185 | F10: ='Област Благоевград'!F9+'Област Бургас'!F9+'Област Варна'!F9+'Област В. Търново'!F9+'Област Видин'!F9+'Област Враца'!F9+'Област Габрово'!F9+'Област Добрич'!F9+'Област Кърджали'!F9+'Област Кюстендил'!F9+'Област Ловеч'!F9+'Област Монтана'!F9+'Област Пазарджик'!F9+'Област Перник'!F9+'Област Плевен'!F9+'Област Пловдив'!F9+'Област Разград'!F9+'Област Русе'!F9+'Област Силистра'!F9+'Област Сливен'!F9+'Област Смолян'!F9+'Област София'!F9+'Област София-град'!F9+'Област Стара Загора'!F9+'Област Търговище'!F9+'Област Хасково'!F9+'Област Шумен'!F9+'Област Ямбол'!F9 -> 4327 | G10: ='Област Благоевград'!G9+'Област Бургас'!G9+'Област Варна'!G9+'Област В. Търново'!G9+'Област Видин'!G9+'Област Враца'!G9+'Област Габрово'!G9+'Област Добрич'!G9+'Област Кърджали'!G9+'Област Кюстендил'!G9+'Област Ловеч'!G9+'Област Монтана'!G9+'Област Пазарджик'!G9+'Област Перник'!G9+'Област Плевен'!G9+'Област Пловдив'!G9+'Област Разград'!G9+'Област Русе'!G9+'Област Силистра'!G9+'Област Сливен'!G9+'Област Смолян'!G9+'Област София'!G9+'Област София-град'!G9+'Област Стара Загора'!G9+'Област Търговище'!G9+'Област Хасково'!G9+'Област Шумен'!G9+'Област Ямбол'!G9 -> -1142 | H10: ='Област Благоевград'!H9+'Област Бургас'!H9+'Област Варна'!H9+'Област В. Търново'!H9+'Област Видин'!H9+'Област Враца'!H9+'Област Габрово'!H9+'Област Добрич'!H9+'Област Кърджали'!H9+'Област Кюстендил'!H9+'Област Ловеч'!H9+'Област Монтана'!H9+'Област Пазарджик'!H9+'Област Перник'!H9+'Област Плевен'!H9+'Област Пловдив'!H9+'Област Разград'!H9+'Област Русе'!H9+'Област Силистра'!H9+'Област Сливен'!H9+'Област Смолян'!H9+'Област София'!H9+'Област София-град'!H9+'Област Стара Загора'!H9+'Област Търговище'!H9+'Област Хасково'!H9+'Област Шумен'!H9+'Област Ямбол'!H9 -> 1798 | I10: ='Област Благоевград'!I9+'Област Бургас'!I9+'Област Варна'!I9+'Област В. Търново'!I9+'Област Видин'!I9+'Област Враца'!I9+'Област Габрово'!I9+'Област Добрич'!I9+'Област Кърджали'!I9+'Област Кюстендил'!I9+'Област Ловеч'!I9+'Област Монтана'!I9+'Област Пазарджик'!I9+'Област Перник'!I9+'Област Плевен'!I9+'Област Пловдив'!I9+'Област Разград'!I9+'Област Русе'!I9+'Област Силистра'!I9+'Област Сливен'!I9+'Област Смолян'!I9+'Област София'!I9+'Област София-град'!I9+'Област Стара Загора'!I9+'Област Търговище'!I9+'Област Хасково'!I9+'Област Шумен'!I9+'Област Ямбол'!I9 -> 4927
A11: 8 | B11: дневна грижа за деца с трайни увреждания | C11: 20 | D11: 30 | E11: ='Област Благоевград'!E10+'Област Бургас'!E10+'Област Варна'!E10+'Област В. Търново'!E10+'Област Видин'!E10+'Област Враца'!E10+'Област Габрово'!E10+'Област Добрич'!E10+'Област Кърджали'!E10+'Област Кюстендил'!E10+'Област Ловеч'!E10+'Област Монтана'!E10+'Област Пазарджик'!E10+'Област Перник'!E10+'Област Плевен'!E10+'Област Пловдив'!E10+'Област Разград'!E10+'Област Русе'!E10+'Област Силистра'!E10+'Област Сливен'!E10+'Област Смолян'!E10+'Област София'!E10+'Област София-град'!E10+'Област Стара Загора'!E10+'Област Търговище'!E10+'Област Хасково'!E10+'Област Шумен'!E10+'Област Ямбол'!E10 -> 3868 | F11: ='Област Благоевград'!F10+'Област Бургас'!F10+'Област Варна'!F10+'Област В. Търново'!F10+'Област Видин'!F10+'Област Враца'!F10+'Област Габрово'!F10+'Област Добрич'!F10+'Област Кърджали'!F10+'Област Кюстендил'!F10+'Област Ловеч'!F10+'Област Монтана'!F10+'Област Пазарджик'!F10+'Област Перник'!F10+'Област Плевен'!F10+'Област Пловдив'!F10+'Област Разград'!F10+'Област Русе'!F10+'Област Силистра'!F10+'Област Сливен'!F10+'Област Смолян'!F10+'Област София'!F10+'Област София-град'!F10+'Област Стара Загора'!F10+'Област Търговище'!F10+'Област Хасково'!F10+'Област Шумен'!F10+'Област Ямбол'!F10 -> 4744 | G11: ='Област Благоевград'!G10+'Област Бургас'!G10+'Област Варна'!G10+'Област В. Търново'!G10+'Област Видин'!G10+'Област Враца'!G10+'Област Габрово'!G10+'Област Добрич'!G10+'Област Кърджали'!G10+'Област Кюстендил'!G10+'Област Ловеч'!G10+'Област Монтана'!G10+'Област Пазарджик'!G10+'Област Перник'!G10+'Област Плевен'!G10+'Област Пловдив'!G10+'Област Разград'!G10+'Област Русе'!G10+'Област Силистра'!G10+'Област Сливен'!G10+'Област Смолян'!G10+'Област София'!G10+'Област София-град'!G10+'Област Стара Загора'!G10+'Област Търговище'!G10+'Област Хасково'!G10+'Област Шумен'!G10+'Област Ямбол'!G10 -> -882 | H11: ='Област Благоевград'!H10+'Област Бургас'!H10+'Област Варна'!H10+'Област В. Търново'!H10+'Област Видин'!H10+'Област Враца'!H10+'Област Габрово'!H10+'Област Добрич'!H10+'Област Кърджали'!H10+'Област Кюстендил'!H10+'Област Ловеч'!H10+'Област Монтана'!H10+'Област Пазарджик'!H10+'Област Перник'!H10+'Област Плевен'!H10+'Област Пловдив'!H10+'Област Разград'!H10+'Област Русе'!H10+'Област Силистра'!H10+'Област Сливен'!H10+'Област Смолян'!H10+'Област София'!H10+'Област София-град'!H10+'Област Стара Загора'!H10+'Област Търговище'!H10+'Област Хасково'!H10+'Област Шумен'!H10+'Област Ямбол'!H10 -> 2058 | I11: ='Област Благоевград'!I10+'Област Бургас'!I10+'Област Варна'!I10+'Област В. Търново'!I10+'Област Видин'!I10+'Област Враца'!I10+'Област Габрово'!I10+'Област Добрич'!I10+'Област Кърджали'!I10+'Област Кюстендил'!I10+'Област Ловеч'!I10+'Област Монтана'!I10+'Област Пазарджик'!I10+'Област Перник'!I10+'Област Плевен'!I10+'Област Пловдив'!I10+'Област Разград'!I10+'Област Русе'!I10+'Област Силистра'!I10+'Област Сливен'!I10+'Област Смолян'!I10+'Област София'!I10+'Област София-град'!I10+'Област Стара Загора'!I10+'Област Търговище'!I10+'Област Хасково'!I10+'Област Шумен'!I10+'Област Ямбол'!I10 -> 5874
A12: 9 | B12: дневна грижа за пълнолетни лица с трайни увреждания | C12: 20 | D12: 30 | E12: ='Област Благоевград'!E11+'Област Бургас'!E11+'Област Варна'!E11+'Област В. Търново'!E11+'Област Видин'!E11+'Област Враца'!E11+'Област Габрово'!E11+'Област Добрич'!E11+'Област Кърджали'!E11+'Област Кюстендил'!E11+'Област Ловеч'!E11+'Област Монтана'!E11+'Област Пазарджик'!E11+'Област Перник'!E11+'Област Плевен'!E11+'Област Пловдив'!E11+'Област Разград'!E11+'Област Русе'!E11+'Област Силистра'!E11+'Област Сливен'!E11+'Област Смолян'!E11+'Област София'!E11+'Област София-град'!E11+'Област Стара Загора'!E11+'Област Търговище'!E11+'Област Хасково'!E11+'Област Шумен'!E11+'Област Ямбол'!E11 -> 2949 | F12: ='Област Благоевград'!F11+'Област Бургас'!F11+'Област Варна'!F11+'Област В. Търново'!F11+'Област Видин'!F11+'Област Враца'!F11+'Област Габрово'!F11+'Област Добрич'!F11+'Област Кърджали'!F11+'Област Кюстендил'!F11+'Област Ловеч'!F11+'Област Монтана'!F11+'Област Пазарджик'!F11+'Област Перник'!F11+'Област Плевен'!F11+'Област Пловдив'!F11+'Област Разград'!F11+'Област Русе'!F11+'Област Силистра'!F11+'Област Сливен'!F11+'Област Смолян'!F11+'Област София'!F11+'Област София-град'!F11+'Област Стара Загора'!F11+'Област Търговище'!F11+'Област Хасково'!F11+'Област Шумен'!F11+'Област Ямбол'!F11 -> 15149 | G12: ='Област Благоевград'!G11+'Област Бургас'!G11+'Област Варна'!G11+'Област В. Търново'!G11+'Област Видин'!G11+'Област Враца'!G11+'Област Габрово'!G11+'Област Добрич'!G11+'Област Кърджали'!G11+'Област Кюстендил'!G11+'Област Ловеч'!G11+'Област Монтана'!G11+'Област Пазарджик'!G11+'Област Перник'!G11+'Област Плевен'!G11+'Област Пловдив'!G11+'Област Разград'!G11+'Област Русе'!G11+'Област Силистра'!G11+'Област Сливен'!G11+'Област Смолян'!G11+'Област София'!G11+'Област София-град'!G11+'Област Стара Загора'!G11+'Област Търговище'!G11+'Област Хасково'!G11+'Област Шумен'!G11+'Област Ямбол'!G11 -> -12200 | H12: ='Област Благоевград'!H11+'Област Бургас'!H11+'Област Варна'!H11+'Област В. Търново'!H11+'Област Видин'!H11+'Област Враца'!H11+'Област Габрово'!H11+'Област Добрич'!H11+'Област Кърджали'!H11+'Област Кюстендил'!H11+'Област Ловеч'!H11+'Област Монтана'!H11+'Област Пазарджик'!H11+'Област Перник'!H11+'Област Плевен'!H11+'Област Пловдив'!H11+'Област Разград'!H11+'Област Русе'!H11+'Област Силистра'!H11+'Област Сливен'!H11+'Област Смолян'!H11+'Област София'!H11+'Област София-град'!H11+'Област Стара Загора'!H11+'Област Търговище'!H11+'Област Хасково'!H11+'Област Шумен'!H11+'Област Ямбол'!H11 -> 12458 | I12: ='Област Благоевград'!I11+'Област Бургас'!I11+'Област Варна'!I11+'Област В. Търново'!I11+'Област Видин'!I11+'Област Враца'!I11+'Област Габрово'!I11+'Област Добрич'!I11+'Област Кърджали'!I11+'Област Кюстендил'!I11+'Област Ловеч'!I11+'Област Монтана'!I11+'Област Пазарджик'!I11+'Област Перник'!I11+'Област Плевен'!I11+'Област Пловдив'!I11+'Област Разград'!I11+'Област Русе'!I11+'Област Силистра'!I11+'Област Сливен'!I11+'Област Смолян'!I11+'Област София'!I11+'Област София-град'!I11+'Област Стара Загора'!I11+'Област Търговище'!I11+'Област Хасково'!I11+'Област Шумен'!I11+'Област Ямбол'!I11 -> 15372
A13: 10 | B13: осигуряване на подслон за бездомни лица | C13: 10 | D13: 50 | E13: ='Област Благоевград'!E12+'Област Бургас'!E12+'Област Варна'!E12+'Област В. Търново'!E12+'Област Видин'!E12+'Област Враца'!E12+'Област Габрово'!E12+'Област Добрич'!E12+'Област Кърджали'!E12+'Област Кюстендил'!E12+'Област Ловеч'!E12+'Област Монтана'!E12+'Област Пазарджик'!E12+'Област Перник'!E12+'Област Плевен'!E12+'Област Пловдив'!E12+'Област Разград'!E12+'Област Русе'!E12+'Област Силистра'!E12+'Област Сливен'!E12+'Област Смолян'!E12+'Област София'!E12+'Област София-град'!E12+'Област Стара Загора'!E12+'Област Търговище'!E12+'Област Хасково'!E12+'Област Шумен'!E12+'Област Ямбол'!E12 -> 865 | F13: ='Област Благоевград'!F12+'Област Бургас'!F12+'Област Варна'!F12+'Област В. Търново'!F12+'Област Видин'!F12+'Област Враца'!F12+'Област Габрово'!F12+'Област Добрич'!F12+'Област Кърджали'!F12+'Област Кюстендил'!F12+'Област Ловеч'!F12+'Област Монтана'!F12+'Област Пазарджик'!F12+'Област Перник'!F12+'Област Плевен'!F12+'Област Пловдив'!F12+'Област Разград'!F12+'Област Русе'!F12+'Област Силистра'!F12+'Област Сливен'!F12+'Област Смолян'!F12+'Област София'!F12+'Област София-град'!F12+'Област Стара Загора'!F12+'Област Търговище'!F12+'Област Хасково'!F12+'Област Шумен'!F12+'Област Ямбол'!F12 -> 503 | G13: ='Област Благоевград'!G12+'Област Бургас'!G12+'Област Варна'!G12+'Област В. Търново'!G12+'Област Видин'!G12+'Област Враца'!G12+'Област Габрово'!G12+'Област Добрич'!G12+'Област Кърджали'!G12+'Област Кюстендил'!G12+'Област Ловеч'!G12+'Област Монтана'!G12+'Област Пазарджик'!G12+'Област Перник'!G12+'Област Плевен'!G12+'Област Пловдив'!G12+'Област Разград'!G12+'Област Русе'!G12+'Област Силистра'!G12+'Област Сливен'!G12+'Област Смолян'!G12+'Област София'!G12+'Област София-град'!G12+'Област Стара Загора'!G12+'Област Търговище'!G12+'Област Хасково'!G12+'Област Шумен'!G12+'Област Ямбол'!G12 -> 362 | H13: ='Област Благоевград'!H12+'Област Бургас'!H12+'Област Варна'!H12+'Област В. Търново'!H12+'Област Видин'!H12+'Област Враца'!H12+'Област Габрово'!H12+'Област Добрич'!H12+'Област Кърджали'!H12+'Област Кюстендил'!H12+'Област Ловеч'!H12+'Област Монтана'!H12+'Област Пазарджик'!H12+'Област Перник'!H12+'Област Плевен'!H12+'Област Пловдив'!H12+'Област Разград'!H12+'Област Русе'!H12+'Област Силистра'!H12+'Област Сливен'!H12+'Област Смолян'!H12+'Област София'!H12+'Област София-град'!H12+'Област Стара Загора'!H12+'Област Търговище'!H12+'Област Хасково'!H12+'Област Шумен'!H12+'Област Ямбол'!H12 -> 300 | I13: ='Област Благоевград'!I12+'Област Бургас'!I12+'Област Варна'!I12+'Област В. Търново'!I12+'Област Видин'!I12+'Област Враца'!I12+'Област Габрово'!I12+'Област Добрич'!I12+'Област Кърджали'!I12+'Област Кюстендил'!I12+'Област Ловеч'!I12+'Област Монтана'!I12+'Област Пазарджик'!I12+'Област Перник'!I12+'Област Плевен'!I12+'Област Пловдив'!I12+'Област Разград'!I12+'Област Русе'!I12+'Област Силистра'!I12+'Област Сливен'!I12+'Област Смолян'!I12+'Област София'!I12+'Област София-град'!I12+'Област Стара Загора'!I12+'Област Търговище'!I12+'Област Хасково'!I12+'Област Шумен'!I12+'Област Ямбол'!I12 -> 1163
A14: 11 | B14: асистентска подкрепа | C14: - | D14: - | E14: ='Област Благоевград'!E13+'Област Бургас'!E13+'Област Варна'!E13+'Област В. Търново'!E13+'Област Видин'!E13+'Област Враца'!E13+'Област Габрово'!E13+'Област Добрич'!E13+'Област Кърджали'!E13+'Област Кюстендил'!E13+'Област Ловеч'!E13+'Област Монтана'!E13+'Област Пазарджик'!E13+'Област Перник'!E13+'Област Плевен'!E13+'Област Пловдив'!E13+'Област Разград'!E13+'Област Русе'!E13+'Област Силистра'!E13+'Област Сливен'!E13+'Област Смолян'!E13+'Област София'!E13+'Област София-град'!E13+'Област Стара Загора'!E13+'Област Търговище'!E13+'Област Хасково'!E13+'Област Шумен'!E13+'Област Ямбол'!E13 -> 21370 | F14: ='Област Благоевград'!F13+'Област Бургас'!F13+'Област Варна'!F13+'Област В. Търново'!F13+'Област Видин'!F13+'Област Враца'!F13+'Област Габрово'!F13+'Област Добрич'!F13+'Област Кърджали'!F13+'Област Кюстендил'!F13+'Област Ловеч'!F13+'Област Монтана'!F13+'Област Пазарджик'!F13+'Област Перник'!F13+'Област Плевен'!F13+'Област Пловдив'!F13+'Област Разград'!F13+'Област Русе'!F13+'Област Силистра'!F13+'Област Сливен'!F13+'Област Смолян'!F13+'Област София'!F13+'Област София-град'!F13+'Област Стара Загора'!F13+'Област Търговище'!F13+'Област Хасково'!F13+'Област Шумен'!F13+'Област Ямбол'!F13 -> 0 | G14: ='Област Благоевград'!G13+'Област Бургас'!G13+'Област Варна'!G13+'Област В. Търново'!G13+'Област Видин'!G13+'Област Враца'!G13+'Област Габрово'!G13+'Област Добрич'!G13+'Област Кърджали'!G13+'Област Кюстендил'!G13+'Област Ловеч'!G13+'Област Монтана'!G13+'Област Пазарджик'!G13+'Област Перник'!G13+'Област Плевен'!G13+'Област Пловдив'!G13+'Област Разград'!G13+'Област Русе'!G13+'Област Силистра'!G13+'Област Сливен'!G13+'Област Смолян'!G13+'Област София'!G13+'Област София-град'!G13+'Област Стара Загора'!G13+'Област Търговище'!G13+'Област Хасково'!G13+'Област Шумен'!G13+'Област Ямбол'!G13 -> 21370 | H14: ='Област Благоевград'!H13+'Област Бургас'!H13+'Област Варна'!H13+'Област В. Търново'!H13+'Област Видин'!H13+'Област Враца'!H13+'Област Габрово'!H13+'Област Добрич'!H13+'Област Кърджали'!H13+'Област Кюстендил'!H13+'Област Ловеч'!H13+'Област Монтана'!H13+'Област Пазарджик'!H13+'Област Перник'!H13+'Област Плевен'!H13+'Област Пловдив'!H13+'Област Разград'!H13+'Област Русе'!H13+'Област Силистра'!H13+'Област Сливен'!H13+'Област Смолян'!H13+'Област София'!H13+'Област София-град'!H13+'Област Стара Загора'!H13+'Област Търговище'!H13+'Област Хасково'!H13+'Област Шумен'!H13+'Област Ямбол'!H13 -> 2141 | I14: ='Област Благоевград'!I13+'Област Бургас'!I13+'Област Варна'!I13+'Област В. Търново'!I13+'Област Видин'!I13+'Област Враца'!I13+'Област Габрово'!I13+'Област Добрич'!I13+'Област Кърджали'!I13+'Област Кюстендил'!I13+'Област Ловеч'!I13+'Област Монтана'!I13+'Област Пазарджик'!I13+'Област Перник'!I13+'Област Плевен'!I13+'Област Пловдив'!I13+'Област Разград'!I13+'Област Русе'!I13+'Област Силистра'!I13+'Област Сливен'!I13+'Област Смолян'!I13+'Област София'!I13+'Област София-град'!I13+'Област Стара Загора'!I13+'Област Търговище'!I13+'Област Хасково'!I13+'Област Шумен'!I13+'Област Ямбол'!I13 -> 23577
A15: 12 | B15: резидентна грижа за деца без увреждания | C15: 8 | D15: 12 | E15: ='Област Благоевград'!E14+'Област Бургас'!E14+'Област Варна'!E14+'Област В. Търново'!E14+'Област Видин'!E14+'Област Враца'!E14+'Област Габрово'!E14+'Област Добрич'!E14+'Област Кърджали'!E14+'Област Кюстендил'!E14+'Област Ловеч'!E14+'Област Монтана'!E14+'Област Пазарджик'!E14+'Област Перник'!E14+'Област Плевен'!E14+'Област Пловдив'!E14+'Област Разград'!E14+'Област Русе'!E14+'Област Силистра'!E14+'Област Сливен'!E14+'Област Смолян'!E14+'Област София'!E14+'Област София-град'!E14+'Област Стара Загора'!E14+'Област Търговище'!E14+'Област Хасково'!E14+'Област Шумен'!E14+'Област Ямбол'!E14 -> 1943 | F15: ='Област Благоевград'!F14+'Област Бургас'!F14+'Област Варна'!F14+'Област В. Търново'!F14+'Област Видин'!F14+'Област Враца'!F14+'Област Габрово'!F14+'Област Добрич'!F14+'Област Кърджали'!F14+'Област Кюстендил'!F14+'Област Ловеч'!F14+'Област Монтана'!F14+'Област Пазарджик'!F14+'Област Перник'!F14+'Област Плевен'!F14+'Област Пловдив'!F14+'Област Разград'!F14+'Област Русе'!F14+'Област Силистра'!F14+'Област Сливен'!F14+'Област Смолян'!F14+'Област София'!F14+'Област София-град'!F14+'Област Стара Загора'!F14+'Област Търговище'!F14+'Област Хасково'!F14+'Област Шумен'!F14+'Област Ямбол'!F14 -> 1272 | G15: ='Област Благоевград'!G14+'Област Бургас'!G14+'Област Варна'!G14+'Област В. Търново'!G14+'Област Видин'!G14+'Област Враца'!G14+'Област Габрово'!G14+'Област Добрич'!G14+'Област Кърджали'!G14+'Област Кюстендил'!G14+'Област Ловеч'!G14+'Област Монтана'!G14+'Област Пазарджик'!G14+'Област Перник'!G14+'Област Плевен'!G14+'Област Пловдив'!G14+'Област Разград'!G14+'Област Русе'!G14+'Област Силистра'!G14+'Област Сливен'!G14+'Област Смолян'!G14+'Област София'!G14+'Област София-град'!G14+'Област Стара Загора'!G14+'Област Търговище'!G14+'Област Хасково'!G14+'Област Шумен'!G14+'Област Ямбол'!G14 -> 671 | H15: ='Област Благоевград'!H14+'Област Бургас'!H14+'Област Варна'!H14+'Област В. Търново'!H14+'Област Видин'!H14+'Област Враца'!H14+'Област Габрово'!H14+'Област Добрич'!H14+'Област Кърджали'!H14+'Област Кюстендил'!H14+'Област Ловеч'!H14+'Област Монтана'!H14+'Област Пазарджик'!H14+'Област Перник'!H14+'Област Плевен'!H14+'Област Пловдив'!H14+'Област Разград'!H14+'Област Русе'!H14+'Област Силистра'!H14+'Област Сливен'!H14+'Област Смолян'!H14+'Област София'!H14+'Област София-град'!H14+'Област Стара Загора'!H14+'Област Търговище'!H14+'Област Хасково'!H14+'Област Шумен'!H14+'Област Ямбол'!H14 -> 143 | I15: ='Област Благоевград'!I14+'Област Бургас'!I14+'Област Варна'!I14+'Област В. Търново'!I14+'Област Видин'!I14+'Област Враца'!I14+'Област Габрово'!I14+'Област Добрич'!I14+'Област Кърджали'!I14+'Област Кюстендил'!I14+'Област Ловеч'!I14+'Област Монтана'!I14+'Област Пазарджик'!I14+'Област Перник'!I14+'Област Плевен'!I14+'Област Пловдив'!I14+'Област Разград'!I14+'Област Русе'!I14+'Област Силистра'!I14+'Област Сливен'!I14+'Област Смолян'!I14+'Област София'!I14+'Област София-град'!I14+'Област Стара Загора'!I14+'Област Търговище'!I14+'Област Хасково'!I14+'Област Шумен'!I14+'Област Ямбол'!I14 -> 2082
A16: 13 | B16: резидентна грижа за младежи до 25 г. * | C16: 4 | D16: 6 | E16: ='Област Благоевград'!E15+'Област Бургас'!E15+'Област Варна'!E15+'Област В. Търново'!E15+'Област Видин'!E15+'Област Враца'!E15+'Област Габрово'!E15+'Област Добрич'!E15+'Област Кърджали'!E15+'Област Кюстендил'!E15+'Област Ловеч'!E15+'Област Монтана'!E15+'Област Пазарджик'!E15+'Област Перник'!E15+'Област Плевен'!E15+'Област Пловдив'!E15+'Област Разград'!E15+'Област Русе'!E15+'Област Силистра'!E15+'Област Сливен'!E15+'Област Смолян'!E15+'Област София'!E15+'Област София-град'!E15+'Област Стара Загора'!E15+'Област Търговище'!E15+'Област Хасково'!E15+'Област Шумен'!E15+'Област Ямбол'!E15 -> 116 | F16: ='Област Благоевград'!F15+'Област Бургас'!F15+'Област Варна'!F15+'Област В. Търново'!F15+'Област Видин'!F15+'Област Враца'!F15+'Област Габрово'!F15+'Област Добрич'!F15+'Област Кърджали'!F15+'Област Кюстендил'!F15+'Област Ловеч'!F15+'Област Монтана'!F15+'Област Пазарджик'!F15+'Област Перник'!F15+'Област Плевен'!F15+'Област Пловдив'!F15+'Област Разград'!F15+'Област Русе'!F15+'Област Силистра'!F15+'Област Сливен'!F15+'Област Смолян'!F15+'Област София'!F15+'Област София-град'!F15+'Област Стара Загора'!F15+'Област Търговище'!F15+'Област Хасково'!F15+'Област Шумен'!F15+'Област Ямбол'!F15 -> 0 | G16: ='Област Благоевград'!G15+'Област Бургас'!G15+'Област Варна'!G15+'Област В. Търново'!G15+'Област Видин'!G15+'Област Враца'!G15+'Област Габрово'!G15+'Област Добрич'!G15+'Област Кърджали'!G15+'Област Кюстендил'!G15+'Област Ловеч'!G15+'Област Монтана'!G15+'Област Пазарджик'!G15+'Област Перник'!G15+'Област Плевен'!G15+'Област Пловдив'!G15+'Област Разград'!G15+'Област Русе'!G15+'Област Силистра'!G15+'Област Сливен'!G15+'Област Смолян'!G15+'Област София'!G15+'Област София-град'!G15+'Област Стара Загора'!G15+'Област Търговище'!G15+'Област Хасково'!G15+'Област Шумен'!G15+'Област Ямбол'!G15 -> 116 | H16: ='Област Благоевград'!H15+'Област Бургас'!H15+'Област Варна'!H15+'Област В. Търново'!H15+'Област Видин'!H15+'Област Враца'!H15+'Област Габрово'!H15+'Област Добрич'!H15+'Област Кърджали'!H15+'Област Кюстендил'!H15+'Област Ловеч'!H15+'Област Монтана'!H15+'Област Пазарджик'!H15+'Област Перник'!H15+'Област Плевен'!H15+'Област Пловдив'!H15+'Област Разград'!H15+'Област Русе'!H15+'Област Силистра'!H15+'Област Сливен'!H15+'Област Смолян'!H15+'Област София'!H15+'Област София-град'!H15+'Област Стара Загора'!H15+'Област Търговище'!H15+'Област Хасково'!H15+'Област Шумен'!H15+'Област Ямбол'!H15 -> 0 | I16: ='Област Благоевград'!I15+'Област Бургас'!I15+'Област Варна'!I15+'Област В. Търново'!I15+'Област Видин'!I15+'Област Враца'!I15+'Област Габрово'!I15+'Област Добрич'!I15+'Област Кърджали'!I15+'Област Кюстендил'!I15+'Област Ловеч'!I15+'Област Монтана'!I15+'Област Пазарджик'!I15+'Област Перник'!I15+'Област Плевен'!I15+'Област Пловдив'!I15+'Област Разград'!I15+'Област Русе'!I15+'Област Силистра'!I15+'Област Сливен'!I15+'Област Смолян'!I15+'Област София'!I15+'Област София-град'!I15+'Област Стара Загора'!I15+'Област Търговище'!I15+'Област Хасково'!I15+'Област Шумен'!I15+'Област Ямбол'!I15 -> 116
A17: 14 | B17: резидентна грижа за деца с трайни увреждания | C17: 8 | D17: 12 | E17: ='Област Благоевград'!E16+'Област Бургас'!E16+'Област Варна'!E16+'Област В. Търново'!E16+'Област Видин'!E16+'Област Враца'!E16+'Област Габрово'!E16+'Област Добрич'!E16+'Област Кърджали'!E16+'Област Кюстендил'!E16+'Област Ловеч'!E16+'Област Монтана'!E16+'Област Пазарджик'!E16+'Област Перник'!E16+'Област Плевен'!E16+'Област Пловдив'!E16+'Област Разград'!E16+'Област Русе'!E16+'Област Силистра'!E16+'Област Сливен'!E16+'Област Смолян'!E16+'Област София'!E16+'Област София-град'!E16+'Област Стара Загора'!E16+'Област Търговище'!E16+'Област Хасково'!E16+'Област Шумен'!E16+'Област Ямбол'!E16 -> 1531 | F17: ='Област Благоевград'!F16+'Област Бургас'!F16+'Област Варна'!F16+'Област В. Търново'!F16+'Област Видин'!F16+'Област Враца'!F16+'Област Габрово'!F16+'Област Добрич'!F16+'Област Кърджали'!F16+'Област Кюстендил'!F16+'Област Ловеч'!F16+'Област Монтана'!F16+'Област Пазарджик'!F16+'Област Перник'!F16+'Област Плевен'!F16+'Област Пловдив'!F16+'Област Разград'!F16+'Област Русе'!F16+'Област Силистра'!F16+'Област Сливен'!F16+'Област Смолян'!F16+'Област София'!F16+'Област София-град'!F16+'Област Стара Загора'!F16+'Област Търговище'!F16+'Област Хасково'!F16+'Област Шумен'!F16+'Област Ямбол'!F16 -> 1363 | G17: ='Област Благоевград'!G16+'Област Бургас'!G16+'Област Варна'!G16+'Област В. Търново'!G16+'Област Видин'!G16+'Област Враца'!G16+'Област Габрово'!G16+'Област Добрич'!G16+'Област Кърджали'!G16+'Област Кюстендил'!G16+'Област Ловеч'!G16+'Област Монтана'!G16+'Област Пазарджик'!G16+'Област Перник'!G16+'Област Плевен'!G16+'Област Пловдив'!G16+'Област Разград'!G16+'Област Русе'!G16+'Област Силистра'!G16+'Област Сливен'!G16+'Област Смолян'!G16+'Област София'!G16+'Област София-град'!G16+'Област Стара Загора'!G16+'Област Търговище'!G16+'Област Хасково'!G16+'Област Шумен'!G16+'Област Ямбол'!G16 -> 118 | H17: ='Област Благоевград'!H16+'Област Бургас'!H16+'Област Варна'!H16+'Област В. Търново'!H16+'Област Видин'!H16+'Област Враца'!H16+'Област Габрово'!H16+'Област Добрич'!H16+'Област Кърджали'!H16+'Област Кюстендил'!H16+'Област Ловеч'!H16+'Област Монтана'!H16+'Област Пазарджик'!H16+'Област Перник'!H16+'Област Плевен'!H16+'Област Пловдив'!H16+'Област Разград'!H16+'Област Русе'!H16+'Област Силистра'!H16+'Област Сливен'!H16+'Област Смолян'!H16+'Област София'!H16+'Област София-град'!H16+'Област Стара Загора'!H16+'Област Търговище'!H16+'Област Хасково'!H16+'Област Шумен'!H16+'Област Ямбол'!H16 -> 206 | I17: ='Област Благоевград'!I16+'Област Бургас'!I16+'Област Варна'!I16+'Област В. Търново'!I16+'Област Видин'!I16+'Област Враца'!I16+'Област Габрово'!I16+'Област Добрич'!I16+'Област Кърджали'!I16+'Област Кюстендил'!I16+'Област Ловеч'!I16+'Област Монтана'!I16+'Област Пазарджик'!I16+'Област Перник'!I16+'Област Плевен'!I16+'Област Пловдив'!I16+'Област Разград'!I16+'Област Русе'!I16+'Област Силистра'!I16+'Област Сливен'!I16+'Област Смолян'!I16+'Област София'!I16+'Област София-град'!I16+'Област Стара Загора'!I16+'Област Търговище'!I16+'Област Хасково'!I16+'Област Шумен'!I16+'Област Ямбол'!I16 -> 1723
A18: 15 | B18: резидентна грижа за пълнолетни лица с психични разстройства | C18: 8 | D18: 20 | E18: ='Област Благоевград'!E17+'Област Бургас'!E17+'Област Варна'!E17+'Област В. Търново'!E17+'Област Видин'!E17+'Област Враца'!E17+'Област Габрово'!E17+'Област Добрич'!E17+'Област Кърджали'!E17+'Област Кюстендил'!E17+'Област Ловеч'!E17+'Област Монтана'!E17+'Област Пазарджик'!E17+'Област Перник'!E17+'Област Плевен'!E17+'Област Пловдив'!E17+'Област Разград'!E17+'Област Русе'!E17+'Област Силистра'!E17+'Област Сливен'!E17+'Област Смолян'!E17+'Област София'!E17+'Област София-град'!E17+'Област Стара Загора'!E17+'Област Търговище'!E17+'Област Хасково'!E17+'Област Шумен'!E17+'Област Ямбол'!E17 -> 1908 | F18: ='Област Благоевград'!F17+'Област Бургас'!F17+'Област Варна'!F17+'Област В. Търново'!F17+'Област Видин'!F17+'Област Враца'!F17+'Област Габрово'!F17+'Област Добрич'!F17+'Област Кърджали'!F17+'Област Кюстендил'!F17+'Област Ловеч'!F17+'Област Монтана'!F17+'Област Пазарджик'!F17+'Област Перник'!F17+'Област Плевен'!F17+'Област Пловдив'!F17+'Област Разград'!F17+'Област Русе'!F17+'Област Силистра'!F17+'Област Сливен'!F17+'Област Смолян'!F17+'Област София'!F17+'Област София-град'!F17+'Област Стара Загора'!F17+'Област Търговище'!F17+'Област Хасково'!F17+'Област Шумен'!F17+'Област Ямбол'!F17 -> 8033 | G18: ='Област Благоевград'!G17+'Област Бургас'!G17+'Област Варна'!G17+'Област В. Търново'!G17+'Област Видин'!G17+'Област Враца'!G17+'Област Габрово'!G17+'Област Добрич'!G17+'Област Кърджали'!G17+'Област Кюстендил'!G17+'Област Ловеч'!G17+'Област Монтана'!G17+'Област Пазарджик'!G17+'Област Перник'!G17+'Област Плевен'!G17+'Област Пловдив'!G17+'Област Разград'!G17+'Област Русе'!G17+'Област Силистра'!G17+'Област Сливен'!G17+'Област Смолян'!G17+'Област София'!G17+'Област София-град'!G17+'Област Стара Загора'!G17+'Област Търговище'!G17+'Област Хасково'!G17+'Област Шумен'!G17+'Област Ямбол'!G17 -> -6105 | H18: ='Област Благоевград'!H17+'Област Бургас'!H17+'Област Варна'!H17+'Област В. Търново'!H17+'Област Видин'!H17+'Област Враца'!H17+'Област Габрово'!H17+'Област Добрич'!H17+'Област Кърджали'!H17+'Област Кюстендил'!H17+'Област Ловеч'!H17+'Област Монтана'!H17+'Област Пазарджик'!H17+'Област Перник'!H17+'Област Плевен'!H17+'Област Пловдив'!H17+'Област Разград'!H17+'Област Русе'!H17+'Област Силистра'!H17+'Област Сливен'!H17+'Област Смолян'!H17+'Област София'!H17+'Област София-град'!H17+'Област Стара Загора'!H17+'Област Търговище'!H17+'Област Хасково'!H17+'Област Шумен'!H17+'Област Ямбол'!H17 -> 6182 | I18: ='Област Благоевград'!I17+'Област Бургас'!I17+'Област Варна'!I17+'Област В. Търново'!I17+'Област Видин'!I17+'Област Враца'!I17+'Област Габрово'!I17+'Област Добрич'!I17+'Област Кърджали'!I17+'Област Кюстендил'!I17+'Област Ловеч'!I17+'Област Монтана'!I17+'Област Пазарджик'!I17+'Област Перник'!I17+'Област Плевен'!I17+'Област Пловдив'!I17+'Област Разград'!I17+'Област Русе'!I17+'Област Силистра'!I17+'Област Сливен'!I17+'Област Смолян'!I17+'Област София'!I17+'Област София-град'!I17+'Област Стара Загора'!I17+'Област Търговище'!I17+'Област Хасково'!I17+'Област Шумен'!I17+'Област Ямбол'!I17 -> 7923
A19: 16 | B19: резидентна грижа за пълнолетни лица с интелектуални затруднения | C19: 8 | D19: 30 | E19: ='Област Благоевград'!E18+'Област Бургас'!E18+'Област Варна'!E18+'Област В. Търново'!E18+'Област Видин'!E18+'Област Враца'!E18+'Област Габрово'!E18+'Област Добрич'!E18+'Област Кърджали'!E18+'Област Кюстендил'!E18+'Област Ловеч'!E18+'Област Монтана'!E18+'Област Пазарджик'!E18+'Област Перник'!E18+'Област Плевен'!E18+'Област Пловдив'!E18+'Област Разград'!E18+'Област Русе'!E18+'Област Силистра'!E18+'Област Сливен'!E18+'Област Смолян'!E18+'Област София'!E18+'Област София-град'!E18+'Област Стара Загора'!E18+'Област Търговище'!E18+'Област Хасково'!E18+'Област Шумен'!E18+'Област Ямбол'!E18 -> 3095 | F19: ='Област Благоевград'!F18+'Област Бургас'!F18+'Област Варна'!F18+'Област В. Търново'!F18+'Област Видин'!F18+'Област Враца'!F18+'Област Габрово'!F18+'Област Добрич'!F18+'Област Кърджали'!F18+'Област Кюстендил'!F18+'Област Ловеч'!F18+'Област Монтана'!F18+'Област Пазарджик'!F18+'Област Перник'!F18+'Област Плевен'!F18+'Област Пловдив'!F18+'Област Разград'!F18+'Област Русе'!F18+'Област Силистра'!F18+'Област Сливен'!F18+'Област Смолян'!F18+'Област София'!F18+'Област София-град'!F18+'Област Стара Загора'!F18+'Област Търговище'!F18+'Област Хасково'!F18+'Област Шумен'!F18+'Област Ямбол'!F18 -> 5399 | G19: ='Област Благоевград'!G18+'Област Бургас'!G18+'Област Варна'!G18+'Област В. Търново'!G18+'Област Видин'!G18+'Област Враца'!G18+'Област Габрово'!G18+'Област Добрич'!G18+'Област Кърджали'!G18+'Област Кюстендил'!G18+'Област Ловеч'!G18+'Област Монтана'!G18+'Област Пазарджик'!G18+'Област Перник'!G18+'Област Плевен'!G18+'Област Пловдив'!G18+'Област Разград'!G18+'Област Русе'!G18+'Област Силистра'!G18+'Област Сливен'!G18+'Област Смолян'!G18+'Област София'!G18+'Област София-град'!G18+'Област Стара Загора'!G18+'Област Търговище'!G18+'Област Хасково'!G18+'Област Шумен'!G18+'Област Ямбол'!G18 -> -2295 | H19: ='Област Благоевград'!H18+'Област Бургас'!H18+'Област Варна'!H18+'Област В. Търново'!H18+'Област Видин'!H18+'Област Враца'!H18+'Област Габрово'!H18+'Област Добрич'!H18+'Област Кърджали'!H18+'Област Кюстендил'!H18+'Област Ловеч'!H18+'Област Монтана'!H18+'Област Пазарджик'!H18+'Област Перник'!H18+'Област Плевен'!H18+'Област Пловдив'!H18+'Област Разград'!H18+'Област Русе'!H18+'Област Силистра'!H18+'Област Сливен'!H18+'Област Смолян'!H18+'Област София'!H18+'Област София-град'!H18+'Област Стара Загора'!H18+'Област Търговище'!H18+'Област Хасково'!H18+'Област Шумен'!H18+'Област Ямбол'!H18 -> 2668 | I19: ='Област Благоевград'!I18+'Област Бургас'!I18+'Област Варна'!I18+'Област В. Търново'!I18+'Област Видин'!I18+'Област Враца'!I18+'Област Габрово'!I18+'Област Добрич'!I18+'Област Кърджали'!I18+'Област Кюстендил'!I18+'Област Ловеч'!I18+'Област Монтана'!I18+'Област Пазарджик'!I18+'Област Перник'!I18+'Област Плевен'!I18+'Област Пловдив'!I18+'Област Разград'!I18+'Област Русе'!I18+'Област Силистра'!I18+'Област Сливен'!I18+'Област Смолян'!I18+'Област София'!I18+'Област София-град'!I18+'Област Стара Загора'!I18+'Област Търговище'!I18+'Област Хасково'!I18+'Област Шумен'!I18+'Област Ямбол'!I18 -> 5673
A20: 17 | B20: резидентна грижа за пълнолетни лица с физически увреждания | C20: 8 | D20: 30 | E20: ='Област Благоевград'!E19+'Област Бургас'!E19+'Област Варна'!E19+'Област В. Търново'!E19+'Област Видин'!E19+'Област Враца'!E19+'Област Габрово'!E19+'Област Добрич'!E19+'Област Кърджали'!E19+'Област Кюстендил'!E19+'Област Ловеч'!E19+'Област Монтана'!E19+'Област Пазарджик'!E19+'Област Перник'!E19+'Област Плевен'!E19+'Област Пловдив'!E19+'Област Разград'!E19+'Област Русе'!E19+'Област Силистра'!E19+'Област Сливен'!E19+'Област Смолян'!E19+'Област София'!E19+'Област София-град'!E19+'Област Стара Загора'!E19+'Област Търговище'!E19+'Област Хасково'!E19+'Област Шумен'!E19+'Област Ямбол'!E19 -> 926 | F20: ='Област Благоевград'!F19+'Област Бургас'!F19+'Област Варна'!F19+'Област В. Търново'!F19+'Област Видин'!F19+'Област Враца'!F19+'Област Габрово'!F19+'Област Добрич'!F19+'Област Кърджали'!F19+'Област Кюстендил'!F19+'Област Ловеч'!F19+'Област Монтана'!F19+'Област Пазарджик'!F19+'Област Перник'!F19+'Област Плевен'!F19+'Област Пловдив'!F19+'Област Разград'!F19+'Област Русе'!F19+'Област Силистра'!F19+'Област Сливен'!F19+'Област Смолян'!F19+'Област София'!F19+'Област София-град'!F19+'Област Стара Загора'!F19+'Област Търговище'!F19+'Област Хасково'!F19+'Област Шумен'!F19+'Област Ямбол'!F19 -> 12886 | G20: ='Област Благоевград'!G19+'Област Бургас'!G19+'Област Варна'!G19+'Област В. Търново'!G19+'Област Видин'!G19+'Област Враца'!G19+'Област Габрово'!G19+'Област Добрич'!G19+'Област Кърджали'!G19+'Област Кюстендил'!G19+'Област Ловеч'!G19+'Област Монтана'!G19+'Област Пазарджик'!G19+'Област Перник'!G19+'Област Плевен'!G19+'Област Пловдив'!G19+'Област Разград'!G19+'Област Русе'!G19+'Област Силистра'!G19+'Област Сливен'!G19+'Област Смолян'!G19+'Област София'!G19+'Област София-град'!G19+'Област Стара Загора'!G19+'Област Търговище'!G19+'Област Хасково'!G19+'Област Шумен'!G19+'Област Ямбол'!G19 -> -11960 | H20: ='Област Благоевград'!H19+'Област Бургас'!H19+'Област Варна'!H19+'Област В. Търново'!H19+'Област Видин'!H19+'Област Враца'!H19+'Област Габрово'!H19+'Област Добрич'!H19+'Област Кърджали'!H19+'Област Кюстендил'!H19+'Област Ловеч'!H19+'Област Монтана'!H19+'Област Пазарджик'!H19+'Област Перник'!H19+'Област Плевен'!H19+'Област Пловдив'!H19+'Област Разград'!H19+'Област Русе'!H19+'Област Силистра'!H19+'Област Сливен'!H19+'Област Смолян'!H19+'Област София'!H19+'Област София-град'!H19+'Област Стара Загора'!H19+'Област Търговище'!H19+'Област Хасково'!H19+'Област Шумен'!H19+'Област Ямбол'!H19 -> 11960 | I20: ='Област Благоевград'!I19+'Област Бургас'!I19+'Област Варна'!I19+'Област В. Търново'!I19+'Област Видин'!I19+'Област Враца'!I19+'Област Габрово'!I19+'Област Добрич'!I19+'Област Кърджали'!I19+'Област Кюстендил'!I19+'Област Ловеч'!I19+'Област Монтана'!I19+'Област Пазарджик'!I19+'Област Перник'!I19+'Област Плевен'!I19+'Област Пловдив'!I19+'Област Разград'!I19+'Област Русе'!I19+'Област Силистра'!I19+'Област Сливен'!I19+'Област Смолян'!I19+'Област София'!I19+'Област София-град'!I19+'Област Стара Загора'!I19+'Област Търговище'!I19+'Област Хасково'!I19+'Област Шумен'!I19+'Област Ямбол'!I19 -> 12757
A21: 18 | B21: резидентна грижа за пълнолетни лица с деменция | C21: 8 | D21: 20 | E21: ='Област Благоевград'!E20+'Област Бургас'!E20+'Област Варна'!E20+'Област В. Търново'!E20+'Област Видин'!E20+'Област Враца'!E20+'Област Габрово'!E20+'Област Добрич'!E20+'Област Кърджали'!E20+'Област Кюстендил'!E20+'Област Ловеч'!E20+'Област Монтана'!E20+'Област Пазарджик'!E20+'Област Перник'!E20+'Област Плевен'!E20+'Област Пловдив'!E20+'Област Разград'!E20+'Област Русе'!E20+'Област Силистра'!E20+'Област Сливен'!E20+'Област Смолян'!E20+'Област София'!E20+'Област София-град'!E20+'Област Стара Загора'!E20+'Област Търговище'!E20+'Област Хасково'!E20+'Област Шумен'!E20+'Област Ямбол'!E20 -> 875 | F21: ='Област Благоевград'!F20+'Област Бургас'!F20+'Област Варна'!F20+'Област В. Търново'!F20+'Област Видин'!F20+'Област Враца'!F20+'Област Габрово'!F20+'Област Добрич'!F20+'Област Кърджали'!F20+'Област Кюстендил'!F20+'Област Ловеч'!F20+'Област Монтана'!F20+'Област Пазарджик'!F20+'Област Перник'!F20+'Област Плевен'!F20+'Област Пловдив'!F20+'Област Разград'!F20+'Област Русе'!F20+'Област Силистра'!F20+'Област Сливен'!F20+'Област Смолян'!F20+'Област София'!F20+'Област София-град'!F20+'Област Стара Загора'!F20+'Област Търговище'!F20+'Област Хасково'!F20+'Област Шумен'!F20+'Област Ямбол'!F20 -> 2002 | G21: ='Област Благоевград'!G20+'Област Бургас'!G20+'Област Варна'!G20+'Област В. Търново'!G20+'Област Видин'!G20+'Област Враца'!G20+'Област Габрово'!G20+'Област Добрич'!G20+'Област Кърджали'!G20+'Област Кюстендил'!G20+'Област Ловеч'!G20+'Област Монтана'!G20+'Област Пазарджик'!G20+'Област Перник'!G20+'Област Плевен'!G20+'Област Пловдив'!G20+'Област Разград'!G20+'Област Русе'!G20+'Област Силистра'!G20+'Област Сливен'!G20+'Област Смолян'!G20+'Област София'!G20+'Област София-град'!G20+'Област Стара Загора'!G20+'Област Търговище'!G20+'Област Хасково'!G20+'Област Шумен'!G20+'Област Ямбол'!G20 -> -1127 | H21: ='Област Благоевград'!H20+'Област Бургас'!H20+'Област Варна'!H20+'Област В. Търново'!H20+'Област Видин'!H20+'Област Враца'!H20+'Област Габрово'!H20+'Област Добрич'!H20+'Област Кърджали'!H20+'Област Кюстендил'!H20+'Област Ловеч'!H20+'Област Монтана'!H20+'Област Пазарджик'!H20+'Област Перник'!H20+'Област Плевен'!H20+'Област Пловдив'!H20+'Област Разград'!H20+'Област Русе'!H20+'Област Силистра'!H20+'Област Сливен'!H20+'Област Смолян'!H20+'Област София'!H20+'Област София-град'!H20+'Област Стара Загора'!H20+'Област Търговище'!H20+'Област Хасково'!H20+'Област Шумен'!H20+'Област Ямбол'!H20 -> 1287 | I21: ='Област Благоевград'!I20+'Област Бургас'!I20+'Област Варна'!I20+'Област В. Търново'!I20+'Област Видин'!I20+'Област Враца'!I20+'Област Габрово'!I20+'Област Добрич'!I20+'Област Кърджали'!I20+'Област Кюстендил'!I20+'Област Ловеч'!I20+'Област Монтана'!I20+'Област Пазарджик'!I20+'Област Перник'!I20+'Област Плевен'!I20+'Област Пловдив'!I20+'Област Разград'!I20+'Област Русе'!I20+'Област Силистра'!I20+'Област Сливен'!I20+'Област Смолян'!I20+'Област София'!I20+'Област София-град'!I20+'Област Стара Загора'!I20+'Област Търговище'!I20+'Област Хасково'!I20+'Област Шумен'!I20+'Област Ямбол'!I20 -> 2158
A22: 19 | B22: резидентна грижа за пълнолетни лица със сетивни увреждания | C22: 8 | D22: 30 | E22: ='Област Благоевград'!E21+'Област Бургас'!E21+'Област Варна'!E21+'Област В. Търново'!E21+'Област Видин'!E21+'Област Враца'!E21+'Област Габрово'!E21+'Област Добрич'!E21+'Област Кърджали'!E21+'Област Кюстендил'!E21+'Област Ловеч'!E21+'Област Монтана'!E21+'Област Пазарджик'!E21+'Област Перник'!E21+'Област Плевен'!E21+'Област Пловдив'!E21+'Област Разград'!E21+'Област Русе'!E21+'Област Силистра'!E21+'Област Сливен'!E21+'Област Смолян'!E21+'Област София'!E21+'Област София-град'!E21+'Област Стара Загора'!E21+'Област Търговище'!E21+'Област Хасково'!E21+'Област Шумен'!E21+'Област Ямбол'!E21 -> 81 | F22: ='Област Благоевград'!F21+'Област Бургас'!F21+'Област Варна'!F21+'Област В. Търново'!F21+'Област Видин'!F21+'Област Враца'!F21+'Област Габрово'!F21+'Област Добрич'!F21+'Област Кърджали'!F21+'Област Кюстендил'!F21+'Област Ловеч'!F21+'Област Монтана'!F21+'Област Пазарджик'!F21+'Област Перник'!F21+'Област Плевен'!F21+'Област Пловдив'!F21+'Област Разград'!F21+'Област Русе'!F21+'Област Силистра'!F21+'Област Сливен'!F21+'Област Смолян'!F21+'Област София'!F21+'Област София-град'!F21+'Област Стара Загора'!F21+'Област Търговище'!F21+'Област Хасково'!F21+'Област Шумен'!F21+'Област Ямбол'!F21 -> 1063 | G22: ='Област Благоевград'!G21+'Област Бургас'!G21+'Област Варна'!G21+'Област В. Търново'!G21+'Област Видин'!G21+'Област Враца'!G21+'Област Габрово'!G21+'Област Добрич'!G21+'Област Кърджали'!G21+'Област Кюстендил'!G21+'Област Ловеч'!G21+'Област Монтана'!G21+'Област Пазарджик'!G21+'Област Перник'!G21+'Област Плевен'!G21+'Област Пловдив'!G21+'Област Разград'!G21+'Област Русе'!G21+'Област Силистра'!G21+'Област Сливен'!G21+'Област Смолян'!G21+'Област София'!G21+'Област София-град'!G21+'Област Стара Загора'!G21+'Област Търговище'!G21+'Област Хасково'!G21+'Област Шумен'!G21+'Област Ямбол'!G21 -> -976 | H22: ='Област Благоевград'!H21+'Област Бургас'!H21+'Област Варна'!H21+'Област В. Търново'!H21+'Област Видин'!H21+'Област Враца'!H21+'Област Габрово'!H21+'Област Добрич'!H21+'Област Кърджали'!H21+'Област Кюстендил'!H21+'Област Ловеч'!H21+'Област Монтана'!H21+'Област Пазарджик'!H21+'Област Перник'!H21+'Област Плевен'!H21+'Област Пловдив'!H21+'Област Разград'!H21+'Област Русе'!H21+'Област Силистра'!H21+'Област Сливен'!H21+'Област Смолян'!H21+'Област София'!H21+'Област София-град'!H21+'Област Стара Загора'!H21+'Област Търговище'!H21+'Област Хасково'!H21+'Област Шумен'!H21+'Област Ямбол'!H21 -> 1001 | I22: ='Област Благоевград'!I21+'Област Бургас'!I21+'Област Варна'!I21+'Област В. Търново'!I21+'Област Видин'!I21+'Област Враца'!I21+'Област Габрово'!I21+'Област Добрич'!I21+'Област Кърджали'!I21+'Област Кюстендил'!I21+'Област Ловеч'!I21+'Област Монтана'!I21+'Област Пазарджик'!I21+'Област Перник'!I21+'Област Плевен'!I21+'Област Пловдив'!I21+'Област Разград'!I21+'Област Русе'!I21+'Област Силистра'!I21+'Област Сливен'!I21+'Област Смолян'!I21+'Област София'!I21+'Област София-град'!I21+'Област Стара Загора'!I21+'Област Търговище'!I21+'Област Хасково'!I21+'Област Шумен'!I21+'Област Ямбол'!I21 -> 1072
A23: 20 | B23: резидентна грижа за лица в надтрудоспособна възраст без увреждания | C23: 15 | D23: 120 | E23: ='Област Благоевград'!E22+'Област Бургас'!E22+'Област Варна'!E22+'Област В. Търново'!E22+'Област Видин'!E22+'Област Враца'!E22+'Област Габрово'!E22+'Област Добрич'!E22+'Област Кърджали'!E22+'Област Кюстендил'!E22+'Област Ловеч'!E22+'Област Монтана'!E22+'Област Пазарджик'!E22+'Област Перник'!E22+'Област Плевен'!E22+'Област Пловдив'!E22+'Област Разград'!E22+'Област Русе'!E22+'Област Силистра'!E22+'Област Сливен'!E22+'Област Смолян'!E22+'Област София'!E22+'Област София-град'!E22+'Област Стара Загора'!E22+'Област Търговище'!E22+'Област Хасково'!E22+'Област Шумен'!E22+'Област Ямбол'!E22 -> 5666 | F23: ='Област Благоевград'!F22+'Област Бургас'!F22+'Област Варна'!F22+'Област В. Търново'!F22+'Област Видин'!F22+'Област Враца'!F22+'Област Габрово'!F22+'Област Добрич'!F22+'Област Кърджали'!F22+'Област Кюстендил'!F22+'Област Ловеч'!F22+'Област Монтана'!F22+'Област Пазарджик'!F22+'Област Перник'!F22+'Област Плевен'!F22+'Област Пловдив'!F22+'Област Разград'!F22+'Област Русе'!F22+'Област Силистра'!F22+'Област Сливен'!F22+'Област Смолян'!F22+'Област София'!F22+'Област София-град'!F22+'Област Стара Загора'!F22+'Област Търговище'!F22+'Област Хасково'!F22+'Област Шумен'!F22+'Област Ямбол'!F22 -> 9675 | G23: ='Област Благоевград'!G22+'Област Бургас'!G22+'Област Варна'!G22+'Област В. Търново'!G22+'Област Видин'!G22+'Област Враца'!G22+'Област Габрово'!G22+'Област Добрич'!G22+'Област Кърджали'!G22+'Област Кюстендил'!G22+'Област Ловеч'!G22+'Област Монтана'!G22+'Област Пазарджик'!G22+'Област Перник'!G22+'Област Плевен'!G22+'Област Пловдив'!G22+'Област Разград'!G22+'Област Русе'!G22+'Област Силистра'!G22+'Област Сливен'!G22+'Област Смолян'!G22+'Област София'!G22+'Област София-град'!G22+'Област Стара Загора'!G22+'Област Търговище'!G22+'Област Хасково'!G22+'Област Шумен'!G22+'Област Ямбол'!G22 -> -4034 | H23: ='Област Благоевград'!H22+'Област Бургас'!H22+'Област Варна'!H22+'Област В. Търново'!H22+'Област Видин'!H22+'Област Враца'!H22+'Област Габрово'!H22+'Област Добрич'!H22+'Област Кърджали'!H22+'Област Кюстендил'!H22+'Област Ловеч'!H22+'Област Монтана'!H22+'Област Пазарджик'!H22+'Област Перник'!H22+'Област Плевен'!H22+'Област Пловдив'!H22+'Област Разград'!H22+'Област Русе'!H22+'Област Силистра'!H22+'Област Сливен'!H22+'Област Смолян'!H22+'Област София'!H22+'Област София-град'!H22+'Област Стара Загора'!H22+'Област Търговище'!H22+'Област Хасково'!H22+'Област Шумен'!H22+'Област Ямбол'!H22 -> 4336 | I23: ='Област Благоевград'!I22+'Област Бургас'!I22+'Област Варна'!I22+'Област В. Търново'!I22+'Област Видин'!I22+'Област Враца'!I22+'Област Габрово'!I22+'Област Добрич'!I22+'Област Кърджали'!I22+'Област Кюстендил'!I22+'Област Ловеч'!I22+'Област Монтана'!I22+'Област Пазарджик'!I22+'Област Перник'!I22+'Област Плевен'!I22+'Област Пловдив'!I22+'Област Разград'!I22+'Област Русе'!I22+'Област Силистра'!I22+'Област Сливен'!I22+'Област Смолян'!I22+'Област София'!I22+'Област София-град'!I22+'Област Стара Загора'!I22+'Област Търговище'!I22+'Област Хасково'!I22+'Област Шумен'!I22+'Област Ямбол'!I22 -> 9978
A24: 21 | B24: интегрирани здравно-социални услуги за резидентна грижа за деца с трайни увреждания с потребност от постоянни медицински грижи | C24: 6 | D24: 9 | E24: ='Област Благоевград'!E23+'Област Бургас'!E23+'Област Варна'!E23+'Област В. Търново'!E23+'Област Видин'!E23+'Област Враца'!E23+'Област Габрово'!E23+'Област Добрич'!E23+'Област Кърджали'!E23+'Област Кюстендил'!E23+'Област Ловеч'!E23+'Област Монтана'!E23+'Област Пазарджик'!E23+'Област Перник'!E23+'Област Плевен'!E23+'Област Пловдив'!E23+'Област Разград'!E23+'Област Русе'!E23+'Област Силистра'!E23+'Област Сливен'!E23+'Област Смолян'!E23+'Област София'!E23+'Област София-град'!E23+'Област Стара Загора'!E23+'Област Търговище'!E23+'Област Хасково'!E23+'Област Шумен'!E23+'Област Ямбол'!E23 -> 64 | F24: ='Област Благоевград'!F23+'Област Бургас'!F23+'Област Варна'!F23+'Област В. Търново'!F23+'Област Видин'!F23+'Област Враца'!F23+'Област Габрово'!F23+'Област Добрич'!F23+'Област Кърджали'!F23+'Област Кюстендил'!F23+'Област Ловеч'!F23+'Област Монтана'!F23+'Област Пазарджик'!F23+'Област Перник'!F23+'Област Плевен'!F23+'Област Пловдив'!F23+'Област Разград'!F23+'Област Русе'!F23+'Област Силистра'!F23+'Област Сливен'!F23+'Област Смолян'!F23+'Област София'!F23+'Област София-град'!F23+'Област Стара Загора'!F23+'Област Търговище'!F23+'Област Хасково'!F23+'Област Шумен'!F23+'Област Ямбол'!F23 -> 478 | G24: ='Област Благоевград'!G23+'Област Бургас'!G23+'Област Варна'!G23+'Област В. Търново'!G23+'Област Видин'!G23+'Област Враца'!G23+'Област Габрово'!G23+'Област Добрич'!G23+'Област Кърджали'!G23+'Област Кюстендил'!G23+'Област Ловеч'!G23+'Област Монтана'!G23+'Област Пазарджик'!G23+'Област Перник'!G23+'Област Плевен'!G23+'Област Пловдив'!G23+'Област Разград'!G23+'Област Русе'!G23+'Област Силистра'!G23+'Област Сливен'!G23+'Област Смолян'!G23+'Област София'!G23+'Област София-град'!G23+'Област Стара Загора'!G23+'Област Търговище'!G23+'Област Хасково'!G23+'Област Шумен'!G23+'Област Ямбол'!G23 -> -414 | H24: ='Област Благоевград'!H23+'Област Бургас'!H23+'Област Варна'!H23+'Област В. Търново'!H23+'Област Видин'!H23+'Област Враца'!H23+'Област Габрово'!H23+'Област Добрич'!H23+'Област Кърджали'!H23+'Област Кюстендил'!H23+'Област Ловеч'!H23+'Област Монтана'!H23+'Област Пазарджик'!H23+'Област Перник'!H23+'Област Плевен'!H23+'Област Пловдив'!H23+'Област Разград'!H23+'Област Русе'!H23+'Област Силистра'!H23+'Област Сливен'!H23+'Област Смолян'!H23+'Област София'!H23+'Област София-град'!H23+'Област Стара Загора'!H23+'Област Търговище'!H23+'Област Хасково'!H23+'Област Шумен'!H23+'Област Ямбол'!H23 -> 417 | I24: ='Област Благоевград'!I23+'Област Бургас'!I23+'Област Варна'!I23+'Област В. Търново'!I23+'Област Видин'!I23+'Област Враца'!I23+'Област Габрово'!I23+'Област Добрич'!I23+'Област Кърджали'!I23+'Област Кюстендил'!I23+'Област Ловеч'!I23+'Област Монтана'!I23+'Област Пазарджик'!I23+'Област Перник'!I23+'Област Плевен'!I23+'Област Пловдив'!I23+'Област Разград'!I23+'Област Русе'!I23+'Област Силистра'!I23+'Област Сливен'!I23+'Област Смолян'!I23+'Област София'!I23+'Област София-град'!I23+'Област Стара Загора'!I23+'Област Търговище'!I23+'Област Хасково'!I23+'Област Шумен'!I23+'Област Ямбол'!I23 -> 480
A25: 22 | B25: интегрирани здравно-социални услуги за резидентна грижа за пълнолетни лица с трайни увреждания с потребност от постоянни медицински грижи | C25: 8 | D25: 15 | E25: ='Област Благоевград'!E24+'Област Бургас'!E24+'Област Варна'!E24+'Област В. Търново'!E24+'Област Видин'!E24+'Област Враца'!E24+'Област Габрово'!E24+'Област Добрич'!E24+'Област Кърджали'!E24+'Област Кюстендил'!E24+'Област Ловеч'!E24+'Област Монтана'!E24+'Област Пазарджик'!E24+'Област Перник'!E24+'Област Плевен'!E24+'Област Пловдив'!E24+'Област Разград'!E24+'Област Русе'!E24+'Област Силистра'!E24+'Област Сливен'!E24+'Област Смолян'!E24+'Област София'!E24+'Област София-град'!E24+'Област Стара Загора'!E24+'Област Търговище'!E24+'Област Хасково'!E24+'Област Шумен'!E24+'Област Ямбол'!E24 -> 179 | F25: ='Област Благоевград'!F24+'Област Бургас'!F24+'Област Варна'!F24+'Област В. Търново'!F24+'Област Видин'!F24+'Област Враца'!F24+'Област Габрово'!F24+'Област Добрич'!F24+'Област Кърджали'!F24+'Област Кюстендил'!F24+'Област Ловеч'!F24+'Област Монтана'!F24+'Област Пазарджик'!F24+'Област Перник'!F24+'Област Плевен'!F24+'Област Пловдив'!F24+'Област Разград'!F24+'Област Русе'!F24+'Област Силистра'!F24+'Област Сливен'!F24+'Област Смолян'!F24+'Област София'!F24+'Област София-град'!F24+'Област Стара Загора'!F24+'Област Търговище'!F24+'Област Хасково'!F24+'Област Шумен'!F24+'Област Ямбол'!F24 -> 2074 | G25: ='Област Благоевград'!G24+'Област Бургас'!G24+'Област Варна'!G24+'Област В. Търново'!G24+'Област Видин'!G24+'Област Враца'!G24+'Област Габрово'!G24+'Област Добрич'!G24+'Област Кърджали'!G24+'Област Кюстендил'!G24+'Област Ловеч'!G24+'Област Монтана'!G24+'Област Пазарджик'!G24+'Област Перник'!G24+'Област Плевен'!G24+'Област Пловдив'!G24+'Област Разград'!G24+'Област Русе'!G24+'Област Силистра'!G24+'Област Сливен'!G24+'Област Смолян'!G24+'Област София'!G24+'Област София-град'!G24+'Област Стара Загора'!G24+'Област Търговище'!G24+'Област Хасково'!G24+'Област Шумен'!G24+'Област Ямбол'!G24 -> -1895 | H25: ='Област Благоевград'!H24+'Област Бургас'!H24+'Област Варна'!H24+'Област В. Търново'!H24+'Област Видин'!H24+'Област Враца'!H24+'Област Габрово'!H24+'Област Добрич'!H24+'Област Кърджали'!H24+'Област Кюстендил'!H24+'Област Ловеч'!H24+'Област Монтана'!H24+'Област Пазарджик'!H24+'Област Перник'!H24+'Област Плевен'!H24+'Област Пловдив'!H24+'Област Разград'!H24+'Област Русе'!H24+'Област Силистра'!H24+'Област Сливен'!H24+'Област Смолян'!H24+'Област София'!H24+'Област София-град'!H24+'Област Стара Загора'!H24+'Област Търговище'!H24+'Област Хасково'!H24+'Област Шумен'!H24+'Област Ямбол'!H24 -> 1917 | I25: ='Област Благоевград'!I24+'Област Бургас'!I24+'Област Варна'!I24+'Област В. Търново'!I24+'Област Видин'!I24+'Област Враца'!I24+'Област Габрово'!I24+'Област Добрич'!I24+'Област Кърджали'!I24+'Област Кюстендил'!I24+'Област Ловеч'!I24+'Област Монтана'!I24+'Област Пазарджик'!I24+'Област Перник'!I24+'Област Плевен'!I24+'Област Пловдив'!I24+'Област Разград'!I24+'Област Русе'!I24+'Област Силистра'!I24+'Област Сливен'!I24+'Област Смолян'!I24+'Област София'!I24+'Област София-град'!I24+'Област Стара Загора'!I24+'Област Търговище'!I24+'Област Хасково'!I24+'Област Шумен'!I24+'Област Ямбол'!I24 -> 2076
A26: 23 | B26: интегрирани здравно-социални услуги за резидентна грижа за възрастни хора в невъзможност за самообслужване с потребност от постоянни медицински грижи | C26: 8 | D26: 15 | E26: ='Област Благоевград'!E25+'Област Бургас'!E25+'Област Варна'!E25+'Област В. Търново'!E25+'Област Видин'!E25+'Област Враца'!E25+'Област Габрово'!E25+'Област Добрич'!E25+'Област Кърджали'!E25+'Област Кюстендил'!E25+'Област Ловеч'!E25+'Област Монтана'!E25+'Област Пазарджик'!E25+'Област Перник'!E25+'Област Плевен'!E25+'Област Пловдив'!E25+'Област Разград'!E25+'Област Русе'!E25+'Област Силистра'!E25+'Област Сливен'!E25+'Област Смолян'!E25+'Област София'!E25+'Област София-град'!E25+'Област Стара Загора'!E25+'Област Търговище'!E25+'Област Хасково'!E25+'Област Шумен'!E25+'Област Ямбол'!E25 -> 95 | F26: ='Област Благоевград'!F25+'Област Бургас'!F25+'Област Варна'!F25+'Област В. Търново'!F25+'Област Видин'!F25+'Област Враца'!F25+'Област Габрово'!F25+'Област Добрич'!F25+'Област Кърджали'!F25+'Област Кюстендил'!F25+'Област Ловеч'!F25+'Област Монтана'!F25+'Област Пазарджик'!F25+'Област Перник'!F25+'Област Плевен'!F25+'Област Пловдив'!F25+'Област Разград'!F25+'Област Русе'!F25+'Област Силистра'!F25+'Област Сливен'!F25+'Област Смолян'!F25+'Област София'!F25+'Област София-град'!F25+'Област Стара Загора'!F25+'Област Търговище'!F25+'Област Хасково'!F25+'Област Шумен'!F25+'Област Ямбол'!F25 -> 1724 | G26: ='Област Благоевград'!G25+'Област Бургас'!G25+'Област Варна'!G25+'Област В. Търново'!G25+'Област Видин'!G25+'Област Враца'!G25+'Област Габрово'!G25+'Област Добрич'!G25+'Област Кърджали'!G25+'Област Кюстендил'!G25+'Област Ловеч'!G25+'Област Монтана'!G25+'Област Пазарджик'!G25+'Област Перник'!G25+'Област Плевен'!G25+'Област Пловдив'!G25+'Област Разград'!G25+'Област Русе'!G25+'Област Силистра'!G25+'Област Сливен'!G25+'Област Смолян'!G25+'Област София'!G25+'Област София-град'!G25+'Област Стара Загора'!G25+'Област Търговище'!G25+'Област Хасково'!G25+'Област Шумен'!G25+'Област Ямбол'!G25 -> -1629 | H26: ='Област Благоевград'!H25+'Област Бургас'!H25+'Област Варна'!H25+'Област В. Търново'!H25+'Област Видин'!H25+'Област Враца'!H25+'Област Габрово'!H25+'Област Добрич'!H25+'Област Кърджали'!H25+'Област Кюстендил'!H25+'Област Ловеч'!H25+'Област Монтана'!H25+'Област Пазарджик'!H25+'Област Перник'!H25+'Област Плевен'!H25+'Област Пловдив'!H25+'Област Разград'!H25+'Област Русе'!H25+'Област Силистра'!H25+'Област Сливен'!H25+'Област Смолян'!H25+'Област София'!H25+'Област София-град'!H25+'Област Стара Загора'!H25+'Област Търговище'!H25+'Област Хасково'!H25+'Област Шумен'!H25+'Област Ямбол'!H25 -> 1643 | I26: ='Област Благоевград'!I25+'Област Бургас'!I25+'Област Варна'!I25+'Област В. Търново'!I25+'Област Видин'!I25+'Област Враца'!I25+'Област Габрово'!I25+'Област Добрич'!I25+'Област Кърджали'!I25+'Област Кюстендил'!I25+'Област Ловеч'!I25+'Област Монтана'!I25+'Област Пазарджик'!I25+'Област Перник'!I25+'Област Плевен'!I25+'Област Пловдив'!I25+'Област Разград'!I25+'Област Русе'!I25+'Област Силистра'!I25+'Област Сливен'!I25+'Област Смолян'!I25+'Област София'!I25+'Област София-град'!I25+'Област Стара Загора'!I25+'Област Търговище'!I25+'Област Хасково'!I25+'Област Шумен'!I25+'Област Ямбол'!I25 -> 1736
... A31: 28 | B31: осигуряване на подслон за пълнолетни лица, пострадали от домашно насилие и лица жертви на трафик | C31: 6 | D31: 10 | E31: ='Област Благоевград'!E30+'Област Бургас'!E30+'Област Варна'!E30+'Област В. Търново'!E30+'Област Видин'!E30+'Област Враца'!E30+'Област Габрово'!E30+'Област Добрич'!E30+'Област Кърджали'!E30+'Област Кюстендил'!E30+'Област Ловеч'!E30+'Област Монтана'!E30+'Област Пазарджик'!E30+'Област Перник'!E30+'Област Плевен'!E30+'Област Пловдив'!E30+'Област Разград'!E30+'Област Русе'!E30+'Област Силистра'!E30+'Област Сливен'!E30+'Област Смолян'!E30+'Област София'!E30+'Област София-град'!E30+'Област Стара Загора'!E30+'Област Търговище'!E30+'Област Хасково'!E30+'Област Шумен'!E30+'Област Ямбол'!E30 -> 177 | F31: ='Област Благоевград'!F30+'Област Бургас'!F30+'Област Варна'!F30+'Област В. Търново'!F30+'Област Видин'!F30+'Област Враца'!F30+'Област Габрово'!F30+'Област Добрич'!F30+'Област Кърджали'!F30+'Област Кюстендил'!F30+'Област Ловеч'!F30+'Област Монтана'!F30+'Област Пазарджик'!F30+'Област Перник'!F30+'Област Плевен'!F30+'Област Пловдив'!F30+'Област Разград'!F30+'Област Русе'!F30+'Област Силистра'!F30+'Област Сливен'!F30+'Област Смолян'!F30+'Област София'!F30+'Област София-град'!F30+'Област Стара Загора'!F30+'Област Търговище'!F30+'Област Хасково'!F30+'Област Шумен'!F30+'Област Ямбол'!F30 -> 774 | G31: ='Област Благоевград'!G30+'Област Бургас'!G30+'Област Варна'!G30+'Област В. Търново'!G30+'Област Видин'!G30+'Област Враца'!G30+'Област Габрово'!G30+'Област Добрич'!G30+'Област Кърджали'!G30+'Област Кюстендил'!G30+'Област Ловеч'!G30+'Област Монтана'!G30+'Област Пазарджик'!G30+'Област Перник'!G30+'Област Плевен'!G30+'Област Пловдив'!G30+'Област Разград'!G30+'Област Русе'!G30+'Област Силистра'!G30+'Област Сливен'!G30+'Област Смолян'!G30+'Област София'!G30+'Област София-град'!G30+'Област Стара Загора'!G30+'Област Търговище'!G30+'Област Хасково'!G30+'Област Шумен'!G30+'Област Ямбол'!G30 -> -595 | H31: ='Област Благоевград'!H30+'Област Бургас'!H30+'Област Варна'!H30+'Област В. Търново'!H30+'Област Видин'!H30+'Област Враца'!H30+'Област Габрово'!H30+'Област Добрич'!H30+'Област Кърджали'!H30+'Област Кюстендил'!H30+'Област Ловеч'!H30+'Област Монтана'!H30+'Област Пазарджик'!H30+'Област Перник'!H30+'Област Плевен'!H30+'Област Пловдив'!H30+'Област Разград'!H30+'Област Русе'!H30+'Област Силистра'!H30+'Област Сливен'!H30+'Област Смолян'!H30+'Област София'!H30+'Област София-град'!H30+'Област Стара Загора'!H30+'Област Търговище'!H30+'Област Хасково'!H30+'Област Шумен'!H30+'Област Ямбол'!H30 -> 618 | I31: ='Област Благоевград'!I30+'Област Бургас'!I30+'Област Варна'!I30+'Област В. Търново'!I30+'Област Видин'!I30+'Област Враца'!I30+'Област Габрово'!I30+'Област Добрич'!I30+'Област Кърджали'!I30+'Област Кюстендил'!I30+'Област Ловеч'!I30+'Област Монтана'!I30+'Област Пазарджик'!I30+'Област Перник'!I30+'Област Плевен'!I30+'Област Пловдив'!I30+'Област Разград'!I30+'Област Русе'!I30+'Област Силистра'!I30+'Област Сливен'!I30+'Област Смолян'!I30+'Област София'!I30+'Област София-град'!I30+'Област Стара Загора'!I30+'Област Търговище'!I30+'Област Хасково'!I30+'Област Шумен'!I30+'Област Ямбол'!I30 -> 791

Sheet Област Благоевград
A1: КАРТА ОБЛАСТ | E1: ОБЛАСТ БЛАГОЕВГРАД | J1: Разпределени +/- | K1: Община Банско | P1: Община Белица | U1: Община Благоевград | Z1: Община Гоце Делчев | AE1: Община Гърмен | AJ1: Община Кресна | AO1: Община Петрич | AT1: Община Разлог | AY1: Община Сандански | BD1: Община Сатовча | BI1: Община Симитли | BN1: Община Струмяни | BS1: Община Хаджидимово | BX1: Община Якоруда | CC1: Община 15
A2: № | B2: Дейност по Чл. 15 от ЗСУ | C2: min | D2: max | E2: СУ | F2: П5 | G2: Р | H2: П | I2: K | K2: СУ | L2: П5 | M2: Р | N2: П | O2: К | P2: СУ | Q2: П5 | R2: Р | S2: П | T2: К | U2: СУ | V2: П5 | W2: Р | X2: П | Y2: K | Z2: СУ | AA2: П5 | AB2: Р | AC2: П | AD2: K | AE2: СУ | AF2: П5 | AG2: Р | AH2: П | AI2: K | AJ2: СУ | AK2: П5 | AL2: Р | AM2: П | AN2: K | AO2: СУ | AP2: П5 | AQ2: Р | AR2: П | AS2: K | AT2: СУ | AU2: П5 | AV2: Р | AW2: П | AX2: K | AY2: СУ | AZ2: П5 | BA2: Р | BB2: П | BC2: K | BD2: СУ | BE2: П5 | BF2: Р | BG2: П | BH2: K | BI2: СУ | BJ2: П5 | BK2: Р | BL2: П | BM2: K | BN2: СУ | BO2: П5 | BP2: Р | BQ2: П | BR2: K | BS2: СУ | BT2: П5 | BU2: Р | BV2: П | BW2: K | BX2: СУ | BY2: П5 | BZ2: Р | CA2: П | CB2: K | CC2: СУ | CD2: П5 | CE2: Р | CF2: П
A3: 1 | B3: информиране, консултиране и обучение за реализиране на социални права и за развиване на умения (като общодостъпна услуга) | C3: 10 | D3: 40 | E3: =K3+P3+U3+Z3+AE3+AJ3+AO3+AT3+AY3+BD3+BI3+BN3+BS3+BX3+CC3 -> 0 | F3: =L3+Q3+V3+AA3+AF3+AK3+AP3+AU3+AZ3+BE3+BJ3+BO3+BT3+BY3+CD3 -> 102 | G3: =M3+R3+W3+AB3+AG3+AL3+AQ3+AV3+BA3+BF3+BK3+BP3+BU3+BZ3+CE3 -> -102 | H3: =N3+S3+X3+AC3+AH3+AM3+AR3+AW3+BB3+BG3+BL3+BQ3+BV3+CA3+CF3 -> 102 | I3: =SUM(O3+T3+Y3+AD3+AI3+AN3+AS3+AX3+BC3+BH3+BM3+BR3+BW3+CB3) -> 102 | J3: =E3+H3-F3 -> 0 | K3: 0 | L3: 5 | M3: =K3-L3 -> -5 | N3: 5 | O3: =SUM(K3+N3) -> 5 | P3: 0 | Q3: 4 | R3: =P3-Q3 -> -4 | S3: 4 | T3: =SUM(P3+S3) -> 4 | U3: 0 | V3: 20 | W3: =U3-V3 -> -20 | X3: 20 | Y3: =SUM(U3+X3) -> 20 | Z3: 0 | AA3: 11 | AB3: =Z3-AA3 -> -11 | AC3: 11 | AD3: =SUM(Z3+AC3) -> 11 | AE3: 0 | AF3: 5 | AG3: =AE3-AF3 -> -5 | AH3: 5 | AI3: =SUM(AE3+AH3) -> 5 | AJ3: 0 | AK3: 2 | AL3: =AJ3-AK3 -> -2 | AM3: 2 | AN3: =SUM(AJ3+AM3) -> 2 | AO3: 0 | AP3: 17 | AQ3: =AO3-AP3 -> -17 | AR3: 17 | AS3: =SUM(AO3+AR3) -> 17 | AT3: 0 | AU3: 7 | AV3: =AT3-AU3 -> -7 | AW3: 7 | AX3: =SUM(AT3+AW3) -> 7 | AY3: 0 | AZ3: 12 | BA3: =AY3-AZ3 -> -12 | BB3: 12 | BC3: =SUM(AY3+BB3) -> 12 | BD3: 0 | BE3: 6 | BF3: =BD3-BE3 -> -6 | BG3: 6 | BH3: =SUM(BD3+BG3) -> 6 | BI3: 0 | BJ3: 4 | BK3: =BI3-BJ3 -> -4 | BL3: 4 | BM3: =SUM(BI3+BL3) -> 4 | BN3: 0 | BO3: 2 | BP3: =BN3-BO3 -> -2 | BQ3: 2 | BR3: =SUM(BN3+BQ3) -> 2 | BS3: 0 | BT3: 4 | BU3: =BS3-BT3 -> -4 | BV3: 4 | BW3: =SUM(BS3+BV3) -> 4 | BX3: 0 | BY3: 3 | BZ3: =BX3-BY3 -> -3 | CA3: 3 | CB3: =SUM(BX3+CA3) -> 3 | CE3: =CC3-CD3 -> 0
A4: 2 | B4: мобилна превантивна общностна работа( като общодостъпна услуга) | C4: - | D4: - | E4: =K4+P4+U4+Z4+AE4+AJ4+AO4+AT4+AY4+BD4+BI4+BN4+BS4+BX4+CC4 -> 0 | F4: =L4+Q4+V4+AA4+AF4+AK4+AP4+AU4+AZ4+BE4+BJ4+BO4+BT4+BY4+CD4 -> 139 | G4: =M4+R4+W4+AB4+AG4+AL4+AQ4+AV4+BA4+BF4+BK4+BP4+BU4+BZ4+CE4 -> -139 | H4: =N4+S4+X4+AC4+AH4+AM4+AR4+AW4+BB4+BG4+BL4+BQ4+BV4+CA4+CF4 -> 139 | I4: =SUM(O4+T4+Y4+AD4+AI4+AN4+AS4+AX4+BC4+BH4+BM4+BR4+BW4+CB4) -> 139 | J4: =E4+H4-F4 -> 0 | K4: 0 | L4: 6 | M4: =K4-L4 -> -6 | N4: 6 | O4: =SUM(K4+N4) -> 6 | P4: 0 | Q4: 5 | R4: =P4-Q4 -> -5 | S4: 5 | T4: =SUM(P4+S4) -> 5 | U4: 0 | V4: 27 | W4: =U4-V4 -> -27 | X4: 27 | Y4: =SUM(U4+X4) -> 27 | Z4: 0 | AA4: 15 | AB4: =Z4-AA4 -> -15 | AC4: 15 | AD4: =SUM(Z4+AC4) -> 15 | AE4: 0 | AF4: 7 | AG4: =AE4-AF4 -> -7 | AH4: 7 | AI4: =SUM(AE4+AH4) -> 7 | AJ4: 0 | AK4: 3 | AL4: =AJ4-AK4 -> -3 | AM4: 3 | AN4: =SUM(AJ4+AM4) -> 3 | AO4: 0 | AP4: 23 | AQ4: =AO4-AP4 -> -23 | AR4: 23 | AS4: =SUM(AO4+AR4) -> 23 | AT4: 0 | AU4: 9 | AV4: =AT4-AU4 -> -9 | AW4: 9 | AX4: =SUM(AT4+AW4) -> 9 | AY4: 0 | AZ4: 17 | BA4: =AY4-AZ4 -> -17 | BB4: 17 | BC4: =SUM(AY4+BB4) -> 17 | BD4: 0 | BE4: 8 | BF4: =BD4-BE4 -> -8 | BG4: 8 | BH4: =SUM(BD4+BG4) -> 8 | BI4: 0 | BJ4: 6 | BK4: =BI4-BJ4 -> -6 | BL4: 6 | BM4: =SUM(BI4+BL4) -> 6 | BN4: 0 | BO4: 3 | BP4: =BN4-BO4 -> -3 | BQ4: 3 | BR4: =SUM(BN4+BQ4) -> 3 | BS4: 0 | BT4: 5 | BU4: =BS4-BT4 -> -5 | BV4: 5 | BW4: =SUM(BS4+BV4) -> 5 | BX4: 0 | BY4: 5 | BZ4: =BX4-BY4 -> -5 | CA4: 5 | CB4: =SUM(BX4+CA4) -> 5 | CE4: =CC4-CD4 -> 0
A5: 3 | B5: информиране и консултиране (специализирана) | C5: 4 | D5: 35 | E5: =K5+P5+U5+Z5+AE5+AJ5+AO5+AT5+AY5+BD5+BI5+BN5+BS5+BX5+CC5 -> 362 | F5: =L5+Q5+V5+AA5+AF5+AK5+AP5+AU5+AZ5+BE5+BJ5+BO5+BT5+BY5+CD5 -> 426 | G5: =M5+R5+W5+AB5+AG5+AL5+AQ5+AV5+BA5+BF5+BK5+BP5+BU5+BZ5+CE5 -> -64 | H5: =N5+S5+X5+AC5+AH5+AM5+AR5+AW5+BB5+BG5+BL5+BQ5+BV5+CA5+CF5 -> 117 | I5: =SUM(O5+T5+Y5+AD5+AI5+AN5+AS5+AX5+BC5+BH5+BM5+BR5+BW5+CB5) -> 479 | J5: =E5+H5-F5 -> 53 | K5: 29 | L5: 16 | M5: =K5-L5 -> 13 | N5: 0 | O5: =SUM(K5+N5) -> 29 | P5: 20 | Q5: 14 | R5: =P5-Q5 -> 6 | S5: 0 | T5: =SUM(P5+S5) -> 20 | U5: 99 | V5: 95 | W5: =U5-V5 -> 4 | X5: 0 | Y5: =SUM(U5+X5) -> 99 | Z5: 43 | AA5: 45 | AB5: =Z5-AA5 -> -2 | AC5: 2 | AD5: =SUM(Z5+AC5) -> 45 | AE5: 3 | AF5: 24 | AG5: =AE5-AF5 -> -21 | AH5: 21 | AI5: =SUM(AE5+AH5) -> 24 | AJ5: 16 | AK5: 6 | AL5: =AJ5-AK5 -> 10 | AM5: 0 | AN5: =SUM(AJ5+AM5) -> 16 | AO5: 37 | AP5: 73 | AQ5: =AO5-AP5 -> -36 | AR5: 36 | AS5: =SUM(AO5+AR5) -> 73 | AT5: 21 | AU5: 26 | AV5: =AT5-AU5 -> -5 | AW5: 5 | AX5: =SUM(AT5+AW5) -> 26 | AY5: 25 | AZ5: 50 | BA5: =AY5-AZ5 -> -25 | BB5: 25 | BC5: =SUM(AY5+BB5) -> 50 | BD5: 9 | BE5: 25 | BF5: =BD5-BE5 -> -16 | BG5: 16 | BH5: =SUM(BD5+BG5) -> 25 | BI5: 28 | BJ5: 16 | BK5: =BI5-BJ5 -> 12 | BL5: 0 | BM5: =SUM(BI5+BL5) -> 28 | BN5: 13 | BO5: 7 | BP5: =BN5-BO5 -> 6 | BQ5: 0 | BR5: =SUM(BN5+BQ5) -> 13 | BS5: 3 | BT5: 15 | BU5: =BS5-BT5 -> -12 | BV5: 12 | BW5: =SUM(BS5+BV5) -> 15 | BX5: 16 | BY5: 14 | BZ5: =BX5-BY5 -> 2 | CA5: 0 | CB5: =SUM(BX5+CA5) -> 16 | CE5: =CC5-CD5 -> 0
A6: 4 | B6: застъпничество и посредничество | C6: 8 | D6: 25 | E6: =K6+P6+U6+Z6+AE6+AJ6+AO6+AT6+AY6+BD6+BI6+BN6+BS6+BX6+CC6 -> 344 | F6: =L6+Q6+V6+AA6+AF6+AK6+AP6+AU6+AZ6+BE6+BJ6+BO6+BT6+BY6+CD6 -> 301 | G6: =M6+R6+W6+AB6+AG6+AL6+AQ6+AV6+BA6+BF6+BK6+BP6+BU6+BZ6+CE6 -> 43 | H6: =N6+S6+X6+AC6+AH6+AM6+AR6+AW6+BB6+BG6+BL6+BQ6+BV6+CA6+CF6 -> 49 | I6: =SUM(O6+T6+Y6+AD6+AI6+AN6+AS6+AX6+BC6+BH6+BM6+BR6+BW6+CB6) -> 393 | J6: =E6+H6-F6 -> 92 | K6: 21 | L6: 13 | M6: =K6-L6 -> 8 | N6: 0 | O6: =SUM(K6+N6) -> 21 | P6: 25 | Q6: 10 | R6: =P6-Q6 -> 15 | S6: 0 | T6: =SUM(P6+S6) -> 25 | U6: 100 | V6: 64 | W6: =U6-V6 -> 36 | X6: 0 | Y6: =SUM(U6+X6) -> 100 | Z6: 34 | AA6: 31 | AB6: =Z6-AA6 -> 3 | AC6: 0 | AD6: =SUM(Z6+AC6) -> 34 | AE6: 3 | AF6: 15 | AG6: =AE6-AF6 -> -12 | AH6: 12 | AI6: =SUM(AE6+AH6) -> 15 | AJ6: 16 | AK6: 6 | AL6: =AJ6-AK6 -> 10 | AM6: 0 | AN6: =SUM(AJ6+AM6) -> 16 | AO6: 46 | AP6: 50 | AQ6: =AO6-AP6 -> -4 | AR6: 4 | AS6: =SUM(AO6+AR6) -> 50 | AT6: 19 | AU6: 20 | AV6: =AT6-AU6 -> -1 | AW6: 1 | AX6: =SUM(AT6+AW6) -> 20 | AY6: 24 | AZ6: 38 | BA6: =AY6-AZ6 -> -14 | BB6: 14 | BC6: =SUM(AY6+BB6) -> 38 | BD6: 7 | BE6: 17 | BF6: =BD6-BE6 -> -10 | BG6: 10 | BH6: =SUM(BD6+BG6) -> 17 | BI6: 17 | BJ6: 12 | BK6: =BI6-BJ6 -> 5 | BL6: 0 | BM6: =SUM(BI6+BL6) -> 17 | BN6: 9 | BO6: 5 | BP6: =BN6-BO6 -> 4 | BQ6: 0 | BR6: =SUM(BN6+BQ6) -> 9 | BS6: 2 | BT6: 10 | BU6: =BS6-BT6 -> -8 | BV6: 8 | BW6: =SUM(BS6+BV6) -> 10 | BX6: 21 | BY6: 10 | BZ6: =BX6-BY6 -> 11 | CA6: 0 | CB6: =SUM(BX6+CA6) -> 21 | CE6: =CC6-CD6 -> 0
A7: 5 | B7: терапия и рехабилитация | C7: 20 | D7: 50 | E7: =K7+P7+U7+Z7+AE7+AJ7+AO7+AT7+AY7+BD7+BI7+BN7+BS7+BX7+CC7 -> 526 | F7: =L7+Q7+V7+AA7+AF7+AK7+AP7+AU7+AZ7+BE7+BJ7+BO7+BT7+BY7+CD7 -> 532 | G7: =M7+R7+W7+AB7+AG7+AL7+AQ7+AV7+BA7+BF7+BK7+BP7+BU7+BZ7+CE7 -> -6 | H7: =N7+S7+X7+AC7+AH7+AM7+AR7+AW7+BB7+BG7+BL7+BQ7+BV7+CA7+CF7 -> 107 | I7: =SUM(O7+T7+Y7+AD7+AI7+AN7+AS7+AX7+BC7+BH7+BM7+BR7+BW7+CB7) -> 633 | J7: =E7+H7-F7 -> 101 | K7: 37 | L7: 20 | M7: =K7-L7 -> 17 | N7: 0 | O7: =SUM(K7+N7) -> 37 | P7: 34 | Q7: 18 | R7: =P7-Q7 -> 16 | S7: 0 | T7: =SUM(P7+S7) -> 34 | U7: 120 | V7: 119 | W7: =U7-V7 -> 1 | X7: 0 | Y7: =SUM(U7+X7) -> 120 | Z7: 68 | AA7: 55 | AB7: =Z7-AA7 -> 13 | AC7: 0 | AD7: =SUM(Z7+AC7) -> 68 | AE7: 11 | AF7: 28 | AG7: =AE7-AF7 -> -17 | AH7: 17 | AI7: =SUM(AE7+AH7) -> 28 | AJ7: 33 | AK7: 7 | AL7: =AJ7-AK7 -> 26 | AM7: 0 | AN7: =SUM(AJ7+AM7) -> 33 | AO7: 49 | AP7: 90 | AQ7: =AO7-AP7 -> -41 | AR7: 41 | AS7: =SUM(AO7+AR7) -> 90 | AT7: 31 | AU7: 34 | AV7: =AT7-AU7 -> -3 | AW7: 3 | AX7: =SUM(AT7+AW7) -> 34 | AY7: 46 | AZ7: 64 | BA7: =AY7-AZ7 -> -18 | BB7: 18 | BC7: =SUM(AY7+BB7) -> 64 | BD7: 22 | BE7: 30 | BF7: =BD7-BE7 -> -8 | BG7: 8 | BH7: =SUM(BD7+BG7) -> 30 | BI7: 40 | BJ7: 21 | BK7: =BI7-BJ7 -> 19 | BL7: 0 | BM7: =SUM(BI7+BL7) -> 40 | BN7: 12 | BO7: 8 | BP7: =BN7-BO7 -> 4 | BQ7: 0 | BR7: =SUM(BN7+BQ7) -> 12 | BS7: 0 | BT7: 20 | BU7: =BS7-BT7 -> -20 | BV7: 20 | BW7: =SUM(BS7+BV7) -> 20 | BX7: 23 | BY7: 18 | BZ7: =BX7-BY7 -> 5 | CA7: 0 | CB7: =SUM(BX7+CA7) -> 23 | CE7: =CC7-CD7 -> 0
A8: 6 | B8: обучение за придобиване на умения | C8: 8 | D8: 35 | E8: =K8+P8+U8+Z8+AE8+AJ8+AO8+AT8+AY8+BD8+BI8+BN8+BS8+BX8+CC8 -> 523 | F8: =L8+Q8+V8+AA8+AF8+AK8+AP8+AU8+AZ8+BE8+BJ8+BO8+BT8+BY8+CD8 -> 364 | G8: =M8+R8+W8+AB8+AG8+AL8+AQ8+AV8+BA8+BF8+BK8+BP8+BU8+BZ8+CE8 -> 159 | H8: =N8+S8+X8+AC8+AH8+AM8+AR8+AW8+BB8+BG8+BL8+BQ8+BV8+CA8+CF8 -> 41 | I8: =SUM(O8+T8+Y8+AD8+AI8+AN8+AS8+AX8+BC8+BH8+BM8+BR8+BW8+CB8) -> 564 | J8: =E8+H8-F8 -> 200 | K8: 40 | L8: 14 | M8: =K8-L8 -> 26 | N8: 0 | O8: =SUM(K8+N8) -> 40 | P8: 28 | Q8: 13 | R8: =P8-Q8 -> 15 | S8: 0 | T8: =SUM(P8+S8) -> 28 | U8: 141 | V8: 80 | W8: =U8-V8 -> 61 | X8: 0 | Y8: =SUM(U8+X8) -> 141 | Z8: 60 | AA8: 39 | AB8: =Z8-AA8 -> 21 | AC8: 0 | AD8: =SUM(Z8+AC8) -> 60 | AE8: 10 | AF8: 19 | AG8: =AE8-AF8 -> -9 | AH8: 9 | AI8: =SUM(AE8+AH8) -> 19 | AJ8: 24 | AK8: 5 | AL8: =AJ8-AK8 -> 19 | AM8: 0 | AN8: =SUM(AJ8+AM8) -> 24 | AO8: 51 | AP8: 61 | AQ8: =AO8-AP8 -> -10 | AR8: 10 | AS8: =SUM(AO8+AR8) -> 61 | AT8: 28 | AU8: 23 | AV8: =AT8-AU8 -> 5 | AW8: 0 | AX8: =SUM(AT8+AW8) -> 28 | AY8: 38 | AZ8: 44 | BA8: =AY8-AZ8 -> -6 | BB8: 6 | BC8: =SUM(AY8+BB8) -> 44 | BD8: 13 | BE8: 21 | BF8: =BD8-BE8 -> -8 | BG8: 8 | BH8: =SUM(BD8+BG8) -> 21 | BI8: 41 | BJ8: 14 | BK8: =BI8-BJ8 -> 27 | BL8: 0 | BM8: =SUM(BI8+BL8) -> 41 | BN8: 22 | BO8: 6 | BP8: =BN8-BO8 -> 16 | BQ8: 0 | BR8: =SUM(BN8+BQ8) -> 22 | BS8: 4 | BT8: 12 | BU8: =BS8-BT8 -> -8 | BV8: 8 | BW8: =SUM(BS8+BV8) -> 12 | BX8: 23 | BY8: 13 | BZ8: =BX8-BY8 -> 10 | CA8: 0 | CB8: =SUM(BX8+CA8) -> 23 | CE8: =CC8-CD8 -> 0
A9: 7 | B9: подкрепа за придобиване на трудови умения | C9: 8 | D9: 30 | E9: =K9+P9+U9+Z9+AE9+AJ9+AO9+AT9+AY9+BD9+BI9+BN9+BS9+BX9+CC9 -> 182 | F9: =L9+Q9+V9+AA9+AF9+AK9+AP9+AU9+AZ9+BE9+BJ9+BO9+BT9+BY9+CD9 -> 194 | G9: =M9+R9+W9+AB9+AG9+AL9+AQ9+AV9+BA9+BF9+BK9+BP9+BU9+BZ9+CE9 -> -12 | H9: =N9+S9+X9+AC9+AH9+AM9+AR9+AW9+BB9+BG9+BL9+BQ9+BV9+CA9+CF9 -> 67 | I9: =SUM(O9+T9+Y9+AD9+AI9+AN9+AS9+AX9+BC9+BH9+BM9+BR9+BW9+CB9) -> 249 | J9: =E9+H9-F9 -> 55 | K9: 21 | L9: 7 | M9: =K9-L9 -> 14 | N9: 0 | O9: =SUM(K9+N9) -> 21 | P9: 11 | Q9: 6 | R9: =P9-Q9 -> 5 | S9: 0 | T9: =SUM(P9+S9) -> 11 | U9: 35 | V9: 57 | W9: =U9-V9 -> -22 | X9: 22 | Y9: =SUM(U9+X9) -> 57 | Z9: 11 | AA9: 18 | AB9: =Z9-AA9 -> -7 | AC9: 7 | AD9: =SUM(Z9+AC9) -> 18 | AE9: 1 | AF9: 8 | AG9: =AE9-AF9 -> -7 | AH9: 7 | AI9: =SUM(AE9+AH9) -> 8 | AJ9: 16 | AK9: 4 | AL9: =AJ9-AK9 -> 12 | AM9: 0 | AN9: =SUM(AJ9+AM9) -> 16 | AO9: 8 | AP9: 28 | AQ9: =AO9-AP9 -> -20 | AR9: 20 | AS9: =SUM(AO9+AR9) -> 28 | AT9: 14 | AU9: 11 | AV9: =AT9-AU9 -> 3 | AW9: 0 | AX9: =SUM(AT9+AW9) -> 14 | AY9: 20 | AZ9: 20 | BA9: =AY9-AZ9 -> 0 | BB9: 0 | BC9: =SUM(AY9+BB9) -> 20 | BD9: 13 | BE9: 8 | BF9: =BD9-BE9 -> 5 | BG9: 0 | BH9: =SUM(BD9+BG9) -> 13 | BI9: 23 | BJ9: 8 | BK9: =BI9-BJ9 -> 15 | BL9: 0 | BM9: =SUM(BI9+BL9) -> 23 | BN9: 5 | BO9: 4 | BP9: =BN9-BO9 -> 1 | BQ9: 0 | BR9: =SUM(BN9+BQ9) -> 5 | BS9: 0 | BT9: 5 | BU9: =BS9-BT9 -> -5 | BV9: 5 | BW9: =SUM(BS9+BV9) -> 5 | BX9: 4 | BY9: 10 | BZ9: =BX9-BY9 -> -6 | CA9: 6 | CB9: =SUM(BX9+CA9) -> 10 | CE9: =CC9-CD9 -> 0
A10: 8 | B10: дневна грижа за деца с трайни увреждания | C10: 20 | D10: 30 | E10: =K10+P10+U10+Z10+AE10+AJ10+AO10+AT10+AY10+BD10+BI10+BN10+BS10+BX10+CC10 -> 337 | F10: =L10+Q10+V10+AA10+AF10+AK10+AP10+AU10+AZ10+BE10+BJ10+BO10+BT10+BY10+CD10 -> 198 | G10: =M10+R10+W10+AB10+AG10+AL10+AQ10+AV10+BA10+BF10+BK10+BP10+BU10+BZ10+CE10 -> 139 | H10: =N10+S10+X10+AC10+AH10+AM10+AR10+AW10+BB10+BG10+BL10+BQ10+BV10+CA10+CF10 -> 48 | I10: =SUM(O10+T10+Y10+AD10+AI10+AN10+AS10+AX10+BC10+BH10+BM10+BR10+BW10+CB10) -> 385 | J10: =E10+H10-F10 -> 187 | K10: 20 | L10: 7 | M10: =K10-L10 -> 13 | N10: 0 | O10: =SUM(K10+N10) -> 20 | P10: 25 | Q10: 6 | R10: =P10-Q10 -> 19 | S10: 0 | T10: =SUM(P10+S10) -> 25 | U10: 96 | V10: 43 | W10: =U10-V10 -> 53 | X10: 0 | Y10: =SUM(U10+X10) -> 96 | Z10: 50 | AA10: 21 | AB10: =Z10-AA10 -> 29 | AC10: 0 | AD10: =SUM(Z10+AC10) -> 50 | AE10: 0 | AF10: 12 | AG10: =AE10-AF10 -> -12 | AH10: 12 | AI10: =SUM(AE10+AH10) -> 12 | AJ10: 0 | AK10: 3 | AL10: =AJ10-AK10 -> -3 | AM10: 3 | AN10: =SUM(AJ10+AM10) -> 3 | AO10: 30 | AP10: 36 | AQ10: =AO10-AP10 -> -6 | AR10: 6 | AS10: =SUM(AO10+AR10) -> 36 | AT10: 16 | AU10: 12 | AV10: =AT10-AU10 -> 4 | AW10: 16 | AX10: =SUM(AT10+AW10) -> 32 | AY10: 36 | AZ10: 21 | BA10: =AY10-AZ10 -> 15 | BB10: 0 | BC10: =SUM(AY10+BB10) -> 36 | BD10: 20 | BE10: 11 | BF10: =BD10-BE10 -> 9 | BG10: 0 | BH10: =SUM(BD10+BG10) -> 20 | BI10: 24 | BJ10: 8 | BK10: =BI10-BJ10 -> 16 | BL10: 0 | BM10: =SUM(BI10+BL10) -> 24 | BN10: 0 | BO10: 2 | BP10: =BN10-BO10 -> -2 | BQ10: 2 | BR10: =SUM(BN10+BQ10) -> 2 | BS10: 0 | BT10: 9 | BU10: =BS10-BT10 -> -9 | BV10: 9 | BW10: =SUM(BS10+BV10) -> 9 | BX10: 20 | BY10: 7 | BZ10: =BX10-BY10 -> 13 | CA10: 0 | CB10: =SUM(BX10+CA10) -> 20 | CE10: =CC10-CD10 -> 0
A11: 9 | B11: дневна грижа за пълнолетни лица с трайни увреждания | C11: 20 | D11: 30 | E11: =K11+P11+U11+Z11+AE11+AJ11+AO11+AT11+AY11+BD11+BI11+BN11+BS11+BX11+CC11 -> 257 | F11: =L11+Q11+V11+AA11+AF11+AK11+AP11+AU11+AZ11+BE11+BJ11+BO11+BT11+BY11+CD11 -> 595 | G11: =M11+R11+W11+AB11+AG11+AL11+AQ11+AV11+BA11+BF11+BK11+BP11+BU11+BZ11+CE11 -> -338 | H11: =N11+S11+X11+AC11+AH11+AM11+AR11+AW11+BB11+BG11+BL11+BQ11+BV11+CA11+CF11 -> 374 | I11: =SUM(O11+T11+Y11+AD11+AI11+AN11+AS11+AX11+BC11+BH11+BM11+BR11+BW11+CB11) -> 631 | J11: =E11+H11-F11 -> 36 | K11: 40 | L11: 19 | M11: =K11-L11 -> 21 | N11: 0 | O11: =SUM(K11+N11) -> 40 | P11: 0 | Q11: 17 | R11: =P11-Q11 -> -17 | S11: 20 | T11: =SUM(P11+S11) -> 20 | U11: 45 | V11: 111 | W11: =U11-V11 -> -66 | X11: 66 | Y11: =SUM(U11+X11) -> 111 | Z11: 35 | AA11: 104 | AB11: =Z11-AA11 -> -69 | AC11: 69 | AD11: =SUM(Z11+AC11) -> 104 | AE11: 20 | AF11: 23 | AG11: =AE11-AF11 -> -3 | AH11: 3 | AI11: =SUM(AE11+AH11) -> 23 | AJ11: 25 | AK11: 8 | AL11: =AJ11-AK11 -> 17 | AM11: 0 | AN11: =SUM(AJ11+AM11) -> 25 | AO11: 12 | AP11: 74 | AQ11: =AO11-AP11 -> -62 | AR11: 62 | AS11: =SUM(AO11+AR11) -> 74 | AT11: 20 | AU11: 33 | AV11: =AT11-AU11 -> -13 | AW11: 13 | AX11: =SUM(AT11+AW11) -> 33 | AY11: 35 | AZ11: 90 | BA11: =AY11-AZ11 -> -55 | BB11: 55 | BC11: =SUM(AY11+BB11) -> 90 | BD11: 0 | BE11: 29 | BF11: =BD11-BE11 -> -29 | BG11: 20 | BH11: =SUM(BD11+BG11) -> 20 | BI11: 25 | BJ11: 21 | BK11: =BI11-BJ11 -> 4 | BL11: 0 | BM11: =SUM(BI11+BL11) -> 25 | BN11: 0 | BO11: 16 | BP11: =BN11-BO11 -> -16 | BQ11: 16 | BR11: =SUM(BN11+BQ11) -> 16 | BS11: 0 | BT11: 15 | BU11: =BS11-BT11 -> -15 | BV11: 15 | BW11: =SUM(BS11+BV11) -> 15 | BX11: 0 | BY11: 35 | BZ11: =BX11-BY11 -> -35 | CA11: 35 | CB11: =SUM(BX11+CA11) -> 35 | CE11: =CC11-CD11 -> 0
A12: 10 | B12: осигуряване на подслон за бездомни лица | C12: 10 | D12: 50 | E12: =K12+P12+U12+Z12+AE12+AJ12+AO12+AT12+AY12+BD12+BI12+BN12+BS12+BX12+CC12 -> 10 | F12: =L12+Q12+V12+AA12+AF12+AK12+AP12+AU12+AZ12+BE12+BJ12+BO12+BT12+BY12+CD12 -> 20 | G12: =M12+R12+W12+AB12+AG12+AL12+AQ12+AV12+BA12+BF12+BK12+BP12+BU12+BZ12+CE12 -> -10 | H12: =N12+S12+X12+AC12+AH12+AM12+AR12+AW12+BB12+BG12+BL12+BQ12+BV12+CA12+CF12 -> 16 | I12: =SUM(O12+T12+Y12+AD12+AI12+AN12+AS12+AX12+BC12+BH12+BM12+BR12+BW12+CB12) -> 26 | J12: =E12+H12-F12 -> 6 | K12: 0 | L12: 1 | M12: =K12-L12 -> -1 | N12: 1 | O12: =SUM(K12+N12) -> 1 | P12: 0 | Q12: 1 | R12: =P12-Q12 -> -1 | S12: 0 | T12: =SUM(P12+S12) -> 0 | U12: 10 | V12: 3 | W12: =U12-V12 -> 7 | X12: 0 | Y12: =SUM(U12+X12) -> 10 | Z12: 0 | AA12: 2 | AB12: =Z12-AA12 -> -2 | AC12: 2 | AD12: =SUM(Z12+AC12) -> 2 | AE12: 0 | AF12: 1 | AG12: =AE12-AF12 -> -1 | AH12: 1 | AI12: =SUM(AE12+AH12) -> 1 | AJ12: 0 | AK12: 1 | AL12: =AJ12-AK12 -> -1 | AM12: 1 | AN12: =SUM(AJ12+AM12) -> 1 | AO12: 0 | AP12: 3 | AQ12: =AO12-AP12 -> -3 | AR12: 3 | AS12: =SUM(AO12+AR12) -> 3 | AT12: 0 | AU12: 1 | AV12: =AT12-AU12 -> -1 | AW12: 1 | AX12: =SUM(AT12+AW12) -> 1 | AY12: 0 | AZ12: 2 | BA12: =AY12-AZ12 -> -2 | BB12: 2 | BC12: =SUM(AY12+BB12) -> 2 | BD12: 0 | BE12: 1 | BF12: =BD12-BE12 -> -1 | BG12: 1 | BH12: =SUM(BD12+BG12) -> 1 | BI12: 0 | BJ12: 1 | BK12: =BI12-BJ12 -> -1 | BL12: 1 | BM12: =SUM(BI12+BL12) -> 1 | BN12: 0 | BO12: 1 | BP12: =BN12-BO12 -> -1 | BQ12: 1 | BR12: =SUM(BN12+BQ12) -> 1 | BS12: 0 | BT12: 1 | BU12: =BS12-BT12 -> -1 | BV12: 1 | BW12: =SUM(BS12+BV12) -> 1 | BX12: 0 | BY12: 1 | BZ12: =BX12-BY12 -> -1 | CA12: 1 | CB12: =SUM(BX12+CA12) -> 1 | CE12: =CC12-CD12 -> 0
A13: 11 | B13: асистентска подкрепа | C13: - | D13: - | E13: =K13+P13+U13+Z13+AE13+AJ13+AO13+AT13+AY13+BD13+BI13+BN13+BS13+BX13+CC13 -> 758 | F13: =L13+Q13+V13+AA13+AF13+AK13+AP13+AU13+AZ13+BE13+BJ13+BO13+BT13+BY13+CD13 -> 0 | G13: =M13+R13+W13+AB13+AG13+AL13+AQ13+AV13+BA13+BF13+BK13+BP13+BU13+BZ13+CE13 -> 758 | H13: =N13+S13+X13+AC13+AH13+AM13+AR13+AW13+BB13+BG13+BL13+BQ13+BV13+CA13+CF13 -> 205 | I13: =SUM(O13+T13+Y13+AD13+AI13+AN13+AS13+AX13+BC13+BH13+BM13+BR13+BW13+CB13) -> 963 | J13: =E13+H13-F13 -> 963 | K13: 49 | L13: 0 | M13: =K13-L13 -> 49 | N13: 0 | O13: =SUM(K13+N13) -> 49 | P13: 41 | Q13: 0 | R13: =P13-Q13 -> 41 | S13: 0 | T13: =SUM(P13+S13) -> 41 | U13: 152 | V13: 0 | W13: =U13-V13 -> 152 | X13: 0 | Y13: =SUM(U13+X13) -> 152 | Z13: 58 | AA13: 0 | AB13: =Z13-AA13 -> 58 | AC13: 0 | AD13: =SUM(Z13+AC13) -> 58 | AE13: 27 | AF13: 0 | AG13: =AE13-AF13 -> 27 | AH13: 80 | AI13: =SUM(AE13+AH13) -> 107 | AJ13: 30 | AL13: =AJ13-AK13 -> 30 | AN13: =SUM(AJ13+AM13) -> 30 | AO13: 118 | AP13: 0 | AQ13: =AO13-AP13 -> 118 | AR13: 0 | AS13: =SUM(AO13+AR13) -> 118 | AT13: 45 | AU13: 0 | AV13: =AT13-AU13 -> 45 | AW13: 0 | AX13: =SUM(AT13+AW13) -> 45 | AY13: 100 | AZ13: 0 | BA13: =AY13-AZ13 -> 100 | BB13: 0 | BC13: =SUM(AY13+BB13) -> 100 | BD13: 30 | BE13: 0 | BF13: =BD13-BE13 -> 30 | BG13: 70 | BH13: =SUM(BD13+BG13) -> 100 | BI13: 35 | BJ13: 0 | BK13: =BI13-BJ13 -> 35 | BL13: 0 | BM13: =SUM(BI13+BL13) -> 35 | BN13: 23 | BO13: 0 | BP13: =BN13-BO13 -> 23 | BQ13: 0 | BR13: =SUM(BN13+BQ13) -> 23 | BS13: 25 | BT13: 0 | BU13: =BS13-BT13 -> 25 | BV13: 0 | BW13: =SUM(BS13+BV13) -> 25 | BX13: 25 | BY13: 0 | BZ13: =BX13-BY13 -> 25 | CA13: 55 | CB13: =SUM(BX13+CA13) -> 80 | CE13: =CC13-CD13 -> 0
A14: 12 | B14: резидентна грижа за деца без увреждания | C14: 8 | D14: 12 | E14: =K14+P14+U14+Z14+AE14+AJ14+AO14+AT14+AY14+BD14+BI14+BN14+BS14+BX14+CC14 -> 55 | F14: =L14+Q14+V14+AA14+AF14+AK14+AP14+AU14+AZ14+BE14+BJ14+BO14+BT14+BY14+CD14 -> 57 | G14: =M14+R14+W14+AB14+AG14+AL14+AQ14+AV14+BA14+BF14+BK14+BP14+BU14+BZ14+CE14 -> -2 | H14: =N14+S14+X14+AC14+AH14+AM14+AR14+AW14+BB14+BG14+BL14+BQ14+BV14+CA14+CF14 -> 0 | I14: =SUM(O14+T14+Y14+AD14+AI14+AN14+AS14+AX14+BC14+BH14+BM14+BR14+BW14+CB14) -> 55 | J14: =E14+H14-F14 -> -2 | K14: 0 | L14: 2 | M14: =K14-L14 -> -2 | N14: 0 | O14: =SUM(K14+N14) -> 0 | P14: 0 | Q14: 2 | R14: =P14-Q14 -> -2 | S14: 0 | T14: =SUM(P14+S14) -> 0 | U14: 27 | V14: 12 | W14: =U14-V14 -> 15 | X14: 0 | Y14: =SUM(U14+X14) -> 27 | Z14: 0 | AA14: 7 | AB14: =Z14-AA14 -> -7 | AC14: 0 | AD14: =SUM(Z14+AC14) -> 0 | AE14: 0 | AF14: 4 | AG14: =AE14-AF14 -> -4 | AH14: 0 | AI14: =SUM(AE14+AH14) -> 0 | AJ14: 0 | AK14: 1 | AL14: =AJ14-AK14 -> -1 | AN14: =SUM(AJ14+AM14) -> 0 | AO14: 20 | AP14: 9 | AQ14: =AO14-AP14 -> 11 | AR14: 0 | AS14: =SUM(AO14+AR14) -> 20 | AT14: 8 | AU14: 3 | AV14: =AT14-AU14 -> 5 | AW14: 0 | AX14: =SUM(AT14+AW14) -> 8 | AY14: 0 | AZ14: 6 | BA14: =AY14-AZ14 -> -6 | BB14: 0 | BC14: =SUM(AY14+BB14) -> 0 | BD14: 0 | BE14: 4 | BF14: =BD14-BE14 -> -4 | BG14: 0 | BH14: =SUM(BD14+BG14) -> 0 | BI14: 0 | BJ14: 2 | BK14: =BI14-BJ14 -> -2 | BL14: 0 | BM14: =SUM(BI14+BL14) -> 0 | BN14: 0 | BO14: 1 | BP14: =BN14-BO14 -> -1 | BQ14: 0 | BR14: =SUM(BN14+BQ14) -> 0 | BS14: 0 | BT14: 2 | BU14: =BS14-BT14 -> -2 | BV14: 0 | BW14: =SUM(BS14+BV14) -> 0 | BX14: 0 | BY14: 2 | BZ14: =BX14-BY14 -> -2 | CA14: 0 | CB14: =SUM(BX14+CA14) -> 0 | CE14: =CC14-CD14 -> 0
A15: 13 | B15: резидентна грижа за младежи до 25 г. | C15: 4 | D15: 6 | E15: =K15+P15+U15+Z15+AE15+AJ15+AO15+AT15+AY15+BD15+BI15+BN15+BS15+BX15+CC15 -> 0 | F15: =L15+Q15+V15+AA15+AF15+AK15+AP15+AU15+AZ15+BE15+BJ15+BO15+BT15+BY15+CD15 -> 0 | G15: =M15+R15+W15+AB15+AG15+AL15+AQ15+AV15+BA15+BF15+BK15+BP15+BU15+BZ15+CE15 -> 0 | H15: =N15+S15+X15+AC15+AH15+AM15+AR15+AW15+BB15+BG15+BL15+BQ15+BV15+CA15+CF15 -> 0 | I15: =SUM(O15+T15+Y15+AD15+AI15+AN15+AS15+AX15+BC15+BH15+BM15+BR15+BW15+CB15) -> 0 | J15: =E15+H15-F15 -> 0 | K15: 0 | L15: 0 | M15: =K15-L15 -> 0 | N15: 0 | O15: =SUM(K15+N15) -> 0 | P15: 0 | Q15: 0 | R15: =P15-Q15 -> 0 | S15: 0 | T15: =SUM(P15+S15) -> 0 | U15: 0 | V15: 0 | W15: =U15-V15 -> 0 | X15: 0 | Y15: =SUM(U15+X15) -> 0 | Z15: 0 | AA15: 0 | AB15: =Z15-AA15 -> 0 | AC15: 0 | AD15: =SUM(Z15+AC15) -> 0 | AE15: 0 | AF15: 0 | AG15: =AE15-AF15 -> 0 | AH15: 0 | AI15: =SUM(AE15+AH15) -> 0 | AJ15: 0 | AK15: 0 | AL15: =AJ15-AK15 -> 0 | AM15: 0 | AN15: =SUM(AJ15+AM15) -> 0 | AO15: 0 | AP15: 0 | AQ15: =AO15-AP15 -> 0 | AR15: 0 | AS15: =SUM(AO15+AR15) -> 0 | AT15: 0 | AU15: 0 | AV15: =AT15-AU15 -> 0 | AW15: 0 | AX15: =SUM(AT15+AW15) -> 0 | AY15: 0 | AZ15: 0 | BA15: =AY15-AZ15 -> 0 | BB15: 0 | BC15: =SUM(AY15+BB15) -> 0 | BD15: 0 | BE15: 0 | BF15: =BD15-BE15 -> 0 | BG15: 0 | BH15: =SUM(BD15+BG15) -> 0 | BI15: 0 | BJ15: 0 | BK15: =BI15-BJ15 -> 0 | BL15: 0 | BM15: =SUM(BI15+BL15) -> 0 | BN15: 0 | BO15: 0 | BP15: =BN15-BO15 -> 0 | BQ15: 0 | BR15: =SUM(BN15+BQ15) -> 0 | BS15: 0 | BT15: 0 | BU15: =BS15-BT15 -> 0 | BV15: 0 | BW15: =SUM(BS15+BV15) -> 0 | BX15: 0 | BY15: 0 | BZ15: =BX15-BY15 -> 0 | CA15: 0 | CB15: =SUM(BX15+CA15) -> 0 | CE15: =CC15-CD15 -> 0
A16: 14 | B16: резидентна грижа за деца с трайни увреждания | C16: 8 | D16: 12 | E16: =K16+P16+U16+Z16+AE16+AJ16+AO16+AT16+AY16+BD16+BI16+BN16+BS16+BX16+CC16 -> 71 | F16: =L16+Q16+V16+AA16+AF16+AK16+AP16+AU16+AZ16+BE16+BJ16+BO16+BT16+BY16+CD16 -> 58 | G16: =M16+R16+W16+AB16+AG16+AL16+AQ16+AV16+BA16+BF16+BK16+BP16+BU16+BZ16+CE16 -> 13 | H16: =N16+S16+X16+AC16+AH16+AM16+AR16+AW16+BB16+BG16+BL16+BQ16+BV16+CA16+CF16 -> 0 | I16: =SUM(O16+T16+Y16+AD16+AI16+AN16+AS16+AX16+BC16+BH16+BM16+BR16+BW16+CB16) -> 71 | J16: =E16+H16-F16 -> 13 | K16: 0 | L16: 2 | M16: =K16-L16 -> -2 | N16: 0 | O16: =SUM(K16+N16) -> 0 | P16: 0 | Q16: 2 | R16: =P16-Q16 -> -2 | S16: 0 | T16: =SUM(P16+S16) -> 0 | U16: 42 | V16: 12 | W16: =U16-V16 -> 30 | X16: 0 | Y16: =SUM(U16+X16) -> 42 | Z16: 15 | AA16: 6 | AB16: =Z16-AA16 -> 9 | AC16: 0 | AD16: =SUM(Z16+AC16) -> 15 | AE16: 0 | AF16: 4 | AG16: =AE16-AF16 -> -4 | AH16: 0 | AI16: =SUM(AE16+AH16) -> 0 | AJ16: 0 | AK16: 1 | AL16: =AJ16-AK16 -> -1 | AM16: 0 | AN16: =SUM(AJ16+AM16) -> 0 | AO16: 14 | AP16: 10 | AQ16: =AO16-AP16 -> 4 | AR16: 0 | AS16: =SUM(AO16+AR16) -> 14 | AT16: 0 | AU16: 4 | AV16: =AT16-AU16 -> -4 | AW16: 0 | AX16: =SUM(AT16+AW16) -> 0 | AY16: 0 | AZ16: 6 | BA16: =AY16-AZ16 -> -6 | BB16: 0 | BC16: =SUM(AY16+BB16) -> 0 | BD16: 0 | BE16: 3 | BF16: =BD16-BE16 -> -3 | BG16: 0 | BH16: =SUM(BD16+BG16) -> 0 | BI16: 0 | BJ16: 2 | BK16: =BI16-BJ16 -> -2 | BL16: 0 | BM16: =SUM(BI16+BL16) -> 0 | BN16: 0 | BO16: 1 | BP16: =BN16-BO16 -> -1 | BQ16: 0 | BR16: =SUM(BN16+BQ16) -> 0 | BS16: 0 | BT16: 3 | BU16: =BS16-BT16 -> -3 | BV16: 0 | BW16: =SUM(BS16+BV16) -> 0 | BX16: 0 | BY16: 2 | BZ16: =BX16-BY16 -> -2 | CA16: 0 | CB16: =SUM(BX16+CA16) -> 0 | CE16: =CC16-CD16 -> 0
A17: 15 | B17: резидентна грижа за пълнолетни лица с психични разстройства | C17: 8 | D17: 20 | E17: =K17+P17+U17+Z17+AE17+AJ17+AO17+AT17+AY17+BD17+BI17+BN17+BS17+BX17+CC17 -> 139 | F17: =L17+Q17+V17+AA17+AF17+AK17+AP17+AU17+AZ17+BE17+BJ17+BO17+BT17+BY17+CD17 -> 251 | G17: =M17+R17+W17+AB17+AG17+AL17+AQ17+AV17+BA17+BF17+BK17+BP17+BU17+BZ17+CE17 -> -112 | H17: =N17+S17+X17+AC17+AH17+AM17+AR17+AW17+BB17+BG17+BL17+BQ17+BV17+CA17+CF17 -> 112 | I17: =SUM(O17+T17+Y17+AD17+AI17+AN17+AS17+AX17+BC17+BH17+BM17+BR17+BW17+CB17) -> 251 | J17: =E17+H17-F17 -> 0 | K17: 0 | L17: 9 | M17: =K17-L17 -> -9 | N17: 0 | O17: =SUM(K17+N17) -> 0 | P17: 0 | Q17: 7 | R17: =P17-Q17 -> -7 | S17: 0 | T17: =SUM(P17+S17) -> 0 | U17: 8 | V17: 63 | W17: =U17-V17 -> -55 | X17: 35 | Y17: =SUM(U17+X17) -> 43 | Z17: 15 | AA17: 22 | AB17: =Z17-AA17 -> -7 | AC17: 7 | AD17: =SUM(Z17+AC17) -> 22 | AE17: 0 | AF17: 6 | AG17: =AE17-AF17 -> -6 | AH17: 0 | AI17: =SUM(AE17+AH17) -> 0 | AJ17: 0 | AK17: 4 | AL17: =AJ17-AK17 -> -4 | AM17: 0 | AN17: =SUM(AJ17+AM17) -> 0 | AO17: 0 | AP17: 35 | AQ17: =AO17-AP17 -> -35 | AR17: 35 | AS17: =SUM(AO17+AR17) -> 35 | AT17: 0 | AU17: 11 | AV17: =AT17-AU17 -> -11 | AW17: 0 | AX17: =SUM(AT17+AW17) -> 0 | AY17: 28 | AZ17: 32 | BA17: =AY17-AZ17 -> -4 | BB17: 0 | BC17: =SUM(AY17+BB17) -> 28 | BD17: 0 | BE17: 8 | BF17: =BD17-BE17 -> -8 | BG17: 0 | BH17: =SUM(BD17+BG17) -> 0 | BI17: 18 | BJ17: 14 | BK17: =BI17-BJ17 -> 4 | BL17: 20 | BM17: =SUM(BI17+BL17) -> 38 | BN17: 70 | BO17: 9 | BP17: =BN17-BO17 -> 61 | BQ17: 0 | BR17: =SUM(BN17+BQ17) -> 70 | BS17: 0 | BT17: 5 | BU17: =BS17-BT17 -> -5 | BV17: 0 | BW17: =SUM(BS17+BV17) -> 0 | BX17: 0 | BY17: 26 | BZ17: =BX17-BY17 -> -26 | CA17: 15 | CB17: =SUM(BX17+CA17) -> 15 | CE17: =CC17-CD17 -> 0
A18: 16 | B18: резидентна грижа за пълнолетни лица с интелектуални затруднения | C18: 8 | D18: 30 | E18: =K18+P18+U18+Z18+AE18+AJ18+AO18+AT18+AY18+BD18+BI18+BN18+BS18+BX18+CC18 -> 161 | F18: =L18+Q18+V18+AA18+AF18+AK18+AP18+AU18+AZ18+BE18+BJ18+BO18+BT18+BY18+CD18 -> 434 | G18: =M18+R18+W18+AB18+AG18+AL18+AQ18+AV18+BA18+BF18+BK18+BP18+BU18+BZ18+CE18 -> -273 | H18: =N18+S18+X18+AC18+AH18+AM18+AR18+AW18+BB18+BG18+BL18+BQ18+BV18+CA18+CF18 -> 273 | I18: =SUM(O18+T18+Y18+AD18+AI18+AN18+AS18+AX18+BC18+BH18+BM18+BR18+BW18+CB18) -> 434 | J18: =E18+H18-F18 -> 0 | K18: 31 | L18: 11 | M18: =K18-L18 -> 20 | N18: 0 | O18: =SUM(K18+N18) -> 31 | P18: 0 | Q18: 6 | R18: =P18-Q18 -> -6 | S18: 0 | T18: =SUM(P18+S18) -> 0 | U18: 24 | V18: 267 | W18: =U18-V18 -> -243 | X18: 238 | Y18: =SUM(U18+X18) -> 262 | Z18: 30 | AA18: 20 | AB18: =Z18-AA18 -> 10 | AC18: 0 | AD18: =SUM(Z18+AC18) -> 30 | AE18: 8 | AF18: 6 | AG18: =AE18-AF18 -> 2 | AH18: 0 | AI18: =SUM(AE18+AH18) -> 8 | AJ18: 0 | AK18: 4 | AL18: =AJ18-AK18 -> -4 | AM18: 4 | AN18: =SUM(AJ18+AM18) -> 4 | AO18: 0 | AP18: 26 | AQ18: =AO18-AP18 -> -26 | AR18: 0 | AS18: =SUM(AO18+AR18) -> 0 | AT18: 8 | AU18: 11 | AV18: =AT18-AU18 -> -3 | AW18: 0 | AX18: =SUM(AT18+AW18) -> 8 | AY18: 22 | AZ18: 24 | BA18: =AY18-AZ18 -> -2 | BB18: 16 | BC18: =SUM(AY18+BB18) -> 38 | BD18: 0 | BE18: 18 | BF18: =BD18-BE18 -> -18 | BG18: 0 | BH18: =SUM(BD18+BG18) -> 0 | BI18: 30 | BJ18: 12 | BK18: =BI18-BJ18 -> 18 | BL18: 0 | BM18: =SUM(BI18+BL18) -> 30 | BN18: 8 | BO18: 6 | BP18: =BN18-BO18 -> 2 | BQ18: 0 | BR18: =SUM(BN18+BQ18) -> 8 | BS18: 0 | BT18: 5 | BU18: =BS18-BT18 -> -5 | BV18: 0 | BW18: =SUM(BS18+BV18) -> 0 | BX18: 0 | BY18: 18 | BZ18: =BX18-BY18 -> -18 | CA18: 15 | CB18: =SUM(BX18+CA18) -> 15 | CE18: =CC18-CD18 -> 0
A19: 17 | B19: резидентна грижа за пълнолетни лица с физически увреждания | C19: 8 | D19: 30 | E19: =K19+P19+U19+Z19+AE19+AJ19+AO19+AT19+AY19+BD19+BI19+BN19+BS19+BX19+CC19 -> 25 | F19: =L19+Q19+V19+AA19+AF19+AK19+AP19+AU19+AZ19+BE19+BJ19+BO19+BT19+BY19+CD19 -> 363 | G19: =M19+R19+W19+AB19+AG19+AL19+AQ19+AV19+BA19+BF19+BK19+BP19+BU19+BZ19+CE19 -> -338 | H19: =N19+S19+X19+AC19+AH19+AM19+AR19+AW19+BB19+BG19+BL19+BQ19+BV19+CA19+CF19 -> 338 | I19: =SUM(O19+T19+Y19+AD19+AI19+AN19+AS19+AX19+BC19+BH19+BM19+BR19+BW19+CB19) -> 363 | J19: =E19+H19-F19 -> 0 | K19: 0 | L19: 12 | M19: =K19-L19 -> -12 | N19: 12 | O19: =SUM(K19+N19) -> 12 | P19: 0 | Q19: 6 | R19: =P19-Q19 -> -6 | S19: 6 | T19: =SUM(P19+S19) -> 6 | U19: 0 | V19: 44 | W19: =U19-V19 -> -44 | X19: 44 | Y19: =SUM(U19+X19) -> 44 | Z19: 0 | AA19: 25 | AB19: =Z19-AA19 -> -25 | AC19: 25 | AD19: =SUM(Z19+AC19) -> 25 | AE19: 0 | AF19: 22 | AG19: =AE19-AF19 -> -22 | AH19: 22 | AI19: =SUM(AE19+AH19) -> 22 | AJ19: 0 | AK19: 20 | AL19: =AJ19-AK19 -> -20 | AM19: 20 | AN19: =SUM(AJ19+AM19) -> 20 | AO19: 0 | AP19: 82 | AQ19: =AO19-AP19 -> -82 | AR19: 82 | AS19: =SUM(AO19+AR19) -> 82 | AT19: 10 | AU19: 8 | AV19: =AT19-AU19 -> 2 | AW19: 6 | AX19: =SUM(AT19+AW19) -> 16 | AY19: 0 | AZ19: 34 | BA19: =AY19-AZ19 -> -34 | BB19: 34 | BC19: =SUM(AY19+BB19) -> 34 | BD19: 0 | BE19: 40 | BF19: =BD19-BE19 -> -40 | BG19: 40 | BH19: =SUM(BD19+BG19) -> 40 | BI19: 15 | BJ19: 23 | BK19: =BI19-BJ19 -> -8 | BL19: 8 | BM19: =SUM(BI19+BL19) -> 23 | BN19: 0 | BO19: 7 | BP19: =BN19-BO19 -> -7 | BQ19: 7 | BR19: =SUM(BN19+BQ19) -> 7 | BS19: 0 | BT19: 4 | BU19: =BS19-BT19 -> -4 | BV19: 4 | BW19: =SUM(BS19+BV19) -> 4 | BX19: 0 | BY19: 36 | BZ19: =BX19-BY19 -> -36 | CA19: 28 | CB19: =SUM(BX19+CA19) -> 28 | CE19: =CC19-CD19 -> 0
A20: 18 | B20: резидентна грижа за пълнолетни лица с деменция | C20: 8 | D20: 20 | E20: =K20+P20+U20+Z20+AE20+AJ20+AO20+AT20+AY20+BD20+BI20+BN20+BS20+BX20+CC20 -> 133 | F20: =L20+Q20+V20+AA20+AF20+AK20+AP20+AU20+AZ20+BE20+BJ20+BO20+BT20+BY20+CD20 -> 80 | G20: =M20+R20+W20+AB20+AG20+AL20+AQ20+AV20+BA20+BF20+BK20+BP20+BU20+BZ20+CE20 -> 53 | H20: =N20+S20+X20+AC20+AH20+AM20+AR20+AW20+BB20+BG20+BL20+BQ20+BV20+CA20+CF20 -> 0 | I20: =SUM(O20+T20+Y20+AD20+AI20+AN20+AS20+AX20+BC20+BH20+BM20+BR20+BW20+CB20) -> 133 | J20: =E20+H20-F20 -> 53 | K20: 15 | L20: 3 | M20: =K20-L20 -> 12 | N20: 0 | O20: =SUM(K20+N20) -> 15 | P20: 0 | Q20: 3 | R20: =P20-Q20 -> -3 | S20: 0 | T20: =SUM(P20+S20) -> 0 | U20: 50 | V20: 19 | W20: =U20-V20 -> 31 | X20: 0 | Y20: =SUM(U20+X20) -> 50 | Z20: 30 | AA20: 8 | AB20: =Z20-AA20 -> 22 | AC20: 0 | AD20: =SUM(Z20+AC20) -> 30 | AE20: 0 | AF20: 4 | AG20: =AE20-AF20 -> -4 | AH20: 0 | AI20: =SUM(AE20+AH20) -> 0 | AJ20: 0 | AK20: 2 | AL20: =AJ20-AK20 -> -2 | AM20: 0 | AN20: =SUM(AJ20+AM20) -> 0 | AO20: 0 | AP20: 11 | AQ20: =AO20-AP20 -> -11 | AR20: 0 | AS20: =SUM(AO20+AR20) -> 0 | AT20: 10 | AU20: 5 | AV20: =AT20-AU20 -> 5 | AW20: 0 | AX20: =SUM(AT20+AW20) -> 10 | AY20: 0 | AZ20: 9 | BA20: =AY20-AZ20 -> -9 | BB20: 0 | BC20: =SUM(AY20+BB20) -> 0 | BD20: 0 | BE20: 4 | BF20: =BD20-BE20 -> -4 | BG20: 0 | BH20: =SUM(BD20+BG20) -> 0 | BI20: 28 | BJ20: 3 | BK20: =BI20-BJ20 -> 25 | BL20: 0 | BM20: =SUM(BI20+BL20) -> 28 | BN20: 0 | BO20: 2 | BP20: =BN20-BO20 -> -2 | BQ20: 0 | BR20: =SUM(BN20+BQ20) -> 0 | BS20: 0 | BT20: 3 | BU20: =BS20-BT20 -> -3 | BV20: 0 | BW20: =SUM(BS20+BV20) -> 0 | BX20: 0 | BY20: 4 | BZ20: =BX20-BY20 -> -4 | CA20: 0 | CB20: =SUM(BX20+CA20) -> 0 | CE20: =CC20-CD20 -> 0
A21: 19 | B21: резидентна грижа за пълнолетни лица със сетивни увреждания | C21: 8 | D21: 30 | E21: =K21+P21+U21+Z21+AE21+AJ21+AO21+AT21+AY21+BD21+BI21+BN21+BS21+BX21+CC21 -> 0 | F21: =L21+Q21+V21+AA21+AF21+AK21+AP21+AU21+AZ21+BE21+BJ21+BO21+BT21+BY21+CD21 -> 42 | G21: =M21+R21+W21+AB21+AG21+AL21+AQ21+AV21+BA21+BF21+BK21+BP21+BU21+BZ21+CE21 -> -42 | H21: =N21+S21+X21+AC21+AH21+AM21+AR21+AW21+BB21+BG21+BL21+BQ21+BV21+CA21+CF21 -> 42 | I21: =SUM(O21+T21+Y21+AD21+AI21+AN21+AS21+AX21+BC21+BH21+BM21+BR21+BW21+CB21) -> 42 | J21: =E21+H21-F21 -> 0 | K21: 0 | L21: 1 | M21: =K21-L21 -> -1 | N21: 1 | O21: =SUM(K21+N21) -> 1 | P21: 0 | Q21: 2 | R21: =P21-Q21 -> -2 | S21: 2 | T21: =SUM(P21+S21) -> 2 | U21: 0 | V21: 11 | W21: =U21-V21 -> -11 | X21: 11 | Y21: =SUM(U21+X21) -> 11 | Z21: 0 | AA21: 4 | AB21: =Z21-AA21 -> -4 | AC21: 4 | AD21: =SUM(Z21+AC21) -> 4 | AE21: 0 | AF21: 2 | AG21: =AE21-AF21 -> -2 | AH21: 2 | AI21: =SUM(AE21+AH21) -> 2 | AJ21: 0 | AK21: 1 | AL21: =AJ21-AK21 -> -1 | AM21: 1 | AN21: =SUM(AJ21+AM21) -> 1 | AO21: 0 | AP21: 5 | AQ21: =AO21-AP21 -> -5 | AR21: 5 | AS21: =SUM(AO21+AR21) -> 5 | AT21: 0 | AU21: 2 | AV21: =AT21-AU21 -> -2 | AW21: 2 | AX21: =SUM(AT21+AW21) -> 2 | AY21: 0 | AZ21: 4 | BA21: =AY21-AZ21 -> -4 | BB21: 4 | BC21: =SUM(AY21+BB21) -> 4 | BD21: 0 | BE21: 2 | BF21: =BD21-BE21 -> -2 | BG21: 2 | BH21: =SUM(BD21+BG21) -> 2 | BI21: 0 | BJ21: 2 | BK21: =BI21-BJ21 -> -2 | BL21: 2 | BM21: =SUM(BI21+BL21) -> 2 | BN21: 0 | BO21: 2 | BP21: =BN21-BO21 -> -2 | BQ21: 2 | BR21: =SUM(BN21+BQ21) -> 2 | BS21: 0 | BT21: 1 | BU21: =BS21-BT21 -> -1 | BV21: 1 | BW21: =SUM(BS21+BV21) -> 1 | BX21: 0 | BY21: 3 | BZ21: =BX21-BY21 -> -3 | CA21: 3 | CB21: =SUM(BX21+CA21) -> 3 | CE21: =CC21-CD21 -> 0
A22: 20 | B22: резидентна грижа за лица в надтрудоспособна възраст без увреждания | C22: 15 | D22: 120 | E22: =K22+P22+U22+Z22+AE22+AJ22+AO22+AT22+AY22+BD22+BI22+BN22+BS22+BX22+CC22 -> 141 | F22: =L22+Q22+V22+AA22+AF22+AK22+AP22+AU22+AZ22+BE22+BJ22+BO22+BT22+BY22+CD22 -> 502 | G22: =M22+R22+W22+AB22+AG22+AL22+AQ22+AV22+BA22+BF22+BK22+BP22+BU22+BZ22+CE22 -> -361 | H22: =N22+S22+X22+AC22+AH22+AM22+AR22+AW22+BB22+BG22+BL22+BQ22+BV22+CA22+CF22 -> 361 | I22: =SUM(O22+T22+Y22+AD22+AI22+AN22+AS22+AX22+BC22+BH22+BM22+BR22+BW22+CB22) -> 502 | J22: =E22+H22-F22 -> 0 | K22: 0 | L22: 17 | M22: =K22-L22 -> -17 | N22: 17 | O22: =SUM(K22+N22) -> 17 | P22: 0 | Q22: 13 | R22: =P22-Q22 -> -13 | S22: 15 | T22: =SUM(P22+S22) -> 15 | U22: 87 | V22: 187 | W22: =U22-V22 -> -100 | X22: 100 | Y22: =SUM(U22+X22) -> 187 | Z22: 24 | AA22: 52 | AB22: =Z22-AA22 -> -28 | AC22: 28 | AD22: =SUM(Z22+AC22) -> 52 | AE22: 0 | AF22: 17 | AG22: =AE22-AF22 -> -17 | AH22: 17 | AI22: =SUM(AE22+AH22) -> 17 | AJ22: 0 | AK22: 13 | AL22: =AJ22-AK22 -> -13 | AM22: 13 | AN22: =SUM(AJ22+AM22) -> 13 | AO22: 0 | AP22: 58 | AQ22: =AO22-AP22 -> -58 | AR22: 58 | AS22: =SUM(AO22+AR22) -> 58 | AT22: 30 | AU22: 32 | AV22: =AT22-AU22 -> -2 | AW22: 0 | AX22: =SUM(AT22+AW22) -> 30 | AY22: 0 | AZ22: 50 | BA22: =AY22-AZ22 -> -50 | BB22: 50 | BC22: =SUM(AY22+BB22) -> 50 | BD22: 0 | BE22: 14 | BF22: =BD22-BE22 -> -14 | BG22: 14 | BH22: =SUM(BD22+BG22) -> 14 | BI22: 0 | BJ22: 21 | BK22: =BI22-BJ22 -> -21 | BL22: 21 | BM22: =SUM(BI22+BL22) -> 21 | BN22: 0 | BO22: 9 | BP22: =BN22-BO22 -> -9 | BQ22: 0 | BR22: =SUM(BN22+BQ22) -> 0 | BS22: 0 | BT22: 13 | BU22: =BS22-BT22 -> -13 | BV22: 13 | BW22: =SUM(BS22+BV22) -> 13 | BX22: 0 | BY22: 6 | BZ22: =BX22-BY22 -> -6 | CA22: 15 | CB22: =SUM(BX22+CA22) -> 15 | CE22: =CC22-CD22 -> 0
A23: 21 | B23: интегрирани здравно-социални услуги за резидентна грижа за деца с трайни увреждания с потребност от постоянни медицински грижи | C23: 6 | D23: 9 | E23: =K23+P23+U23+Z23+AE23+AJ23+AO23+AT23+AY23+BD23+BI23+BN23+BS23+BX23+CC23 -> 0 | F23: =L23+Q23+V23+AA23+AF23+AK23+AP23+AU23+AZ23+BE23+BJ23+BO23+BT23+BY23+CD23 -> 20 | G23: =M23+R23+W23+AB23+AG23+AL23+AQ23+AV23+BA23+BF23+BK23+BP23+BU23+BZ23+CE23 -> -20 | H23: =N23+S23+X23+AC23+AH23+AM23+AR23+AW23+BB23+BG23+BL23+BQ23+BV23+CA23+CF23 -> 20 | I23: =SUM(O23+T23+Y23+AD23+AI23+AN23+AS23+AX23+BC23+BH23+BM23+BR23+BW23+CB23) -> 20 | J23: =E23+H23-F23 -> 0 | K23: 0 | L23: 1 | M23: =K23-L23 -> -1 | N23: 1 | O23: =SUM(K23+N23) -> 1 | P23: 0 | Q23: 1 | R23: =P23-Q23 -> -1 | S23: 1 | T23: =SUM(P23+S23) -> 1 | U23: 0 | V23: 3 | W23: =U23-V23 -> -3 | X23: 3 | Y23: =SUM(U23+X23) -> 3 | Z23: 0 | AA23: 2 | AB23: =Z23-AA23 -> -2 | AC23: 2 | AD23: =SUM(Z23+AC23) -> 2 | AE23: 0 | AF23: 1 | AG23: =AE23-AF23 -> -1 | AH23: 1 | AI23: =SUM(AE23+AH23) -> 1 | AJ23: 0 | AK23: 1 | AL23: =AJ23-AK23 -> -1 | AM23: 1 | AN23: =SUM(AJ23+AM23) -> 1 | AO23: 0 | AP23: 3 | AQ23: =AO23-AP23 -> -3 | AR23: 3 | AS23: =SUM(AO23+AR23) -> 3 | AT23: 0 | AU23: 1 | AV23: =AT23-AU23 -> -1 | AW23: 1 | AX23: =SUM(AT23+AW23) -> 1 | AY23: 0 | AZ23: 2 | BA23: =AY23-AZ23 -> -2 | BB23: 2 | BC23: =SUM(AY23+BB23) -> 2 | BD23: 0 | BE23: 1 | BF23: =BD23-BE23 -> -1 | BG23: 1 | BH23: =SUM(BD23+BG23) -> 1 | BI23: 0 | BJ23: 1 | BK23: =BI23-BJ23 -> -1 | BL23: 1 | BM23: =SUM(BI23+BL23) -> 1 | BN23: 0 | BO23: 1 | BP23: =BN23-BO23 -> -1 | BQ23: 1 | BR23: =SUM(BN23+BQ23) -> 1 | BS23: 0 | BT23: 1 | BU23: =BS23-BT23 -> -1 | BV23: 1 | BW23: =SUM(BS23+BV23) -> 1 | BX23: 0 | BY23: 1 | BZ23: =BX23-BY23 -> -1 | CA23: 1 | CB23: =SUM(BX23+CA23) -> 1 | CE23: =CC23-CD23 -> 0
A24: 22 | B24: интегрирани здравно-социални услуги за резидентна грижа за пълнолетни лица с трайни увреждания с потребност от постоянни медицински грижи | C24: 8 | D24: 15 | E24: =K24+P24+U24+Z24+AE24+AJ24+AO24+AT24+AY24+BD24+BI24+BN24+BS24+BX24+CC24 -> 0 | F24: =L24+Q24+V24+AA24+AF24+AK24+AP24+AU24+AZ24+BE24+BJ24+BO24+BT24+BY24+CD24 -> 104 | G24: =M24+R24+W24+AB24+AG24+AL24+AQ24+AV24+BA24+BF24+BK24+BP24+BU24+BZ24+CE24 -> -104 | H24: =N24+S24+X24+AC24+AH24+AM24+AR24+AW24+BB24+BG24+BL24+BQ24+BV24+CA24+CF24 -> 104 | I24: =SUM(O24+T24+Y24+AD24+AI24+AN24+AS24+AX24+BC24+BH24+BM24+BR24+BW24+CB24) -> 104 | J24: =E24+H24-F24 -> 0 | K24: 0 | L24: 3 | M24: =K24-L24 -> -3 | N24: 3 | O24: =SUM(K24+N24) -> 3 | P24: 0 | Q24: 2 | R24: =P24-Q24 -> -2 | S24: 2 | T24: =SUM(P24+S24) -> 2 | U24: 0 | V24: 43 | W24: =U24-V24 -> -43 | X24: 43 | Y24: =SUM(U24+X24) -> 43 | Z24: 0 | AA24: 8 | AB24: =Z24-AA24 -> -8 | AC24: 15 | AD24: =SUM(Z24+AC24) -> 15 | AE24: 0 | AF24: 5 | AG24: =AE24-AF24 -> -5 | AH24: 5 | AI24: =SUM(AE24+AH24) -> 5 | AJ24: 0 | AK24: 2 | AL24: =AJ24-AK24 -> -2 | AM24: 0 | AN24: =SUM(AJ24+AM24) -> 0 | AO24: 0 | AP24: 12 | AQ24: =AO24-AP24 -> -12 | AR24: 12 | AS24: =SUM(AO24+AR24) -> 12 | AT24: 0 | AU24: 6 | AV24: =AT24-AU24 -> -6 | AW24: 6 | AX24: =SUM(AT24+AW24) -> 6 | AY24: 0 | AZ24: 9 | BA24: =AY24-AZ24 -> -9 | BB24: 9 | BC24: =SUM(AY24+BB24) -> 9 | BE24: 3 | BF24: =BD24-BE24 -> -3 | BG24: 3 | BH24: =SUM(BD24+BG24) -> 3 | BJ24: 3 | BK24: =BI24-BJ24 -> -3 | BL24: 0 | BM24: =SUM(BI24+BL24) -> 0 | BO24: 2 | BP24: =BN24-BO24 -> -2 | BQ24: 0 | BR24: =SUM(BN24+BQ24) -> 0 | BS24: 0 | BT24: 3 | BU24: =BS24-BT24 -> -3 | BV24: 3 | BW24: =SUM(BS24+BV24) -> 3 | BX24: 0 | BY24: 3 | BZ24: =BX24-BY24 -> -3 | CA24: 3 | CB24: =SUM(BX24+CA24) -> 3 | CE24: =CC24-CD24 -> 0
A25: 23 | B25: интегрирани здравно-социални услуги за резидентна грижа за възрастни хора в невъзможност за самообслужване с потребност от постоянни медицински грижи | C25: 8 | D25: 15 | E25: =K25+P25+U25+Z25+AE25+AJ25+AO25+AT25+AY25+BD25+BI25+BN25+BS25+BX25+CC25 -> 0 | F25: =L25+Q25+V25+AA25+AF25+AK25+AP25+AU25+AZ25+BE25+BJ25+BO25+BT25+BY25+CD25 -> 82 | G25: =M25+R25+W25+AB25+AG25+AL25+AQ25+AV25+BA25+BF25+BK25+BP25+BU25+BZ25+CE25 -> -82 | H25: =N25+S25+X25+AC25+AH25+AM25+AR25+AW25+BB25+BG25+BL25+BQ25+BV25+CA25+CF25 -> 82 | I25: =SUM(O25+T25+Y25+AD25+AI25+AN25+AS25+AX25+BC25+BH25+BM25+BR25+BW25+CB25) -> 82 | J25: =E25+H25-F25 -> 0 | K25: 0 | L25: 1 | M25: =K25-L25 -> -1 | N25: 1 | O25: =SUM(K25+N25) -> 1 | P25: 0 | Q25: 2 | R25: =P25-Q25 -> -2 | S25: 2 | T25: =SUM(P25+S25) -> 2 | U25: 0 | V25: 19 | W25: =U25-V25 -> -19 | X25: 19 | Y25: =SUM(U25+X25) -> 19 | Z25: 0 | AA25: 6 | AB25: =Z25-AA25 -> -6 | AC25: 6 | AD25: =SUM(Z25+AC25) -> 6 | AE25: 0 | AF25: 2 | AG25: =AE25-AF25 -> -2 | AH25: 2 | AI25: =SUM(AE25+AH25) -> 2 | AJ25: 0 | AK25: 2 | AL25: =AJ25-AK25 -> -2 | AM25: 2 | AN25: =SUM(AJ25+AM25) -> 2 | AO25: 0 | AP25: 3 | AQ25: =AO25-AP25 -> -3 | AR25: 3 | AS25: =SUM(AO25+AR25) -> 3 | AT25: 0 | AU25: 8 | AV25: =AT25-AU25 -> -8 | AW25: 8 | AX25: =SUM(AT25+AW25) -> 8 | AY25: 0 | AZ25: 10 | BA25: =AY25-AZ25 -> -10 | BB25: 10 | BC25: =SUM(AY25+BB25) -> 10 | BE25: 3 | BF25: =BD25-BE25 -> -3 | BG25: 3 | BH25: =SUM(BD25+BG25) -> 3 | BJ25: 5 | BK25: =BI25-BJ25 -> -5 | BL25: 5 | BM25: =SUM(BI25+BL25) -> 5 | BN25: 0 | BO25: 3 | BP25: =BN25-BO25 -> -3 | BQ25: 3 | BR25: =SUM(BN25+BQ25) -> 3 | BS25: 0 | BT25: 2 | BU25: =BS25-BT25 -> -2 | BV25: 2 | BW25: =SUM(BS25+BV25) -> 2 | BX25: 0 | BY25: 16 | BZ25: =BX25-BY25 -> -16 | CA25: 16 | CB25: =SUM(BX25+CA25) -> 16 | CE25: =CC25-CD25 -> 0
A26: 24 | B26: осигуряване на подслон за деца в кризисна ситуация /в светлата част/ | C26: 15 | D26: 30 | E26: =K26+P26+U26+Z26+AE26+AJ26+AO26+AT26+AY26+BD26+BI26+BN26+BS26+BX26+CC26 -> 0 | F26: =L26+Q26+V26+AA26+AF26+AK26+AP26+AU26+AZ26+BE26+BJ26+BO26+BT26+BY26+CD26 -> 0 | G26: =M26+R26+W26+AB26+AG26+AL26+AQ26+AV26+BA26+BF26+BK26+BP26+BU26+BZ26+CE26 -> 0 | H26: =N26+S26+X26+AC26+AH26+AM26+AR26+AW26+BB26+BG26+BL26+BQ26+BV26+CA26+CF26 -> 0 | I26: =SUM(O26+T26+Y26+AD26+AI26+AN26+AS26+AX26+BC26+BH26+BM26+BR26+BW26+CB26) -> 0 | J26: =E26+H26-F26 -> 0 | K26: 0 | L26: 0 | M26: =K26-L26 -> 0 | N26: 0 | O26: =SUM(K26+N26) -> 0 | P26: 0 | Q26: 0 | R26: =P26-Q26 -> 0 | S26: 0 | T26: =SUM(P26+S26) -> 0 | U26: 0 | V26: 0 | W26: 0 | X26: 0 | Y26: =SUM(U26+X26) -> 0 | Z26: 0 | AA26: 0 | AB26: =Z26-AA26 -> 0 | AC26: 0 | AD26: =SUM(Z26+AC26) -> 0 | AE26: 0 | AF26: 0 | AG26: =AE26-AF26 -> 0 | AH26: 0 | AI26: =SUM(AE26+AH26) -> 0 | AJ26: 0 | AK26: 0 | AL26: =AJ26-AK26 -> 0 | AM26: 0 | AN26: =SUM(AJ26+AM26) -> 0 | AO26: 0 | AP26: 0 | AQ26: =AO26-AP26 -> 0 | AR26: 0 | AS26: =SUM(AO26+AR26) -> 0 | AT26: 0 | AU26: 0 | AV26: =AT26-AU26 -> 0 | AW26: 0 | AX26: =SUM(AT26+AW26) -> 0 | AY26: 0 | AZ26: 0 | BA26: =AY26-AZ26 -> 0 | BB26: 0 | BC26: =SUM(AY26+BB26) -> 0 | BD26: 0 | BE26: 0 | BF26: =BD26-BE26 -> 0 | BG26: 0 | BH26: =SUM(BD26+BG26) -> 0 | BI26: 0 | BJ26: 0 | BK26: =BI26-BJ26 -> 0 | BL26: 0 | BM26: =SUM(BI26+BL26) -> 0 | BN26: 0 | BO26: 0 | BP26: =BN26-BO26 -> 0 | BQ26: 0 | BR26: =SUM(BN26+BQ26) -> 0 | BS26: 0 | BT26: 0 | BU26: =BS26-BT26 -> 0 | BV26: 0 | BW26: =SUM(BS26+BV26) -> 0 | BX26: 0 | BY26: 0 | BZ26: =BX26-BY26 -> 0 | CA26: 0 | CB26: =SUM(BX26+CA26) -> 0 | CE26: =CC26-CD26 -> 0
A27: 25 | B27: осигуряване на подслон за лица в кризисна ситуация | C27: 10 | D27: 15 | E27: =K27+P27+U27+Z27+AE27+AJ27+AO27+AT27+AY27+BD27+BI27+BN27+BS27+BX27+CC27 -> 0 | F27: =L27+Q27+V27+AA27+AF27+AK27+AP27+AU27+AZ27+BE27+BJ27+BO27+BT27+BY27+CD27 -> 28 | G27: =M27+R27+W27+AB27+AG27+AL27+AQ27+AV27+BA27+BF27+BK27+BP27+BU27+BZ27+CE27 -> -28 | H27: =N27+S27+X27+AC27+AH27+AM27+AR27+AW27+BB27+BG27+BL27+BQ27+BV27+CA27+CF27 -> 28 | I27: =SUM(O27+T27+Y27+AD27+AI27+AN27+AS27+AX27+BC27+BH27+BM27+BR27+BW27+CB27) -> 28 | J27: =E27+H27-F27 -> 0 | K27: 0 | L27: 1 | M27: =K27-L27 -> -1 | N27: 1 | O27: =SUM(K27+N27) -> 1 | P27: 0 | Q27: 1 | R27: =P27-Q27 -> -1 | S27: 1 | T27: =SUM(P27+S27) -> 1 | U27: 0 | V27: 5 | W27: =U27-V27 -> -5 | X27: 5 | Y27: =SUM(U27+X27) -> 5 | Z27: 0 | AA27: 3 | AB27: =Z27-AA27 -> -3 | AC27: 3 | AD27: =SUM(Z27+AC27) -> 3 | AE27: 0 | AF27: 2 | AG27: =AE27-AF27 -> -2 | AH27: 2 | AI27: =SUM(AE27+AH27) -> 2 | AJ27: 0 | AK27: 1 | AL27: =AJ27-AK27 -> -1 | AM27: 1 | AN27: =SUM(AJ27+AM27) -> 1 | AO27: 0 | AP27: 4 | AQ27: =AO27-AP27 -> -4 | AR27: 4 | AS27: =SUM(AO27+AR27) -> 4 | AT27: 0 | AU27: 2 | AV27: =AT27-AU27 -> -2 | AW27: 2 | AX27: =SUM(AT27+AW27) -> 2 | AY27: 0 | AZ27: 3 | BA27: =AY27-AZ27 -> -3 | BB27: 3 | BC27: =SUM(AY27+BB27) -> 3 | BD27: 0 | BE27: 2 | BF27: =BD27-BE27 -> -2 | BG27: 2 | BH27: =SUM(BD27+BG27) -> 2 | BI27: 0 | BJ27: 1 | BK27: =BI27-BJ27 -> -1 | BL27: 1 | BM27: =SUM(BI27+BL27) -> 1 | BN27: 0 | BO27: 1 | BP27: =BN27-BO27 -> -1 | BQ27: 1 | BR27: =SUM(BN27+BQ27) -> 1 | BS27: 0 | BT27: 1 | BU27: =BS27-BT27 -> -1 | BV27: 1 | BW27: =SUM(BS27+BV27) -> 1 | BX27: 0 | BY27: 1 | BZ27: =BX27-BY27 -> -1 | CA27: 1 | CB27: =SUM(BX27+CA27) -> 1 | CE27: =CC27-CD27 -> 0
A28: 26 | B28: осигуряване на подслон за лица в кризисна ситуация-бременни и майки с деца до 3г. | C28: 4 | D28: 6 | E28: =K28+P28+U28+Z28+AE28+AJ28+AO28+AT28+AY28+BD28+BI28+BN28+BS28+BX28+CC28 -> 0 | F28: =L28+Q28+V28+AA28+AF28+AK28+AP28+AU28+AZ28+BE28+BJ28+BO28+BT28+BY28+CD28 -> 0 | G28: =M28+R28+W28+AB28+AG28+AL28+AQ28+AV28+BA28+BF28+BK28+BP28+BU28+BZ28+CE28 -> 0 | H28: =N28+S28+X28+AC28+AH28+AM28+AR28+AW28+BB28+BG28+BL28+BQ28+BV28+CA28+CF28 -> 0 | I28: =SUM(O28+T28+Y28+AD28+AI28+AN28+AS28+AX28+BC28+BH28+BM28+BR28+BW28+CB28) -> 0 | J28: =E28+H28-F28 -> 0 | K28: 0 | L28: 0 | M28: 0 | N28: 0 | O28: =SUM(K28+N28) -> 0 | P28: 0 | Q28: 0 | R28: =P28-Q28 -> 0 | S28: 0 | T28: =SUM(P28+S28) -> 0 | U28: 0 | V28: 0 | W28: =U28-V28 -> 0 | X28: 0 | Y28: =SUM(U28+X28) -> 0 | Z28: 0 | AA28: 0 | AB28: =Z28-AA28 -> 0 | AC28: 0 | AD28: =SUM(Z28+AC28) -> 0 | AE28: 0 | AF28: 0 | AG28: =AE28-AF28 -> 0 | AH28: 0 | AI28: =SUM(AE28+AH28) -> 0 | AJ28: 0 | AK28: 0 | AL28: =AJ28-AK28 -> 0 | AN28: =SUM(AJ28+AM28) -> 0 | AO28: 0 | AP28: 0 | AQ28: =AO28-AP28 -> 0 | AS28: =SUM(AO28+AR28) -> 0 | AT28: 0 | AU28: 0 | AV28: =AT28-AU28 -> 0 | AW28: 0 | AX28: =SUM(AT28+AW28) -> 0 | AY28: 0 | AZ28: 0 | BA28: =AY28-AZ28 -> 0 | BB28: 0 | BC28: =SUM(AY28+BB28) -> 0 | BD28: 0 | BE28: 0 | BF28: =BD28-BE28 -> 0 | BG28: 0 | BH28: =SUM(BD28+BG28) -> 0 | BI28: 0 | BJ28: 0 | BK28: =BI28-BJ28 -> 0 | BL28: 0 | BM28: =SUM(BI28+BL28) -> 0 | BN28: 0 | BO28: 0 | BP28: =BN28-BO28 -> 0 | BQ28: 0 | BR28: =SUM(BN28+BQ28) -> 0 | BS28: 0 | BT28: 0 | BU28: =BS28-BT28 -> 0 | BV28: 0 | BW28: =SUM(BS28+BV28) -> 0 | BX28: 0 | BY28: 0 | BZ28: =BX28-BY28 -> 0 | CA28: 0 | CB28: =SUM(BX28+CA28) -> 0 | CE28: =CC28-CD28 -> 0
A29: 27 | B29: осигуряване на подслон за деца, пострадали от домашно насилие и деца, жертви на трафик | C29: 6 | D29: 10 | E29: =K29+P29+U29+Z29+AE29+AJ29+AO29+AT29+AY29+BD29+BI29+BN29+BS29+BX29+CC29 -> 10 | F29: =L29+Q29+V29+AA29+AF29+AK29+AP29+AU29+AZ29+BE29+BJ29+BO29+BT29+BY29+CD29 -> 28 | G29: =M29+R29+W29+AB29+AG29+AL29+AQ29+AV29+BA29+BF29+BK29+BP29+BU29+BZ29+CE29 -> -18 | H29: =N29+S29+X29+AC29+AH29+AM29+AR29+AW29+BB29+BG29+BL29+BQ29+BV29+CA29+CF29 -> 18 | I29: =SUM(O29+T29+Y29+AD29+AI29+AN29+AS29+AX29+BC29+BH29+BM29+BR29+BW29+CB29) -> 28 | J29: =E29+H29-F29 -> 0 | K29: 0 | L29: 1 | M29: =K29-L29 -> -1 | N29: 0 | O29: =SUM(K29+N29) -> 0 | P29: 0 | Q29: 1 | R29: =P29-Q29 -> -1 | S29: 0 | T29: =SUM(P29+S29) -> 0 | U29: 0 | V29: 5 | W29: =U29-V29 -> -5 | X29: 8 | Y29: =SUM(U29+X29) -> 8 | Z29: 10 | AA29: 3 | AB29: =Z29-AA29 -> 7 | AC29: 10 | AD29: =SUM(Z29+AC29) -> 20 | AE29: 0 | AF29: 2 | AG29: =AE29-AF29 -> -2 | AH29: 0 | AI29: =SUM(AE29+AH29) -> 0 | AJ29: 0 | AK29: 1 | AL29: =AJ29-AK29 -> -1 | AM29: 0 | AN29: =SUM(AJ29+AM29) -> 0 | AO29: 0 | AP29: 4 | AQ29: =AO29-AP29 -> -4 | AR29: 0 | AS29: =SUM(AO29+AR29) -> 0 | AT29: 0 | AU29: 2 | AV29: =AT29-AU29 -> -2 | AW29: 0 | AX29: =SUM(AT29+AW29) -> 0 | AY29: 0 | AZ29: 3 | BA29: =AY29-AZ29 -> -3 | BB29: 0 | BC29: =SUM(AY29+BB29) -> 0 | BD29: 0 | BE29: 2 | BF29: =BD29-BE29 -> -2 | BG29: 0 | BH29: =SUM(BD29+BG29) -> 0 | BI29: 0 | BJ29: 1 | BK29: =BI29-BJ29 -> -1 | BL29: 0 | BM29: =SUM(BI29+BL29) -> 0 | BN29: 0 | BO29: 1 | BP29: =BN29-BO29 -> -1 | BQ29: 0 | BR29: =SUM(BN29+BQ29) -> 0 | BS29: 0 | BT29: 1 | BU29: =BS29-BT29 -> -1 | BV29: 0 | BW29: =SUM(BS29+BV29) -> 0 | BX29: 0 | BY29: 1 | BZ29: =BX29-BY29 -> -1 | CA29: 0 | CB29: =SUM(BX29+CA29) -> 0 | CE29: =CC29-CD29 -> 0
A30: 28 | B30: осигуряване на подслон за пълнолетни лица, пострадали от домашно насилие и лица жертви на трафик | C30: 6 | D30: 10 | E30: =K30+P30+U30+Z30+AE30+AJ30+AO30+AT30+AY30+BD30+BI30+BN30+BS30+BX30+CC30 -> 0 | F30: =L30+Q30+V30+AA30+AF30+AK30+AP30+AU30+AZ30+BE30+BJ30+BO30+BT30+BY30+CD30 -> 33 | G30: =M30+R30+W30+AB30+AG30+AL30+AQ30+AV30+BA30+BF30+BK30+BP30+BU30+BZ30+CE30 -> -33 | H30: =N30+S30+X30+AC30+AH30+AM30+AR30+AW30+BB30+BG30+BL30+BQ30+BV30+CA30+CF30 -> 33 | I30: =SUM(O30+T30+Y30+AD30+AI30+AN30+AS30+AX30+BC30+BH30+BM30+BR30+BW30+CB30) -> 33 | J30: =E30+H30-F30 -> 0 | K30: 0 | L30: 2 | M30: =K30-L30 -> -2 | N30: 2 | O30: =SUM(K30+N30) -> 2 | P30: 0 | Q30: 1 | R30: =P30-Q30 -> -1 | S30: 1 | T30: =SUM(P30+S30) -> 1 | U30: 0 | V30: 6 | W30: =U30-V30 -> -6 | X30: 6 | Y30: =SUM(U30+X30) -> 6 | Z30: 0 | AA30: 3 | AB30: =Z30-AA30 -> -3 | AC30: 3 | AD30: =SUM(Z30+AC30) -> 3 | AE30: 0 | AF30: 2 | AG30: =AE30-AF30 -> -2 | AH30: 2 | AI30: =SUM(AE30+AH30) -> 2 | AJ30: 0 | AK30: 1 | AL30: =AJ30-AK30 -> -1 | AM30: 1 | AN30: =SUM(AJ30+AM30) -> 1 | AO30: 0 | AP30: 5 | AQ30: =AO30-AP30 -> -5 | AR30: 5 | AS30: =SUM(AO30+AR30) -> 5 | AT30: 0 | AU30: 2 | AV30: =AT30-AU30 -> -2 | AW30: 2 | AX30: =SUM(AT30+AW30) -> 2 | AY30: 0 | AZ30: 4 | BA30: =AY30-AZ30 -> -4 | BB30: 4 | BC30: =SUM(AY30+BB30) -> 4 | BD30: 0 | BE30: 2 | BF30: =BD30-BE30 -> -2 | BG30: 2 | BH30: =SUM(BD30+BG30) -> 2 | BI30: 0 | BJ30: 2 | BK30: =BI30-BJ30 -> -2 | BL30: 2 | BM30: =SUM(BI30+BL30) -> 2 | BN30: 0 | BO30: 1 | BP30: =BN30-BO30 -> -1 | BQ30: 1 | BR30: =SUM(BN30+BQ30) -> 1 | BS30: 0 | BT30: 1 | BU30: =BS30-BT30 -> -1 | BV30: 1 | BW30: =SUM(BS30+BV30) -> 1 | BX30: 0 | BY30: 1 | BZ30: =BX30-BY30 -> -1 | CA30: 1 | CB30: =SUM(BX30+CA30) -> 1 | CE30: =CC30-CD30 -> 0

Sheet Област Бургас
A1: КАРТА ОБЛАСТ | E1: ОБЛАСТ БУРГАС | J1: Разпределени +/- | K1: Община Айтос | P1: Община Бургас | U1: Община Камено | Z1: Община Карнобат | AE1: Община Малко Търново | AJ1: Община Несебър | AO1: Община Поморие | AT1: Община Приморско | AY1: Община Руен | BD1: Община Созопол | BI1: Община Средец | BN1: Община Сунгурларе | BS1: Община Царево | BX1: Община 14 | CB1: Община 15
A2: № | B2: Дейност по Чл. 15 от ЗСУ | C2: min | D2: max | E2: СУ | F2: П5 | G2: Р | H2: П | I2: K | K2: СУ | L2: П5 | M2: Р | N2: П | O2: K | P2: СУ | Q2: П5 | R2: Р | S2: П | T2: K | U2: СУ | V2: П5 | W2: Р | X2: П | Y2: K | Z2: СУ | AA2: П5 | AB2: Р | AC2: П | AD2: K | AE2: СУ | AF2: П5 | AG2: Р | AH2: П | AI2: K | AJ2: СУ | AK2: П5 | AL2: Р | AM2: П | AN2: K | AO2: СУ | AP2: П5 | AQ2: Р | AR2: П | AS2: K | AT2: СУ | AU2: П5 | AV2: Р | AW2: П | AX2: K | AY2: СУ | AZ2: П5 | BA2: Р | BB2: П | BC2: K | BD2: СУ | BE2: П5 | BF2: Р | BG2: П | BH2: K | BI2: СУ | BJ2: П5 | BK2: Р | BL2: П | BM2: K | BN2: СУ | BO2: П5 | BP2: Р | BQ2: П | BR2: K | BS2: СУ | BT2: П5 | BU2: Р | BV2: П | BW2: K | BX2: СУ | BY2: П5 | BZ2: Р | CA2: П | CB2: СУ | CC2: П5 | CD2: Р | CE2: П
A3: 1 | B3: информиране, консултиране и обучение за реализиране на социални права и за развиване на умения (като общодостъпна услуга) | C3: 10 | D3: 40 | E3: =K3+P3+U3+Z3+AE3+AJ3+AO3+AT3+AY3+BD3+BI3+BN3+BS3+BX3+CB3 -> 0 | F3: =L3+Q3+V3+AA3+AF3+AK3+AP3+AU3+AZ3+BE3+BJ3+BO3+BT3+BY3+CC3 -> 140 | G3: =M3+R3+W3+AB3+AG3+AL3+AQ3+AV3+BA3+BF3+BK3+BP3+BU3+BZ3+CD3 -> -140 | H3: =N3+S3+X3+AC3+AH3+AM3+AR3+AW3+BB3+BG3+BL3+BQ3+BV3+CA3+CE3 -> 140 | I3: =SUM(O3+T3+Y3+AD3+AI3+AN3+AS3+AX3+BC3+BH3+BM3+BR3+BW3) -> 140 | J3: =E3+H3-F3 -> 0 | K3: 0 | L3: 10 | M3: =K3-L3 -> -10 | N3: 10 | O3: =SUM(K3+N3) -> 10 | P3: 0 | Q3: 66 | R3: =P3-Q3 -> -66 | S3: 66 | T3: =SUM(P3+S3) -> 66 | U3: 0 | V3: 4 | W3: =U3-V3 -> -4 | X3: 4 | Y3: =SUM(U3+X3) -> 4 | Z3: 0 | AA3: 8 | AB3: =Z3-AA3 -> -8 | AC3: 8 | AD3: =SUM(Z3+AC3) -> 8 | AE3: 0 | AF3: 2 | AG3: =AE3-AF3 -> -2 | AH3: 2 | AI3: =SUM(AE3+AH3) -> 2 | AJ3: 0 | AK3: 10 | AL3: =AJ3-AK3 -> -10 | AM3: 10 | AN3: =SUM(AJ3+AM3) -> 10 | AO3: 0 | AP3: 9 | AQ3: =AO3-AP3 -> -9 | AR3: 9 | AS3: =SUM(AO3+AR3) -> 9 | AT3: 0 | AU3: 2 | AV3: =AT3-AU3 -> -2 | AW3: 2 | AX3: =SUM(AT3+AW3) -> 2 | AY3: 0 | AZ3: 12 | BA3: =AY3-AZ3 -> -12 | BB3: 12 | BC3: =SUM(AY3+BB3) -> 12 | BD3: 0 | BE3: 5 | BF3: =BD3-BE3 -> -5 | BG3: 5 | BH3: =SUM(BD3+BG3) -> 5 | BI3: 0 | BJ3: 5 | BK3: =BI3-BJ3 -> -5 | BL3: 5 | BM3: =SUM(BI3+BL3) -> 5 | BN3: 0 | BO3: 4 | BP3: =BN3-BO3 -> -4 | BQ3: 4 | BR3: =SUM(BN3+BQ3) -> 4 | BS3: 0 | BT3: 3 | BU3: =BS3-BT3 -> -3 | BV3: 3 | BW3: =SUM(BS3+BV3) -> 3 | BZ3: =BX3-BY3 -> 0 | CD3: =CB3-CC3 -> 0
A4: 2 | B4: мобилна превантивна общностна работа( като общодостъпна услуга) | C4: - | D4: - | E4: =K4+P4+U4+Z4+AE4+AJ4+AO4+AT4+AY4+BD4+BI4+BN4+BS4+BX4+CB4 -> 0 | F4: =L4+Q4+V4+AA4+AF4+AK4+AP4+AU4+AZ4+BE4+BJ4+BO4+BT4+BY4+CC4 -> 197 | G4: =M4+R4+W4+AB4+AG4+AL4+AQ4+AV4+BA4+BF4+BK4+BP4+BU4+BZ4+CD4 -> -197 | H4: =N4+S4+X4+AC4+AH4+AM4+AR4+AW4+BB4+BG4+BL4+BQ4+BV4+CA4+CE4 -> 197 | I4: =SUM(O4+T4+Y4+AD4+AI4+AN4+AS4+AX4+BC4+BH4+BM4+BR4+BW4) -> 197 | J4: =E4+H4-F4 -> 0 | K4: 0 | L4: 14 | M4: =K4-L4 -> -14 | N4: 14 | O4: =SUM(K4+N4) -> 14 | P4: 0 | Q4: 92 | R4: =P4-Q4 -> -92 | S4: 92 | T4: =SUM(P4+S4) -> 92 | U4: 0 | V4: 6 | W4: =U4-V4 -> -6 | X4: 6 | Y4: =SUM(U4+X4) -> 6 | Z4: 0 | AA4: 11 | AB4: =Z4-AA4 -> -11 | AC4: 11 | AD4: =SUM(Z4+AC4) -> 11 | AE4: 0 | AF4: 2 | AG4: =AE4-AF4 -> -2 | AH4: 2 | AI4: =SUM(AE4+AH4) -> 2 | AJ4: 0 | AK4: 14 | AL4: =AJ4-AK4 -> -14 | AM4: 14 | AN4: =SUM(AJ4+AM4) -> 14 | AO4: 0 | AP4: 13 | AQ4: =AO4-AP4 -> -13 | AR4: 13 | AS4: =SUM(AO4+AR4) -> 13 | AT4: 0 | AU4: 3 | AV4: =AT4-AU4 -> -3 | AW4: 3 | AX4: =SUM(AT4+AW4) -> 3 | AY4: 0 | AZ4: 17 | BA4: =AY4-AZ4 -> -17 | BB4: 17 | BC4: =SUM(AY4+BB4) -> 17 | BD4: 0 | BE4: 7 | BF4: =BD4-BE4 -> -7 | BG4: 7 | BH4: =SUM(BD4+BG4) -> 7 | BI4: 0 | BJ4: 7 | BK4: =BI4-BJ4 -> -7 | BL4: 7 | BM4: =SUM(BI4+BL4) -> 7 | BN4: 0 | BO4: 6 | BP4: =BN4-BO4 -> -6 | BQ4: 6 | BR4: =SUM(BN4+BQ4) -> 6 | BS4: 0 | BT4: 5 | BU4: =BS4-BT4 -> -5 | BV4: 5 | BW4: =SUM(BS4+BV4) -> 5 | BZ4: =BX4-BY4 -> 0 | CD4: =CB4-CC4 -> 0
A5: 3 | B5: информиране и консултиране (специализирана) | C5: 4 | D5: 35 | E5: =K5+P5+U5+Z5+AE5+AJ5+AO5+AT5+AY5+BD5+BI5+BN5+BS5+BX5+CB5 -> 309 | F5: =L5+Q5+V5+AA5+AF5+AK5+AP5+AU5+AZ5+BE5+BJ5+BO5+BT5+BY5+CC5 -> 581 | G5: =M5+R5+W5+AB5+AG5+AL5+AQ5+AV5+BA5+BF5+BK5+BP5+BU5+BZ5+CD5 -> -272 | H5: =N5+S5+X5+AC5+AH5+AM5+AR5+AW5+BB5+BG5+BL5+BQ5+BV5+CA5+CE5 -> 288 | I5: =SUM(O5+T5+Y5+AD5+AI5+AN5+AS5+AX5+BC5+BH5+BM5+BR5+BW5) -> 597 | J5: =E5+H5-F5 -> 16 | K5: 17 | L5: 45 | M5: =K5-L5 -> -28 | N5: 28 | O5: =SUM(K5+N5) -> 45 | P5: 162 | Q5: 285 | R5: =P5-Q5 -> -123 | S5: 123 | T5: =SUM(P5+S5) -> 285 | U5: 6 | V5: 14 | W5: =U5-V5 -> -8 | X5: 8 | Y5: =SUM(U5+X5) -> 14 | Z5: 32 | AA5: 32 | AB5: =Z5-AA5 -> 0 | AC5: 0 | AD5: =SUM(Z5+AC5) -> 32 | AE5: 12 | AF5: 4 | AG5: =AE5-AF5 -> 8 | AH5: 0 | AI5: =SUM(AE5+AH5) -> 12 | AJ5: 5 | AK5: 38 | AL5: =AJ5-AK5 -> -33 | AM5: 33 | AN5: =SUM(AJ5+AM5) -> 38 | AO5: 17 | AP5: 35 | AQ5: =AO5-AP5 -> -18 | AR5: 18 | AS5: =SUM(AO5+AR5) -> 35 | AT5: 0 | AU5: 8 | AV5: =AT5-AU5 -> -8 | AW5: 8 | AX5: =SUM(AT5+AW5) -> 8 | AY5: 0 | AZ5: 55 | BA5: =AY5-AZ5 -> -55 | BB5: 55 | BC5: =SUM(AY5+BB5) -> 55 | BD5: 15 | BE5: 18 | BF5: =BD5-BE5 -> -3 | BG5: 3 | BH5: =SUM(BD5+BG5) -> 18 | BI5: 29 | BJ5: 21 | BK5: =BI5-BJ5 -> 8 | BL5: 0 | BM5: =SUM(BI5+BL5) -> 29 | BN5: 14 | BO5: 14 | BP5: =BN5-BO5 -> 0 | BQ5: 0 | BR5: =SUM(BN5+BQ5) -> 14 | BS5: 0 | BT5: 12 | BU5: =BS5-BT5 -> -12 | BV5: 12 | BW5: =SUM(BS5+BV5) -> 12 | BZ5: =BX5-BY5 -> 0 | CD5: =CB5-CC5 -> 0
A6: 4 | B6: застъпничество и посредничество | C6: 8 | D6: 25 | E6: =K6+P6+U6+Z6+AE6+AJ6+AO6+AT6+AY6+BD6+BI6+BN6+BS6+BX6+CB6 -> 306 | F6: =L6+Q6+V6+AA6+AF6+AK6+AP6+AU6+AZ6+BE6+BJ6+BO6+BT6+BY6+CC6 -> 405 | G6: =M6+R6+W6+AB6+AG6+AL6+AQ6+AV6+BA6+BF6+BK6+BP6+BU6+BZ6+CD6 -> -99 | H6: =N6+S6+X6+AC6+AH6+AM6+AR6+AW6+BB6+BG6+BL6+BQ6+BV6+CA6+CE6 -> 122 | I6: =SUM(O6+T6+Y6+AD6+AI6+AN6+AS6+AX6+BC6+BH6+BM6+BR6+BW6) -> 428 | J6: =E6+H6-F6 -> 23 | K6: 17 | L6: 29 | M6: =K6-L6 -> -12 | N6: 12 | O6: =SUM(K6+N6) -> 29 | P6: 172 | Q6: 193 | R6: =P6-Q6 -> -21 | S6: 21 | T6: =SUM(P6+S6) -> 193 | U6: 9 | V6: 12 | W6: =U6-V6 -> -3 | X6: 3 | Y6: =SUM(U6+X6) -> 12 | Z6: 28 | AA6: 23 | AB6: =Z6-AA6 -> 5 | AC6: 0 | AD6: =SUM(Z6+AC6) -> 28 | AE6: 8 | AF6: 4 | AG6: =AE6-AF6 -> 4 | AH6: 0 | AI6: =SUM(AE6+AH6) -> 8 | AJ6: 8 | AK6: 28 | AL6: =AJ6-AK6 -> -20 | AM6: 20 | AN6: =SUM(AJ6+AM6) -> 28 | AO6: 19 | AP6: 26 | AQ6: =AO6-AP6 -> -7 | AR6: 7 | AS6: =SUM(AO6+AR6) -> 26 | AT6: 0 | AU6: 6 | AV6: =AT6-AU6 -> -6 | AW6: 6 | AX6: =SUM(AT6+AW6) -> 6 | AY6: 0 | AZ6: 36 | BA6: =AY6-AZ6 -> -36 | BB6: 36 | BC6: =SUM(AY6+BB6) -> 36 | BD6: 15 | BE6: 14 | BF6: =BD6-BE6 -> 1 | BG6: 0 | BH6: =SUM(BD6+BG6) -> 15 | BI6: 27 | BJ6: 14 | BK6: =BI6-BJ6 -> 13 | BL6: 0 | BM6: =SUM(BI6+BL6) -> 27 | BN6: 3 | BO6: 11 | BP6: =BN6-BO6 -> -8 | BQ6: 8 | BR6: =SUM(BN6+BQ6) -> 11 | BS6: 0 | BT6: 9 | BU6: =BS6-BT6 -> -9 | BV6: 9 | BW6: =SUM(BS6+BV6) -> 9 | BZ6: =BX6-BY6 -> 0 | CD6: =CB6-CC6 -> 0
A7: 5 | B7: терапия и рехабилитация | C7: 20 | D7: 50 | E7: =K7+P7+U7+Z7+AE7+AJ7+AO7+AT7+AY7+BD7+BI7+BN7+BS7+BX7+CB7 -> 360 | F7: =L7+Q7+V7+AA7+AF7+AK7+AP7+AU7+AZ7+BE7+BJ7+BO7+BT7+BY7+CC7 -> 714 | G7: =M7+R7+W7+AB7+AG7+AL7+AQ7+AV7+BA7+BF7+BK7+BP7+BU7+BZ7+CD7 -> -354 | H7: =N7+S7+X7+AC7+AH7+AM7+AR7+AW7+BB7+BG7+BL7+BQ7+BV7+CA7+CE7 -> 391 | I7: =SUM(O7+T7+Y7+AD7+AI7+AN7+AS7+AX7+BC7+BH7+BM7+BR7+BW7) -> 751 | J7: =E7+H7-F7 -> 37 | K7: 24 | L7: 53 | M7: =K7-L7 -> -29 | N7: 29 | O7: =SUM(K7+N7) -> 53 | P7: 168 | Q7: 349 | R7: =P7-Q7 -> -181 | S7: 181 | T7: =SUM(P7+S7) -> 349 | U7: 8 | V7: 19 | W7: =U7-V7 -> -11 | X7: 11 | Y7: =SUM(U7+X7) -> 19 | Z7: 53 | AA7: 39 | AB7: =Z7-AA7 -> 14 | AC7: 0 | AD7: =SUM(Z7+AC7) -> 53 | AE7: 21 | AF7: 6 | AG7: =AE7-AF7 -> 15 | AH7: 0 | AI7: =SUM(AE7+AH7) -> 21 | AJ7: 6 | AK7: 45 | AL7: =AJ7-AK7 -> -39 | AM7: 39 | AN7: =SUM(AJ7+AM7) -> 45 | AO7: 21 | AP7: 43 | AQ7: =AO7-AP7 -> -22 | AR7: 22 | AS7: =SUM(AO7+AR7) -> 43 | AT7: 0 | AU7: 10 | AV7: =AT7-AU7 -> -10 | AW7: 10 | AX7: =SUM(AT7+AW7) -> 10 | AY7: 0 | AZ7: 69 | BA7: =AY7-AZ7 -> -69 | BB7: 69 | BC7: =SUM(AY7+BB7) -> 69 | BD7: 28 | BE7: 22 | BF7: =BD7-BE7 -> 6 | BG7: 0 | BH7: =SUM(BD7+BG7) -> 28 | BI7: 29 | BJ7: 27 | BK7: =BI7-BJ7 -> 2 | BL7: 0 | BM7: =SUM(BI7+BL7) -> 29 | BN7: 2 | BO7: 18 | BP7: =BN7-BO7 -> -16 | BQ7: 16 | BR7: =SUM(BN7+BQ7) -> 18 | BS7: 0 | BT7: 14 | BU7: =BS7-BT7 -> -14 | BV7: 14 | BW7: =SUM(BS7+BV7) -> 14 | BZ7: =BX7-BY7 -> 0 | CD7: =CB7-CC7 -> 0
A8: 6 | B8: обучение за придобиване на умения | C8: 8 | D8: 35 | E8: =K8+P8+U8+Z8+AE8+AJ8+AO8+AT8+AY8+BD8+BI8+BN8+BS8+BX8+CB8 -> 393 | F8: =L8+Q8+V8+AA8+AF8+AK8+AP8+AU8+AZ8+BE8+BJ8+BO8+BT8+BY8+CC8 -> 492 | G8: =M8+R8+W8+AB8+AG8+AL8+AQ8+AV8+BA8+BF8+BK8+BP8+BU8+BZ8+CD8 -> -99 | H8: =N8+S8+X8+AC8+AH8+AM8+AR8+AW8+BB8+BG8+BL8+BQ8+BV8+CA8+CE8 -> 155 | I8: =SUM(O8+T8+Y8+AD8+AI8+AN8+AS8+AX8+BC8+BH8+BM8+BR8+BW8) -> 548 | J8: =E8+H8-F8 -> 56 | K8: 22 | L8: 38 | M8: =K8-L8 -> -16 | N8: 16 | O8: =SUM(K8+N8) -> 38 | P8: 197 | Q8: 234 | R8: =P8-Q8 -> -37 | S8: 37 | T8: =SUM(P8+S8) -> 234 | U8: 9 | V8: 14 | W8: =U8-V8 -> -5 | X8: 5 | Y8: =SUM(U8+X8) -> 14 | Z8: 46 | AA8: 27 | AB8: =Z8-AA8 -> 19 | AC8: 0 | AD8: =SUM(Z8+AC8) -> 46 | AE8: 17 | AF8: 4 | AG8: =AE8-AF8 -> 13 | AH8: 0 | AI8: =SUM(AE8+AH8) -> 17 | AJ8: 8 | AK8: 32 | AL8: =AJ8-AK8 -> -24 | AM8: 24 | AN8: =SUM(AJ8+AM8) -> 32 | AO8: 28 | AP8: 31 | AQ8: =AO8-AP8 -> -3 | AR8: 3 | AS8: =SUM(AO8+AR8) -> 31 | AT8: 0 | AU8: 8 | AV8: =AT8-AU8 -> -8 | AW8: 8 | AX8: =SUM(AT8+AW8) -> 8 | AY8: 0 | AZ8: 49 | BA8: =AY8-AZ8 -> -49 | BB8: 49 | BC8: =SUM(AY8+BB8) -> 49 | BD8: 22 | BE8: 15 | BF8: =BD8-BE8 -> 7 | BG8: 0 | BH8: =SUM(BD8+BG8) -> 22 | BI8: 34 | BJ8: 17 | BK8: =BI8-BJ8 -> 17 | BL8: 0 | BM8: =SUM(BI8+BL8) -> 34 | BN8: 10 | BO8: 13 | BP8: =BN8-BO8 -> -3 | BQ8: 3 | BR8: =SUM(BN8+BQ8) -> 13 | BS8: 0 | BT8: 10 | BU8: =BS8-BT8 -> -10 | BV8: 10 | BW8: =SUM(BS8+BV8) -> 10 | BZ8: =BX8-BY8 -> 0 | CD8: =CB8-CC8 -> 0
A9: 7 | B9: подкрепа за придобиване на трудови умения | C9: 8 | D9: 30 | E9: =K9+P9+U9+Z9+AE9+AJ9+AO9+AT9+AY9+BD9+BI9+BN9+BS9+BX9+CB9 -> 171 | F9: =L9+Q9+V9+AA9+AF9+AK9+AP9+AU9+AZ9+BE9+BJ9+BO9+BT9+BY9+CC9 -> 213 | G9: =M9+R9+W9+AB9+AG9+AL9+AQ9+AV9+BA9+BF9+BK9+BP9+BU9+BZ9+CD9 -> -42 | H9: =N9+S9+X9+AC9+AH9+AM9+AR9+AW9+BB9+BG9+BL9+BQ9+BV9+CA9+CE9 -> 71 | I9: =SUM(O9+T9+Y9+AD9+AI9+AN9+AS9+AX9+BC9+BH9+BM9+BR9+BW9) -> 242 | J9: =E9+H9-F9 -> 29 | K9: 9 | L9: 16 | M9: =K9-L9 -> -7 | N9: 7 | O9: =SUM(K9+N9) -> 16 | P9: 105 | Q9: 101 | R9: =P9-Q9 -> 4 | S9: 0 | T9: =SUM(P9+S9) -> 105 | U9: 0 | V9: 7 | W9: =U9-V9 -> -7 | X9: 7 | Y9: =SUM(U9+X9) -> 7 | Z9: 24 | AA9: 12 | AB9: =Z9-AA9 -> 12 | AC9: 0 | AD9: =SUM(Z9+AC9) -> 24 | AE9: 11 | AF9: 2 | AG9: =AE9-AF9 -> 9 | AH9: 0 | AI9: =SUM(AE9+AH9) -> 11 | AJ9: 0 | AK9: 14 | AL9: =AJ9-AK9 -> -14 | AM9: 14 | AN9: =SUM(AJ9+AM9) -> 14 | AO9: 6 | AP9: 13 | AQ9: =AO9-AP9 -> -7 | AR9: 7 | AS9: =SUM(AO9+AR9) -> 13 | AT9: 0 | AU9: 4 | AV9: =AT9-AU9 -> -4 | AW9: 4 | AX9: =SUM(AT9+AW9) -> 4 | AY9: 0 | AZ9: 16 | BA9: =AY9-AZ9 -> -16 | BB9: 16 | BC9: =SUM(AY9+BB9) -> 16 | BD9: 12 | BE9: 8 | BF9: =BD9-BE9 -> 4 | BG9: 0 | BH9: =SUM(BD9+BG9) -> 12 | BI9: 4 | BJ9: 9 | BK9: =BI9-BJ9 -> -5 | BL9: 5 | BM9: =SUM(BI9+BL9) -> 9 | BN9: 0 | BO9: 6 | BP9: =BN9-BO9 -> -6 | BQ9: 6 | BR9: =SUM(BN9+BQ9) -> 6 | BS9: 0 | BT9: 5 | BU9: =BS9-BT9 -> -5 | BV9: 5 | BW9: =SUM(BS9+BV9) -> 5 | BZ9: =BX9-BY9 -> 0 | CD9: =CB9-CC9 -> 0
A10: 8 | B10: дневна грижа за деца с трайни увреждания | C10: 20 | D10: 30 | E10: =K10+P10+U10+Z10+AE10+AJ10+AO10+AT10+AY10+BD10+BI10+BN10+BS10+BX10+CB10 -> 159 | F10: =L10+Q10+V10+AA10+AF10+AK10+AP10+AU10+AZ10+BE10+BJ10+BO10+BT10+BY10+CC10 -> 275 | G10: =M10+R10+W10+AB10+AG10+AL10+AQ10+AV10+BA10+BF10+BK10+BP10+BU10+BZ10+CD10 -> -116 | H10: =N10+S10+X10+AC10+AH10+AM10+AR10+AW10+BB10+BG10+BL10+BQ10+BV10+CA10+CE10 -> 142 | I10: =SUM(O10+T10+Y10+AD10+AI10+AN10+AS10+AX10+BC10+BH10+BM10+BR10+BW10) -> 301 | J10: =E10+H10-F10 -> 26 | K10: 15 | L10: 21 | M10: =K10-L10 -> -6 | N10: 6 | O10: =SUM(K10+N10) -> 21 | P10: 84 | Q10: 135 | R10: =P10-Q10 -> -51 | S10: 51 | T10: =SUM(P10+S10) -> 135 | U10: 0 | V10: 7 | W10: =U10-V10 -> -7 | X10: 7 | Y10: =SUM(U10+X10) -> 7 | Z10: 30 | AA10: 14 | AB10: =Z10-AA10 -> 16 | AC10: 0 | AD10: =SUM(Z10+AC10) -> 30 | AE10: 0 | AF10: 2 | AG10: =AE10-AF10 -> -2 | AH10: 2 | AI10: =SUM(AE10+AH10) -> 2 | AJ10: 0 | AK10: 17 | AL10: =AJ10-AK10 -> -17 | AM10: 17 | AN10: =SUM(AJ10+AM10) -> 17 | AO10: 0 | AP10: 15 | AQ10: =AO10-AP10 -> -15 | AR10: 15 | AS10: =SUM(AO10+AR10) -> 15 | AT10: 0 | AU10: 3 | AV10: =AT10-AU10 -> -3 | AW10: 3 | AX10: =SUM(AT10+AW10) -> 3 | AY10: 0 | AZ10: 31 | BA10: =AY10-AZ10 -> -31 | BB10: 30 | BC10: =SUM(AY10+BB10) -> 30 | BD10: 10 | BE10: 8 | BF10: =BD10-BE10 -> 2 | BG10: 0 | BH10: =SUM(BD10+BG10) -> 10 | BI10: 20 | BJ10: 11 | BK10: =BI10-BJ10 -> 9 | BL10: 0 | BM10: =SUM(BI10+BL10) -> 20 | BN10: 0 | BO10: 6 | BP10: =BN10-BO10 -> -6 | BQ10: 6 | BR10: =SUM(BN10+BQ10) -> 6 | BS10: 0 | BT10: 5 | BU10: =BS10-BT10 -> -5 | BV10: 5 | BW10: =SUM(BS10+BV10) -> 5 | BZ10: =BX10-BY10 -> 0 | CD10: =CB10-CC10 -> 0
A11: 9 | B11: дневна грижа за пълнолетни лица с трайни увреждания | C11: 20 | D11: 30 | E11: =K11+P11+U11+Z11+AE11+AJ11+AO11+AT11+AY11+BD11+BI11+BN11+BS11+BX11+CB11 -> 115 | F11: =L11+Q11+V11+AA11+AF11+AK11+AP11+AU11+AZ11+BE11+BJ11+BO11+BT11+BY11+CC11 -> 622 | G11: =M11+R11+W11+AB11+AG11+AL11+AQ11+AV11+BA11+BF11+BK11+BP11+BU11+BZ11+CD11 -> -507 | H11: =N11+S11+X11+AC11+AH11+AM11+AR11+AW11+BB11+BG11+BL11+BQ11+BV11+CA11+CE11 -> 526 | I11: =SUM(O11+T11+Y11+AD11+AI11+AN11+AS11+AX11+BC11+BH11+BM11+BR11+BW11) -> 641 | J11: =E11+H11-F11 -> 19 | K11: 30 | L11: 43 | M11: =K11-L11 -> -13 | N11: 13 | O11: =SUM(K11+N11) -> 43 | P11: 60 | Q11: 303 | R11: =P11-Q11 -> -243 | S11: 243 | T11: =SUM(P11+S11) -> 303 | U11: 0 | V11: 16 | W11: =U11-V11 -> -16 | X11: 16 | Y11: =SUM(U11+X11) -> 16 | Z11: 0 | AA11: 35 | AB11: =Z11-AA11 -> -35 | AC11: 35 | AD11: =SUM(Z11+AC11) -> 35 | AE11: 25 | AF11: 6 | AG11: =AE11-AF11 -> 19 | AH11: 0 | AI11: =SUM(AE11+AH11) -> 25 | AJ11: 0 | AK11: 49 | AL11: =AJ11-AK11 -> -49 | AM11: 49 | AN11: =SUM(AJ11+AM11) -> 49 | AO11: 0 | AP11: 39 | AQ11: =AO11-AP11 -> -39 | AR11: 39 | AS11: =SUM(AO11+AR11) -> 39 | AT11: 0 | AU11: 11 | AV11: =AT11-AU11 -> -11 | AW11: 11 | AX11: =SUM(AT11+AW11) -> 11 | AY11: 0 | AZ11: 46 | BA11: =AY11-AZ11 -> -46 | BB11: 46 | BC11: =SUM(AY11+BB11) -> 46 | BD11: 0 | BE11: 22 | BF11: =BD11-BE11 -> -22 | BG11: 22 | BH11: =SUM(BD11+BG11) -> 22 | BI11: 0 | BJ11: 21 | BK11: =BI11-BJ11 -> -21 | BL11: 21 | BM11: =SUM(BI11+BL11) -> 21 | BN11: 0 | BO11: 18 | BP11: =BN11-BO11 -> -18 | BQ11: 18 | BR11: =SUM(BN11+BQ11) -> 18 | BS11: 0 | BT11: 13 | BU11: =BS11-BT11 -> -13 | BV11: 13 | BW11: =SUM(BS11+BV11) -> 13 | BZ11: =BX11-BY11 -> 0 | CD11: =CB11-CC11 -> 0
A12: 10 | B12: осигуряване на подслон за бездомни лица | C12: 10 | D12: 50 | E12: =K12+P12+U12+Z12+AE12+AJ12+AO12+AT12+AY12+BD12+BI12+BN12+BS12+BX12+CB12 -> 30 | F12: =L12+Q12+V12+AA12+AF12+AK12+AP12+AU12+AZ12+BE12+BJ12+BO12+BT12+BY12+CC12 -> 28 | G12: =M12+R12+W12+AB12+AG12+AL12+AQ12+AV12+BA12+BF12+BK12+BP12+BU12+BZ12+CD12 -> 2 | H12: =N12+S12+X12+AC12+AH12+AM12+AR12+AW12+BB12+BG12+BL12+BQ12+BV12+CA12+CE12 -> 14 | I12: =SUM(O12+T12+Y12+AD12+AI12+AN12+AS12+AX12+BC12+BH12+BM12+BR12+BW12) -> 44 | J12: =E12+H12-F12 -> 16 | K12: 0 | L12: 2 | M12: =K12-L12 -> -2 | N12: 2 | O12: =SUM(K12+N12) -> 2 | P12: 30 | Q12: 11 | R12: =P12-Q12 -> 19 | S12: 0 | T12: =SUM(P12+S12) -> 30 | U12: 0 | V12: 1 | W12: =U12-V12 -> -1 | X12: 1 | Y12: =SUM(U12+X12) -> 1 | Z12: 0 | AA12: 2 | AB12: =Z12-AA12 -> -2 | AC12: 0 | AD12: =SUM(Z12+AC12) -> 0 | AE12: 0 | AF12: 1 | AG12: =AE12-AF12 -> -1 | AH12: 1 | AI12: =SUM(AE12+AH12) -> 1 | AJ12: 0 | AK12: 2 | AL12: =AJ12-AK12 -> -2 | AM12: 2 | AN12: =SUM(AJ12+AM12) -> 2 | AO12: 0 | AP12: 2 | AQ12: =AO12-AP12 -> -2 | AR12: 2 | AS12: =SUM(AO12+AR12) -> 2 | AT12: 0 | AU12: 1 | AV12: =AT12-AU12 -> -1 | AW12: 1 | AX12: =SUM(AT12+AW12) -> 1 | AY12: 0 | AZ12: 2 | BA12: =AY12-AZ12 -> -2 | BB12: 2 | BC12: =SUM(AY12+BB12) -> 2 | BD12: 0 | BE12: 1 | BF12: =BD12-BE12 -> -1 | BG12: 0 | BH12: =SUM(BD12+BG12) -> 0 | BI12: 0 | BJ12: 1 | BK12: =BI12-BJ12 -> -1 | BL12: 1 | BM12: =SUM(BI12+BL12) -> 1 | BN12: 0 | BO12: 1 | BP12: =BN12-BO12 -> -1 | BQ12: 1 | BR12: =SUM(BN12+BQ12) -> 1 | BS12: 0 | BT12: 1 | BU12: =BS12-BT12 -> -1 | BV12: 1 | BW12: =SUM(BS12+BV12) -> 1 | BZ12: =BX12-BY12 -> 0 | CD12: =CB12-CC12 -> 0
A13: 11 | B13: асистентска подкрепа | C13: - | D13: - | E13: =K13+P13+U13+Z13+AE13+AJ13+AO13+AT13+AY13+BD13+BI13+BN13+BS13+BX13+CB13 -> 910 | F13: =L13+Q13+V13+AA13+AF13+AK13+AP13+AU13+AZ13+BE13+BJ13+BO13+BT13+BY13+CC13 -> 0 | G13: =M13+R13+W13+AB13+AG13+AL13+AQ13+AV13+BA13+BF13+BK13+BP13+BU13+BZ13+CD13 -> 910 | H13: =N13+S13+X13+AC13+AH13+AM13+AR13+AW13+BB13+BG13+BL13+BQ13+BV13+CA13+CE13 -> 94 | I13: =SUM(O13+T13+Y13+AD13+AI13+AN13+AS13+AX13+BC13+BH13+BM13+BR13+BW13) -> 1004 | J13: =E13+H13-F13 -> 1004 | K13: 53 | L13: 0 | M13: =K13-L13 -> 53 | N13: 0 | O13: =SUM(K13+N13) -> 53 | P13: 355 | Q13: 0 | R13: =P13-Q13 -> 355 | S13: 50 | T13: =SUM(P13+S13) -> 405 | U13: 27 | V13: 0 | W13: =U13-V13 -> 27 | X13: 0 | Y13: =SUM(U13+X13) -> 27 | Z13: 61 | AA13: 0 | AB13: =Z13-AA13 -> 61 | AC13: 9 | AD13: =SUM(Z13+AC13) -> 70 | AE13: 15 | AF13: 0 | AG13: =AE13-AF13 -> 15 | AH13: 0 | AI13: =SUM(AE13+AH13) -> 15 | AJ13: 46 | AK13: 0 | AL13: =AJ13-AK13 -> 46 | AM13: 0 | AN13: =SUM(AJ13+AM13) -> 46 | AO13: 53 | AP13: 0 | AQ13: =AO13-AP13 -> 53 | AR13: 0 | AS13: =SUM(AO13+AR13) -> 53 | AT13: 14 | AU13: 0 | AV13: =AT13-AU13 -> 14 | AW13: 0 | AX13: =SUM(AT13+AW13) -> 14 | AY13: 85 | AZ13: 0 | BA13: =AY13-AZ13 -> 85 | BB13: 15 | BC13: =SUM(AY13+BB13) -> 100 | BD13: 100 | BE13: 0 | BF13: =BD13-BE13 -> 100 | BG13: 0 | BH13: =SUM(BD13+BG13) -> 100 | BI13: 43 | BJ13: 0 | BK13: =BI13-BJ13 -> 43 | BL13: 12 | BM13: =SUM(BI13+BL13) -> 55 | BN13: 36 | BO13: 0 | BP13: =BN13-BO13 -> 36 | BQ13: 0 | BR13: =SUM(BN13+BQ13) -> 36 | BS13: 22 | BT13: 0 | BU13: =BS13-BT13 -> 22 | BV13: 8 | BW13: =SUM(BS13+BV13) -> 30 | BZ13: =BX13-BY13 -> 0 | CD13: =CB13-CC13 -> 0
A14: 12 | B14: резидентна грижа за деца без увреждания | C14: 8 | D14: 12 | E14: =K14+P14+U14+Z14+AE14+AJ14+AO14+AT14+AY14+BD14+BI14+BN14+BS14+BX14+CB14 -> 113 | F14: =L14+Q14+V14+AA14+AF14+AK14+AP14+AU14+AZ14+BE14+BJ14+BO14+BT14+BY14+CC14 -> 72 | G14: =M14+R14+W14+AB14+AG14+AL14+AQ14+AV14+BA14+BF14+BK14+BP14+BU14+BZ14+CD14 -> 41 | H14: =N14+S14+X14+AC14+AH14+AM14+AR14+AW14+BB14+BG14+BL14+BQ14+BV14+CA14+CE14 -> 0 | I14: =SUM(O14+T14+Y14+AD14+AI14+AN14+AS14+AX14+BC14+BH14+BM14+BR14+BW14) -> 113 | J14: =E14+H14-F14 -> 41 | K14: 0 | L14: 7 | M14: =K14-L14 -> -7 | N14: 0 | O14: =SUM(K14+N14) -> 0 | P14: 67 | Q14: 28 | R14: =P14-Q14 -> 39 | S14: 0 | T14: =SUM(P14+S14) -> 67 | U14: 0 | V14: 3 | W14: =U14-V14 -> -3 | X14: 0 | Y14: =SUM(U14+X14) -> 0 | Z14: 0 | AA14: 4 | AB14: =Z14-AA14 -> -4 | AC14: 0 | AD14: =SUM(Z14+AC14) -> 0 | AE14: 0 | AF14: 1 | AG14: =AE14-AF14 -> -1 | AH14: 0 | AI14: =SUM(AE14+AH14) -> 0 | AJ14: 0 | AK14: 5 | AL14: =AJ14-AK14 -> -5 | AM14: 0 | AN14: =SUM(AJ14+AM14) -> 0 | AO14: 20 | AP14: 5 | AQ14: =AO14-AP14 -> 15 | AR14: 0 | AS14: =SUM(AO14+AR14) -> 20 | AT14: 0 | AU14: 1 | AV14: =AT14-AU14 -> -1 | AW14: 0 | AX14: =SUM(AT14+AW14) -> 0 | AY14: 0 | AZ14: 9 | BA14: =AY14-AZ14 -> -9 | BB14: 0 | BC14: =SUM(AY14+BB14) -> 0 | BD14: 0 | BE14: 2 | BF14: =BD14-BE14 -> -2 | BG14: 0 | BH14: =SUM(BD14+BG14) -> 0 | BI14: 26 | BJ14: 3 | BK14: =BI14-BJ14 -> 23 | BL14: 0 | BM14: =SUM(BI14+BL14) -> 26 | BN14: 0 | BO14: 2 | BP14: =BN14-BO14 -> -2 | BQ14: 0 | BR14: =SUM(BN14+BQ14) -> 0 | BS14: 0 | BT14: 2 | BU14: =BS14-BT14 -> -2 | BV14: 0 | BW14: =SUM(BS14+BV14) -> 0 | BZ14: =BX14-BY14 -> 0 | CD14: =CB14-CC14 -> 0
A15: 13 | B15: резидентна грижа за младежи до 25 г. | C15: 4 | D15: 6 | E15: =K15+P15+U15+Z15+AE15+AJ15+AO15+AT15+AY15+BD15+BI15+BN15+BS15+BX15+CB15 -> 0 | F15: =L15+Q15+V15+AA15+AF15+AK15+AP15+AU15+AZ15+BE15+BJ15+BO15+BT15+BY15+CC15 -> 0 | G15: =M15+R15+W15+AB15+AG15+AL15+AQ15+AV15+BA15+BF15+BK15+BP15+BU15+BZ15+CD15 -> 0 | H15: =N15+S15+X15+AC15+AH15+AM15+AR15+AW15+BB15+BG15+BL15+BQ15+BV15+CA15+CE15 -> 0 | I15: =SUM(O15+T15+Y15+AD15+AI15+AN15+AS15+AX15+BC15+BH15+BM15+BR15+BW15) -> 0 | J15: =E15+H15-F15 -> 0 | K15: 0 | L15: 0 | M15: =K15-L15 -> 0 | N15: 0 | O15: =SUM(K15+N15) -> 0 | P15: 0 | Q15: 0 | R15: =P15-Q15 -> 0 | S15: 0 | T15: =SUM(P15+S15) -> 0 | U15: 0 | V15: 0 | W15: =U15-V15 -> 0 | X15: 0 | Y15: =SUM(U15+X15) -> 0 | Z15: 0 | AA15: 0 | AB15: =Z15-AA15 -> 0 | AC15: 0 | AD15: =SUM(Z15+AC15) -> 0 | AE15: 0 | AG15: =AE15-AF15 -> 0 | AH15: 0 | AI15: =SUM(AE15+AH15) -> 0 | AJ15: 0 | AK15: 0 | AL15: =AJ15-AK15 -> 0 | AM15: 0 | AN15: =SUM(AJ15+AM15) -> 0 | AO15: 0 | AP15: 0 | AQ15: =AO15-AP15 -> 0 | AR15: 0 | AS15: =SUM(AO15+AR15) -> 0 | AT15: 0 | AU15: 0 | AV15: =AT15-AU15 -> 0 | AW15: 0 | AX15: =SUM(AT15+AW15) -> 0 | AY15: 0 | AZ15: 0 | BA15: =AY15-AZ15 -> 0 | BB15: 0 | BC15: =SUM(AY15+BB15) -> 0 | BD15: 0 | BE15: 0 | BF15: =BD15-BE15 -> 0 | BG15: 0 | BH15: =SUM(BD15+BG15) -> 0 | BI15: 0 | BJ15: 0 | BK15: =BI15-BJ15 -> 0 | BL15: 0 | BM15: =SUM(BI15+BL15) -> 0 | BN15: 0 | BO15: 0 | BP15: =BN15-BO15 -> 0 | BQ15: 0 | BR15: =SUM(BN15+BQ15) -> 0 | BS15: 0 | BT15: 0 | BU15: =BS15-BT15 -> 0 | BV15: 0 | BW15: =SUM(BS15+BV15) -> 0 | BZ15: =BX15-BY15 -> 0 | CD15: =CB15-CC15 -> 0
A16: 14 | B16: резидентна грижа за деца с трайни увреждания | C16: 8 | D16: 12 | E16: =K16+P16+U16+Z16+AE16+AJ16+AO16+AT16+AY16+BD16+BI16+BN16+BS16+BX16+CB16 -> 112 | F16: =L16+Q16+V16+AA16+AF16+AK16+AP16+AU16+AZ16+BE16+BJ16+BO16+BT16+BY16+CC16 -> 78 | G16: =M16+R16+W16+AB16+AG16+AL16+AQ16+AV16+BA16+BF16+BK16+BP16+BU16+BZ16+CD16 -> 34 | H16: =N16+S16+X16+AC16+AH16+AM16+AR16+AW16+BB16+BG16+BL16+BQ16+BV16+CA16+CE16 -> 0 | I16: =SUM(O16+T16+Y16+AD16+AI16+AN16+AS16+AX16+BC16+BH16+BM16+BR16+BW16) -> 112 | J16: =E16+H16-F16 -> 34 | K16: 0 | L16: 6 | M16: =K16-L16 -> -6 | N16: 0 | O16: =SUM(K16+N16) -> 0 | P16: 56 | Q16: 37 | R16: =P16-Q16 -> 19 | S16: 0 | T16: =SUM(P16+S16) -> 56 | U16: 0 | V16: 2 | W16: =U16-V16 -> -2 | X16: 0 | Y16: =SUM(U16+X16) -> 0 | Z16: 28 | AA16: 4 | AB16: =Z16-AA16 -> 24 | AC16: 0 | AD16: =SUM(Z16+AC16) -> 28 | AE16: 0 | AF16: 1 | AG16: =AE16-AF16 -> -1 | AH16: 0 | AI16: =SUM(AE16+AH16) -> 0 | AJ16: 0 | AK16: 5 | AL16: =AJ16-AK16 -> -5 | AM16: 0 | AN16: =SUM(AJ16+AM16) -> 0 | AO16: 14 | AP16: 4 | AQ16: =AO16-AP16 -> 10 | AR16: 0 | AS16: =SUM(AO16+AR16) -> 14 | AT16: 0 | AU16: 1 | AV16: =AT16-AU16 -> -1 | AW16: 0 | AX16: =SUM(AT16+AW16) -> 0 | AY16: 0 | AZ16: 9 | BA16: =AY16-AZ16 -> -9 | BB16: 0 | BC16: =SUM(AY16+BB16) -> 0 | BD16: 14 | BE16: 2 | BF16: =BD16-BE16 -> 12 | BG16: 0 | BH16: =SUM(BD16+BG16) -> 14 | BI16: 0 | BJ16: 3 | BK16: =BI16-BJ16 -> -3 | BL16: 0 | BM16: =SUM(BI16+BL16) -> 0 | BN16: 0 | BO16: 2 | BP16: =BN16-BO16 -> -2 | BQ16: 0 | BR16: =SUM(BN16+BQ16) -> 0 | BS16: 0 | BT16: 2 | BU16: =BS16-BT16 -> -2 | BV16: 0 | BW16: =SUM(BS16+BV16) -> 0 | BZ16: =BX16-BY16 -> 0 | CD16: =CB16-CC16 -> 0
A17: 15 | B17: резидентна грижа за пълнолетни лица с психични разстройства | C17: 8 | D17: 20 | E17: =K17+P17+U17+Z17+AE17+AJ17+AO17+AT17+AY17+BD17+BI17+BN17+BS17+BX17+CB17 -> 23 | F17: =L17+Q17+V17+AA17+AF17+AK17+AP17+AU17+AZ17+BE17+BJ17+BO17+BT17+BY17+CC17 -> 226 | G17: =M17+R17+W17+AB17+AG17+AL17+AQ17+AV17+BA17+BF17+BK17+BP17+BU17+BZ17+CD17 -> -203 | H17: =N17+S17+X17+AC17+AH17+AM17+AR17+AW17+BB17+BG17+BL17+BQ17+BV17+CA17+CE17 -> 203 | I17: =SUM(O17+T17+Y17+AD17+AI17+AN17+AS17+AX17+BC17+BH17+BM17+BR17+BW17) -> 226 | J17: =E17+H17-F17 -> 0 | K17: 0 | L17: 17 | M17: =K17-L17 -> -17 | N17: 17 | O17: =SUM(K17+N17) -> 17 | P17: 8 | Q17: 103 | R17: =P17-Q17 -> -95 | S17: 95 | T17: =SUM(P17+S17) -> 103 | U17: 0 | V17: 9 | W17: =U17-V17 -> -9 | X17: 9 | Y17: =SUM(U17+X17) -> 9 | Z17: 15 | AA17: 21 | AB17: =Z17-AA17 -> -6 | AC17: 6 | AD17: =SUM(Z17+AC17) -> 21 | AE17: 0 | AF17: 3 | AG17: =AE17-AF17 -> -3 | AH17: 3 | AI17: =SUM(AE17+AH17) -> 3 | AJ17: 0 | AK17: 11 | AL17: =AJ17-AK17 -> -11 | AM17: 11 | AN17: =SUM(AJ17+AM17) -> 11 | AO17: 0 | AP17: 14 | AQ17: =AO17-AP17 -> -14 | AR17: 14 | AS17: =SUM(AO17+AR17) -> 14 | AT17: 0 | AU17: 4 | AV17: =AT17-AU17 -> -4 | AW17: 4 | AX17: =SUM(AT17+AW17) -> 4 | AY17: 0 | AZ17: 17 | BA17: =AY17-AZ17 -> -17 | BB17: 17 | BC17: =SUM(AY17+BB17) -> 17 | BD17: 0 | BE17: 7 | BF17: =BD17-BE17 -> -7 | BG17: 7 | BH17: =SUM(BD17+BG17) -> 7 | BI17: 0 | BJ17: 10 | BK17: =BI17-BJ17 -> -10 | BL17: 10 | BM17: =SUM(BI17+BL17) -> 10 | BN17: 0 | BO17: 6 | BP17: =BN17-BO17 -> -6 | BQ17: 6 | BR17: =SUM(BN17+BQ17) -> 6 | BS17: 0 | BT17: 4 | BU17: =BS17-BT17 -> -4 | BV17: 4 | BW17: =SUM(BS17+BV17) -> 4 | BZ17: =BX17-BY17 -> 0 | CD17: =CB17-CC17 -> 0
A18: 16 | B18: резидентна грижа за пълнолетни лица с интелектуални затруднения | C18: 8 | D18: 30 | E18: =K18+P18+U18+Z18+AE18+AJ18+AO18+AT18+AY18+BD18+BI18+BN18+BS18+BX18+CB18 -> 242 | F18: =L18+Q18+V18+AA18+AF18+AK18+AP18+AU18+AZ18+BE18+BJ18+BO18+BT18+BY18+CC18 -> 211 | G18: =M18+R18+W18+AB18+AG18+AL18+AQ18+AV18+BA18+BF18+BK18+BP18+BU18+BZ18+CD18 -> 31 | H18: =N18+S18+X18+AC18+AH18+AM18+AR18+AW18+BB18+BG18+BL18+BQ18+BV18+CA18+CE18 -> 0 | I18: =SUM(O18+T18+Y18+AD18+AI18+AN18+AS18+AX18+BC18+BH18+BM18+BR18+BW18) -> 242 | J18: =E18+H18-F18 -> 31 | K18: 10 | L18: 15 | M18: =K18-L18 -> -5 | N18: 0 | O18: =SUM(K18+N18) -> 10 | P18: 27 | Q18: 93 | R18: =P18-Q18 -> -66 | S18: 0 | T18: =SUM(P18+S18) -> 27 | U18: 110 | V18: 10 | W18: =U18-V18 -> 100 | X18: 0 | Y18: =SUM(U18+X18) -> 110 | Z18: 40 | AA18: 14 | AB18: =Z18-AA18 -> 26 | AC18: 0 | AD18: =SUM(Z18+AC18) -> 40 | AE18: 15 | AF18: 3 | AG18: =AE18-AF18 -> 12 | AH18: 0 | AI18: =SUM(AE18+AH18) -> 15 | AJ18: 0 | AK18: 11 | AL18: =AJ18-AK18 -> -11 | AM18: 0 | AN18: =SUM(AJ18+AM18) -> 0 | AO18: 10 | AP18: 19 | AQ18: =AO18-AP18 -> -9 | AR18: 0 | AS18: =SUM(AO18+AR18) -> 10 | AT18: 0 | AU18: 3 | AV18: =AT18-AU18 -> -3 | AW18: 0 | AX18: =SUM(AT18+AW18) -> 0 | AY18: 0 | AZ18: 15 | BA18: =AY18-AZ18 -> -15 | BB18: 0 | BC18: =SUM(AY18+BB18) -> 0 | BD18: 0 | BE18: 6 | BF18: =BD18-BE18 -> -6 | BG18: 0 | BH18: =SUM(BD18+BG18) -> 0 | BI18: 30 | BJ18: 9 | BK18: =BI18-BJ18 -> 21 | BL18: 0 | BM18: =SUM(BI18+BL18) -> 30 | BN18: 0 | BO18: 7 | BP18: =BN18-BO18 -> -7 | BQ18: 0 | BR18: =SUM(BN18+BQ18) -> 0 | BS18: 0 | BT18: 6 | BU18: =BS18-BT18 -> -6 | BV18: 0 | BW18: =SUM(BS18+BV18) -> 0 | BZ18: =BX18-BY18 -> 0 | CD18: =CB18-CC18 -> 0
A19: 17 | B19: резидентна грижа за пълнолетни лица с физически увреждания | C19: 8 | D19: 30 | E19: =K19+P19+U19+Z19+AE19+AJ19+AO19+AT19+AY19+BD19+BI19+BN19+BS19+BX19+CB19 -> 0 | F19: =L19+Q19+V19+AA19+AF19+AK19+AP19+AU19+AZ19+BE19+BJ19+BO19+BT19+BY19+CC19 -> 550 | G19: =M19+R19+W19+AB19+AG19+AL19+AQ19+AV19+BA19+BF19+BK19+BP19+BU19+BZ19+CD19 -> -550 | H19: =N19+S19+X19+AC19+AH19+AM19+AR19+AW19+BB19+BG19+BL19+BQ19+BV19+CA19+CE19 -> 550 | I19: =SUM(O19+T19+Y19+AD19+AI19+AN19+AS19+AX19+BC19+BH19+BM19+BR19+BW19) -> 550 | J19: =E19+H19-F19 -> 0 | K19: 0 | L19: 38 | M19: =K19-L19 -> -38 | N19: 38 | O19: =SUM(K19+N19) -> 38 | P19: 0 | Q19: 278 | R19: =P19-Q19 -> -278 | S19: 296 | T19: =SUM(P19+S19) -> 296 | U19: 0 | V19: 14 | W19: =U19-V19 -> -14 | X19: 14 | Y19: =SUM(U19+X19) -> 14 | Z19: 0 | AA19: 38 | AB19: =Z19-AA19 -> -38 | AC19: 20 | AD19: =SUM(Z19+AC19) -> 20 | AE19: 0 | AF19: 6 | AG19: =AE19-AF19 -> -6 | AH19: 20 | AI19: =SUM(AE19+AH19) -> 20 | AJ19: 0 | AK19: 13 | AL19: =AJ19-AK19 -> -13 | AM19: 13 | AN19: =SUM(AJ19+AM19) -> 13 | AO19: 0 | AP19: 39 | AQ19: =AO19-AP19 -> -39 | AR19: 30 | AS19: =SUM(AO19+AR19) -> 30 | AT19: 0 | AU19: 18 | AV19: =AT19-AU19 -> -18 | AW19: 20 | AX19: =SUM(AT19+AW19) -> 20 | AY19: 0 | AZ19: 51 | BA19: =AY19-AZ19 -> -51 | BB19: 51 | BC19: =SUM(AY19+BB19) -> 51 | BD19: 0 | BE19: 22 | BF19: =BD19-BE19 -> -22 | BG19: 15 | BH19: =SUM(BD19+BG19) -> 15 | BI19: 0 | BJ19: 7 | BK19: =BI19-BJ19 -> -7 | BL19: 7 | BM19: =SUM(BI19+BL19) -> 7 | BN19: 0 | BO19: 15 | BP19: =BN19-BO19 -> -15 | BQ19: 15 | BR19: =SUM(BN19+BQ19) -> 15 | BS19: 0 | BT19: 11 | BU19: =BS19-BT19 -> -11 | BV19: 11 | BW19: =SUM(BS19+BV19) -> 11 | BZ19: =BX19-BY19 -> 0 | CD19: =CB19-CC19 -> 0
A20: 18 | B20: резидентна грижа за пълнолетни лица с деменция | C20: 8 | D20: 20 | E20: =K20+P20+U20+Z20+AE20+AJ20+AO20+AT20+AY20+BD20+BI20+BN20+BS20+BX20+CB20 -> 100 | F20: =L20+Q20+V20+AA20+AF20+AK20+AP20+AU20+AZ20+BE20+BJ20+BO20+BT20+BY20+CC20 -> 90 | G20: =M20+R20+W20+AB20+AG20+AL20+AQ20+AV20+BA20+BF20+BK20+BP20+BU20+BZ20+CD20 -> 10 | H20: =N20+S20+X20+AC20+AH20+AM20+AR20+AW20+BB20+BG20+BL20+BQ20+BV20+CA20+CE20 -> 0 | I20: =SUM(O20+T20+Y20+AD20+AI20+AN20+AS20+AX20+BC20+BH20+BM20+BR20+BW20) -> 100 | J20: =E20+H20-F20 -> 10 | K20: 0 | L20: 7 | M20: =K20-L20 -> -7 | N20: 0 | O20: =SUM(K20+N20) -> 0 | P20: 0 | Q20: 41 | R20: =P20-Q20 -> -41 | S20: 0 | T20: =SUM(P20+S20) -> 0 | U20: 0 | V20: 3 | W20: =U20-V20 -> -3 | X20: 0 | Y20: =SUM(U20+X20) -> 0 | Z20: 45 | AA20: 6 | AB20: =Z20-AA20 -> 39 | AC20: 0 | AD20: =SUM(Z20+AC20) -> 45 | AE20: 15 | AF20: 1 | AG20: =AE20-AF20 -> 14 | AH20: 0 | AI20: =SUM(AE20+AH20) -> 15 | AJ20: 0 | AK20: 6 | AL20: =AJ20-AK20 -> -6 | AM20: 0 | AN20: =SUM(AJ20+AM20) -> 0 | AO20: 0 | AP20: 6 | AQ20: =AO20-AP20 -> -6 | AR20: 0 | AS20: =SUM(AO20+AR20) -> 0 | AT20: 0 | AU20: 2 | AV20: =AT20-AU20 -> -2 | AW20: 0 | AX20: =SUM(AT20+AW20) -> 0 | AY20: 0 | AZ20: 7 | BA20: =AY20-AZ20 -> -7 | BB20: 0 | BC20: =SUM(AY20+BB20) -> 0 | BD20: 0 | BE20: 3 | BF20: =BD20-BE20 -> -3 | BG20: 0 | BH20: =SUM(BD20+BG20) -> 0 | BI20: 0 | BJ20: 3 | BK20: =BI20-BJ20 -> -3 | BL20: 0 | BM20: =SUM(BI20+BL20) -> 0 | BN20: 40 | BO20: 3 | BP20: =BN20-BO20 -> 37 | BQ20: 0 | BR20: =SUM(BN20+BQ20) -> 40 | BS20: 0 | BT20: 2 | BU20: =BS20-BT20 -> -2 | BV20: 0 | BW20: =SUM(BS20+BV20) -> 0 | BZ20: =BX20-BY20 -> 0 | CD20: =CB20-CC20 -> 0
A21: 19 | B21: резидентна грижа за пълнолетни лица със сетивни увреждания | C21: 8 | D21: 30 | E21: =K21+P21+U21+Z21+AE21+AJ21+AO21+AT21+AY21+BD21+BI21+BN21+BS21+BX21+CB21 -> 0 | F21: =L21+Q21+V21+AA21+AF21+AK21+AP21+AU21+AZ21+BE21+BJ21+BO21+BT21+BY21+CC21 -> 38 | G21: =M21+R21+W21+AB21+AG21+AL21+AQ21+AV21+BA21+BF21+BK21+BP21+BU21+BZ21+CD21 -> -38 | H21: =N21+S21+X21+AC21+AH21+AM21+AR21+AW21+BB21+BG21+BL21+BQ21+BV21+CA21+CE21 -> 38 | I21: =SUM(O21+T21+Y21+AD21+AI21+AN21+AS21+AX21+BC21+BH21+BM21+BR21+BW21) -> 38 | J21: =E21+H21-F21 -> 0 | K21: 0 | L21: 3 | M21: =K21-L21 -> -3 | N21: 3 | O21: =SUM(K21+N21) -> 3 | P21: 0 | Q21: 14 | R21: =P21-Q21 -> -14 | S21: 14 | T21: =SUM(P21+S21) -> 14 | U21: 0 | V21: 1 | W21: =U21-V21 -> -1 | X21: 1 | Y21: =SUM(U21+X21) -> 1 | Z21: 0 | AA21: 4 | AB21: =Z21-AA21 -> -4 | AC21: 4 | AD21: =SUM(Z21+AC21) -> 4 | AE21: 0 | AF21: 1 | AG21: =AE21-AF21 -> -1 | AH21: 1 | AI21: =SUM(AE21+AH21) -> 1 | AJ21: 0 | AK21: 2 | AL21: =AJ21-AK21 -> -2 | AM21: 2 | AN21: =SUM(AJ21+AM21) -> 2 | AO21: 0 | AP21: 2 | AQ21: =AO21-AP21 -> -2 | AR21: 2 | AS21: =SUM(AO21+AR21) -> 2 | AT21: 0 | AU21: 1 | AV21: =AT21-AU21 -> -1 | AW21: 1 | AX21: =SUM(AT21+AW21) -> 1 | AY21: 0 | AZ21: 4 | BA21: =AY21-AZ21 -> -4 | BB21: 4 | BC21: =SUM(AY21+BB21) -> 4 | BD21: 0 | BE21: 1 | BF21: =BD21-BE21 -> -1 | BG21: 1 | BH21: =SUM(BD21+BG21) -> 1 | BI21: 0 | BJ21: 2 | BK21: =BI21-BJ21 -> -2 | BL21: 2 | BM21: =SUM(BI21+BL21) -> 2 | BN21: 0 | BO21: 2 | BP21: =BN21-BO21 -> -2 | BQ21: 2 | BR21: =SUM(BN21+BQ21) -> 2 | BS21: 0 | BT21: 1 | BU21: =BS21-BT21 -> -1 | BV21: 1 | BW21: =SUM(BS21+BV21) -> 1 | BZ21: =BX21-BY21 -> 0 | CD21: =CB21-CC21 -> 0
A22: 20 | B22: резидентна грижа за лица в надтрудоспособна възраст без увреждания | C22: 15 | D22: 120 | E22: =K22+P22+U22+Z22+AE22+AJ22+AO22+AT22+AY22+BD22+BI22+BN22+BS22+BX22+CB22 -> 154 | F22: =L22+Q22+V22+AA22+AF22+AK22+AP22+AU22+AZ22+BE22+BJ22+BO22+BT22+BY22+CC22 -> 537 | G22: =M22+R22+W22+AB22+AG22+AL22+AQ22+AV22+BA22+BF22+BK22+BP22+BU22+BZ22+CD22 -> -383 | H22: =N22+S22+X22+AC22+AH22+AM22+AR22+AW22+BB22+BG22+BL22+BQ22+BV22+CA22+CE22 -> 383 | I22: =SUM(O22+T22+Y22+AD22+AI22+AN22+AS22+AX22+BC22+BH22+BM22+BR22+BW22) -> 537 | J22: =E22+H22-F22 -> 0 | K22: 32 | L22: 41 | M22: =K22-L22 -> -9 | N22: 0 | O22: =SUM(K22+N22) -> 32 | P22: 32 | Q22: 266 | R22: =P22-Q22 -> -234 | S22: 234 | T22: =SUM(P22+S22) -> 266 | U22: 0 | V22: 17 | W22: =U22-V22 -> -17 | X22: 20 | Y22: =SUM(U22+X22) -> 20 | Z22: 0 | AA22: 27 | AB22: =Z22-AA22 -> -27 | AC22: 20 | AD22: =SUM(Z22+AC22) -> 20 | AE22: 0 | AF22: 2 | AG22: =AE22-AF22 -> -2 | AH22: 2 | AI22: =SUM(AE22+AH22) -> 2 | AJ22: 0 | AK22: 42 | AL22: =AJ22-AK22 -> -42 | AM22: 26 | AN22: =SUM(AJ22+AM22) -> 26 | AO22: 0 | AP22: 38 | AQ22: =AO22-AP22 -> -38 | AR22: 31 | AS22: =SUM(AO22+AR22) -> 31 | AT22: 0 | AU22: 9 | AV22: =AT22-AU22 -> -9 | AW22: 0 | AX22: =SUM(AT22+AW22) -> 0 | AY22: 0 | AZ22: 26 | BA22: =AY22-AZ22 -> -26 | BB22: 0 | BC22: =SUM(AY22+BB22) -> 0 | BD22: 0 | BE22: 22 | BF22: =BD22-BE22 -> -22 | BG22: 30 | BH22: =SUM(BD22+BG22) -> 30 | BI22: 45 | BJ22: 20 | BK22: =BI22-BJ22 -> 25 | BL22: 0 | BM22: =SUM(BI22+BL22) -> 45 | BN22: 45 | BO22: 15 | BP22: =BN22-BO22 -> 30 | BQ22: 0 | BR22: =SUM(BN22+BQ22) -> 45 | BS22: 0 | BT22: 12 | BU22: =BS22-BT22 -> -12 | BV22: 20 | BW22: =SUM(BS22+BV22) -> 20 | BZ22: =BX22-BY22 -> 0 | CD22: =CB22-CC22 -> 0
A23: 21 | B23: интегрирани здравно-социални услуги за резидентна грижа за деца с трайни увреждания с потребност от постоянни медицински грижи | C23: 6 | D23: 9 | E23: =K23+P23+U23+Z23+AE23+AJ23+AO23+AT23+AY23+BD23+BI23+BN23+BS23+BX23+CB23 -> 0 | F23: =L23+Q23+V23+AA23+AF23+AK23+AP23+AU23+AZ23+BE23+BJ23+BO23+BT23+BY23+CC23 -> 25 | G23: =M23+R23+W23+AB23+AG23+AL23+AQ23+AV23+BA23+BF23+BK23+BP23+BU23+BZ23+CD23 -> -25 | H23: =N23+S23+X23+AC23+AH23+AM23+AR23+AW23+BB23+BG23+BL23+BQ23+BV23+CA23+CE23 -> 25 | I23: =SUM(O23+T23+Y23+AD23+AI23+AN23+AS23+AX23+BC23+BH23+BM23+BR23+BW23) -> 25 | J23: =E23+H23-F23 -> 0 | K23: 0 | L23: 2 | M23: =K23-L23 -> -2 | N23: 2 | O23: =SUM(K23+N23) -> 2 | P23: 0 | Q23: 10 | R23: =P23-Q23 -> -10 | S23: 10 | T23: =SUM(P23+S23) -> 10 | U23: 0 | V23: 1 | W23: =U23-V23 -> -1 | X23: 1 | Y23: =SUM(U23+X23) -> 1 | Z23: 0 | AA23: 1 | AB23: =Z23-AA23 -> -1 | AC23: 1 | AD23: =SUM(Z23+AC23) -> 1 | AE23: 0 | AF23: 1 | AG23: =AE23-AF23 -> -1 | AH23: 1 | AI23: =SUM(AE23+AH23) -> 1 | AJ23: 0 | AK23: 2 | AL23: =AJ23-AK23 -> -2 | AM23: 2 | AN23: =SUM(AJ23+AM23) -> 2 | AO23: 0 | AP23: 1 | AQ23: =AO23-AP23 -> -1 | AR23: 1 | AS23: =SUM(AO23+AR23) -> 1 | AT23: 0 | AU23: 1 | AV23: =AT23-AU23 -> -1 | AW23: 1 | AX23: =SUM(AT23+AW23) -> 1 | AY23: 0 | AZ23: 2 | BA23: =AY23-AZ23 -> -2 | BB23: 2 | BC23: =SUM(AY23+BB23) -> 2 | BD23: 0 | BE23: 1 | BF23: =BD23-BE23 -> -1 | BG23: 1 | BH23: =SUM(BD23+BG23) -> 1 | BI23: 0 | BJ23: 1 | BK23: =BI23-BJ23 -> -1 | BL23: 1 | BM23: =SUM(BI23+BL23) -> 1 | BN23: 0 | BO23: 1 | BP23: =BN23-BO23 -> -1 | BQ23: 1 | BR23: =SUM(BN23+BQ23) -> 1 | BS23: 0 | BT23: 1 | BU23: =BS23-BT23 -> -1 | BV23: 1 | BW23: =SUM(BS23+BV23) -> 1 | BZ23: =BX23-BY23 -> 0 | CD23: =CB23-CC23 -> 0
A24: 22 | B24: интегрирани здравно-социални услуги за резидентна грижа за пълнолетни лица с трайни увреждания с потребност от постоянни медицински грижи | C24: 8 | D24: 15 | E24: =K24+P24+U24+Z24+AE24+AJ24+AO24+AT24+AY24+BD24+BI24+BN24+BS24+BX24+CB24 -> 0 | F24: =L24+Q24+V24+AA24+AF24+AK24+AP24+AU24+AZ24+BE24+BJ24+BO24+BT24+BY24+CC24 -> 95 | G24: =M24+R24+W24+AB24+AG24+AL24+AQ24+AV24+BA24+BF24+BK24+BP24+BU24+BZ24+CD24 -> -95 | H24: =N24+S24+X24+AC24+AH24+AM24+AR24+AW24+BB24+BG24+BL24+BQ24+BV24+CA24+CE24 -> 95 | I24: =SUM(O24+T24+Y24+AD24+AI24+AN24+AS24+AX24+BC24+BH24+BM24+BR24+BW24) -> 95 | J24: =E24+H24-F24 -> 0 | K24: 0 | L24: 5 | M24: =K24-L24 -> -5 | N24: 0 | O24: =SUM(K24+N24) -> 0 | P24: 0 | Q24: 54 | R24: =P24-Q24 -> -54 | S24: 53 | T24: =SUM(P24+S24) -> 53 | U24: 0 | V24: 3 | W24: =U24-V24 -> -3 | X24: 0 | Y24: =SUM(U24+X24) -> 0 | Z24: 0 | AA24: 4 | AB24: =Z24-AA24 -> -4 | AC24: 0 | AD24: =SUM(Z24+AC24) -> 0 | AE24: 0 | AF24: 1 | AG24: =AE24-AF24 -> -1 | AH24: 0 | AI24: =SUM(AE24+AH24) -> 0 | AJ24: 0 | AK24: 7 | AL24: =AJ24-AK24 -> -7 | AM24: 0 | AN24: =SUM(AJ24+AM24) -> 0 | AO24: 0 | AP24: 3 | AQ24: =AO24-AP24 -> -3 | AR24: 0 | AS24: =SUM(AO24+AR24) -> 0 | AT24: 0 | AU24: 2 | AV24: =AT24-AU24 -> -2 | AW24: 20 | AX24: =SUM(AT24+AW24) -> 20 | AY24: 0 | AZ24: 7 | BA24: =AY24-AZ24 -> -7 | BB24: 22 | BC24: =SUM(AY24+BB24) -> 22 | BD24: 0 | BE24: 2 | BF24: =BD24-BE24 -> -2 | BG24: 0 | BH24: =SUM(BD24+BG24) -> 0 | BI24: 0 | BJ24: 3 | BK24: =BI24-BJ24 -> -3 | BL24: 0 | BM24: =SUM(BI24+BL24) -> 0 | BN24: 0 | BO24: 2 | BP24: =BN24-BO24 -> -2 | BQ24: 0 | BR24: =SUM(BN24+BQ24) -> 0 | BS24: 0 | BT24: 2 | BU24: =BS24-BT24 -> -2 | BV24: 0 | BW24: =SUM(BS24+BV24) -> 0 | BZ24: =BX24-BY24 -> 0 | CD24: =CB24-CC24 -> 0
A25: 23 | B25: интегрирани здравно-социални услуги за резидентна грижа за възрастни хора в невъзможност за самообслужване с потребност от постоянни медицински грижи | C25: 8 | D25: 15 | E25: =K25+P25+U25+Z25+AE25+AJ25+AO25+AT25+AY25+BD25+BI25+BN25+BS25+BX25+CB25 -> 20 | F25: =L25+Q25+V25+AA25+AF25+AK25+AP25+AU25+AZ25+BE25+BJ25+BO25+BT25+BY25+CC25 -> 83 | G25: =M25+R25+W25+AB25+AG25+AL25+AQ25+AV25+BA25+BF25+BK25+BP25+BU25+BZ25+CD25 -> -63 | H25: =N25+S25+X25+AC25+AH25+AM25+AR25+AW25+BB25+BG25+BL25+BQ25+BV25+CA25+CE25 -> 63 | I25: =SUM(O25+T25+Y25+AD25+AI25+AN25+AS25+AX25+BC25+BH25+BM25+BR25+BW25) -> 83 | J25: =E25+H25-F25 -> 0 | K25: 0 | L25: 10 | M25: =K25-L25 -> -10 | N25: 0 | O25: =SUM(K25+N25) -> 0 | P25: 0 | Q25: 9 | R25: =P25-Q25 -> -9 | T25: =SUM(P25+S25) -> 0 | U25: 20 | V25: 2 | W25: =U25-V25 -> 18 | X25: 0 | Y25: =SUM(U25+X25) -> 20 | Z25: 0 | AA25: 3 | AB25: =Z25-AA25 -> -3 | AC25: 8 | AD25: =SUM(Z25+AC25) -> 8 | AE25: 0 | AF25: 1 | AG25: =AE25-AF25 -> -1 | AH25: 0 | AI25: =SUM(AE25+AH25) -> 0 | AJ25: 0 | AK25: 6 | AL25: =AJ25-AK25 -> -6 | AM25: 6 | AN25: =SUM(AJ25+AM25) -> 6 | AO25: 0 | AP25: 3 | AQ25: =AO25-AP25 -> -3 | AR25: 0 | AS25: =SUM(AO25+AR25) -> 0 | AT25: 0 | AU25: 1 | AV25: =AT25-AU25 -> -1 | AW25: 1 | AX25: =SUM(AT25+AW25) -> 1 | AY25: 0 | AZ25: 41 | BA25: =AY25-AZ25 -> -41 | BB25: 41 | BC25: =SUM(AY25+BB25) -> 41 | BD25: 0 | BE25: 2 | BF25: =BD25-BE25 -> -2 | BG25: 2 | BH25: =SUM(BD25+BG25) -> 2 | BI25: 0 | BJ25: 2 | BK25: =BI25-BJ25 -> -2 | BL25: 2 | BM25: =SUM(BI25+BL25) -> 2 | BN25: 0 | BO25: 2 | BP25: =BN25-BO25 -> -2 | BQ25: 2 | BR25: =SUM(BN25+BQ25) -> 2 | BS25: 0 | BT25: 1 | BU25: =BS25-BT25 -> -1 | BV25: 1 | BW25: =SUM(BS25+BV25) -> 1 | BZ25: =BX25-BY25 -> 0 | CD25: =CB25-CC25 -> 0
A26: 24 | B26: осигуряване на подслон за деца в кризисна ситуация /в светлата част/ | C26: 15 | D26: 30 | E26: =K26+P26+U26+Z26+AE26+AJ26+AO26+AT26+AY26+BD26+BI26+BN26+BS26+BX26+CB26 -> 15 | F26: =L26+Q26+V26+AA26+AF26+AK26+AP26+AU26+AZ26+BE26+BJ26+BO26+BT26+BY26+CC26 -> 0 | G26: =M26+R26+W26+AB26+AG26+AL26+AQ26+AV26+BA26+BF26+BK26+BP26+BU26+BZ26+CD26 -> 15 | H26: =N26+S26+X26+AC26+AH26+AM26+AR26+AW26+BB26+BG26+BL26+BQ26+BV26+CA26+CE26 -> 0 | I26: =SUM(O26+T26+Y26+AD26+AI26+AN26+AS26+AX26+BC26+BH26+BM26+BR26+BW26) -> 15 | J26: =E26+H26-F26 -> 15 | K26: 0 | M26: 0 | O26: =SUM(K26+N26) -> 0 | P26: 15 | Q26: 0 | R26: =P26-Q26 -> 15 | S26: 0 | T26: =SUM(P26+S26) -> 15 | U26: 0 | V26: 0 | W26: =U26-V26 -> 0 | X26: 0 | Y26: =SUM(U26+X26) -> 0 | Z26: 0 | AB26: =Z26-AA26 -> 0 | AD26: =SUM(Z26+AC26) -> 0 | AE26: 0 | AF26: 0 | AG26: =AE26-AF26 -> 0 | AH26: 0 | AI26: =SUM(AE26+AH26) -> 0 | AJ26: 0 | AK26: 0 | AL26: =AJ26-AK26 -> 0 | AM26: 0 | AN26: =SUM(AJ26+AM26) -> 0 | AO26: 0 | AP26: 0 | AQ26: =AO26-AP26 -> 0 | AR26: 0 | AS26: =SUM(AO26+AR26) -> 0 | AT26: 0 | AU26: 0 | AV26: =AT26-AU26 -> 0 | AW26: 0 | AX26: =SUM(AT26+AW26) -> 0 | AY26: 0 | AZ26: 0 | BA26: =AY26-AZ26 -> 0 | BB26: 0 | BC26: =SUM(AY26+BB26) -> 0 | BD26: 0 | BE26: 0 | BF26: =BD26-BE26 -> 0 | BG26: 0 | BH26: =SUM(BD26+BG26) -> 0 | BI26: 0 | BJ26: 0 | BK26: =BI26-BJ26 -> 0 | BL26: 0 | BM26: =SUM(BI26+BL26) -> 0 | BN26: 0 | BO26: 0 | BP26: =BN26-BO26 -> 0 | BQ26: 0 | BR26: =SUM(BN26+BQ26) -> 0 | BS26: 0 | BT26: 0 | BU26: =BS26-BT26 -> 0 | BV26: 0 | BW26: =SUM(BS26+BV26) -> 0 | BZ26: =BX26-BY26 -> 0 | CD26: =CB26-CC26 -> 0
A27: 25 | B27: осигуряване на подслон за лица в кризисна ситуация | C27: 10 | D27: 15 | E27: =K27+P27+U27+Z27+AE27+AJ27+AO27+AT27+AY27+BD27+BI27+BN27+BS27+BX27+CB27 -> 0 | F27: =L27+Q27+V27+AA27+AF27+AK27+AP27+AU27+AZ27+BE27+BJ27+BO27+BT27+BY27+CC27 -> 41 | G27: =M27+R27+W27+AB27+AG27+AL27+AQ27+AV27+BA27+BF27+BK27+BP27+BU27+BZ27+CD27 -> -41 | H27: =N27+S27+X27+AC27+AH27+AM27+AR27+AW27+BB27+BG27+BL27+BQ27+BV27+CA27+CE27 -> 41 | I27: =SUM(O27+T27+Y27+AD27+AI27+AN27+AS27+AX27+BC27+BH27+BM27+BR27+BW27) -> 41 | J27: =E27+H27-F27 -> 0 | K27: 0 | L27: 3 | M27: =K27-L27 -> -3 | N27: 3 | O27: =SUM(K27+N27) -> 3 | P27: 0 | Q27: 17 | R27: =P27-Q27 -> -17 | S27: 17 | T27: =SUM(P27+S27) -> 17 | U27: 0 | V27: 1 | W27: =U27-V27 -> -1 | X27: 1 | Y27: =SUM(U27+X27) -> 1 | Z27: 0 | AA27: 2 | AB27: =Z27-AA27 -> -2 | AC27: 2 | AD27: =SUM(Z27+AC27) -> 2 | AE27: 0 | AF27: 1 | AG27: =AE27-AF27 -> -1 | AH27: 1 | AI27: =SUM(AE27+AH27) -> 1 | AJ27: 0 | AK27: 3 | AL27: =AJ27-AK27 -> -3 | AM27: 3 | AN27: =SUM(AJ27+AM27) -> 3 | AO27: 0 | AP27: 3 | AQ27: =AO27-AP27 -> -3 | AR27: 3 | AS27: =SUM(AO27+AR27) -> 3 | AT27: 0 | AU27: 1 | AV27: =AT27-AU27 -> -1 | AW27: 1 | AX27: =SUM(AT27+AW27) -> 1 | AY27: 0 | AZ27: 4 | BA27: =AY27-AZ27 -> -4 | BB27: 4 | BC27: =SUM(AY27+BB27) -> 4 | BD27: 0 | BE27: 2 | BF27: =BD27-BE27 -> -2 | BG27: 2 | BH27: =SUM(BD27+BG27) -> 2 | BI27: 0 | BJ27: 2 | BK27: =BI27-BJ27 -> -2 | BL27: 2 | BM27: =SUM(BI27+BL27) -> 2 | BN27: 0 | BO27: 1 | BP27: =BN27-BO27 -> -1 | BQ27: 1 | BR27: =SUM(BN27+BQ27) -> 1 | BS27: 0 | BT27: 1 | BU27: =BS27-BT27 -> -1 | BV27: 1 | BW27: =SUM(BS27+BV27) -> 1 | BZ27: =BX27-BY27 -> 0 | CD27: =CB27-CC27 -> 0
A28: 26 | B28: осигуряване на подслон за лица в кризисна ситуация-бременни и майки с деца до 3г. | C28: 4 | D28: 6 | E28: =K28+P28+U28+Z28+AE28+AJ28+AO28+AT28+AY28+BD28+BI28+BN28+BS28+BX28+CB28 -> 0 | F28: =L28+Q28+V28+AA28+AF28+AK28+AP28+AU28+AZ28+BE28+BJ28+BO28+BT28+BY28+CC28 -> 0 | G28: =M28+R28+W28+AB28+AG28+AL28+AQ28+AV28+BA28+BF28+BK28+BP28+BU28+BZ28+CD28 -> 0 | H28: =N28+S28+X28+AC28+AH28+AM28+AR28+AW28+BB28+BG28+BL28+BQ28+BV28+CA28+CE28 -> 0 | I28: =SUM(O28+T28+Y28+AD28+AI28+AN28+AS28+AX28+BC28+BH28+BM28+BR28+BW28) -> 0 | J28: =E28+H28-F28 -> 0 | K28: 0 | M28: =K28-L28 -> 0 | O28: =SUM(K28+N28) -> 0 | P28: 0 | Q28: 0 | R28: =P28-Q28 -> 0 | S28: 0 | T28: =SUM(P28+S28) -> 0 | U28: 0 | V28: 0 | W28: =U28-V28 -> 0 | X28: 0 | Y28: =SUM(U28+X28) -> 0 | Z28: 0 | AB28: =Z28-AA28 -> 0 | AD28: =SUM(Z28+AC28) -> 0 | AE28: 0 | AF28: 0 | AG28: =AE28-AF28 -> 0 | AH28: 0 | AI28: =SUM(AE28+AH28) -> 0 | AJ28: 0 | AK28: 0 | AL28: =AJ28-AK28 -> 0 | AM28: 0 | AN28: =SUM(AJ28+AM28) -> 0 | AO28: 0 | AP28: 0 | AQ28: =AO28-AP28 -> 0 | AR28: 0 | AS28: =SUM(AO28+AR28) -> 0 | AT28: 0 | AU28: 0 | AV28: =AT28-AU28 -> 0 | AW28: 0 | AX28: =SUM(AT28+AW28) -> 0 | AY28: 0 | AZ28: 0 | BA28: =AY28-AZ28 -> 0 | BB28: 0 | BC28: =SUM(AY28+BB28) -> 0 | BD28: 0 | BE28: 0 | BF28: =BD28-BE28 -> 0 | BG28: 0 | BH28: =SUM(BD28+BG28) -> 0 | BI28: 0 | BJ28: 0 | BK28: =BI28-BJ28 -> 0 | BL28: 0 | BM28: =SUM(BI28+BL28) -> 0 | BN28: 0 | BO28: 0 | BP28: =BN28-BO28 -> 0 | BQ28: 0 | BR28: =SUM(BN28+BQ28) -> 0 | BS28: 0 | BT28: 0 | BU28: =BS28-BT28 -> 0 | BV28: 0 | BW28: =SUM(BS28+BV28) -> 0 | BZ28: =BX28-BY28 -> 0 | CD28: =CB28-CC28 -> 0
A29: 27 | B29: осигуряване на подслон за деца, пострадали от домашно насилие и деца, жертви на трафик | C29: 6 | D29: 10 | E29: =K29+P29+U29+Z29+AE29+AJ29+AO29+AT29+AY29+BD29+BI29+BN29+BS29+BX29+CB29 -> 10 | F29: =L29+Q29+V29+AA29+AF29+AK29+AP29+AU29+AZ29+BE29+BJ29+BO29+BT29+BY29+CC29 -> 35 | G29: =M29+R29+W29+AB29+AG29+AL29+AQ29+AV29+BA29+BF29+BK29+BP29+BU29+BZ29+CD29 -> -25 | H29: =N29+S29+X29+AC29+AH29+AM29+AR29+AW29+BB29+BG29+BL29+BQ29+BV29+CA29+CE29 -> 25 | I29: =SUM(O29+T29+Y29+AD29+AI29+AN29+AS29+AX29+BC29+BH29+BM29+BR29+BW29) -> 35 | J29: =E29+H29-F29 -> 0 | K29: 0 | L29: 3 | M29: =K29-L29 -> -3 | N29: 3 | O29: =SUM(K29+N29) -> 3 | P29: 0 | Q29: 15 | R29: =P29-Q29 -> -15 | S29: 10 | T29: =SUM(P29+S29) -> 10 | U29: 0 | V29: 1 | W29: =U29-V29 -> -1 | X29: 1 | Y29: =SUM(U29+X29) -> 1 | Z29: 0 | AA29: 2 | AB29: =Z29-AA29 -> -2 | AC29: 2 | AD29: =SUM(Z29+AC29) -> 2 | AE29: 0 | AF29: 1 | AG29: =AE29-AF29 -> -1 | AH29: 1 | AI29: =SUM(AE29+AH29) -> 1 | AJ29: 0 | AK29: 3 | AL29: =AJ29-AK29 -> -3 | AM29: 3 | AN29: =SUM(AJ29+AM29) -> 3 | AO29: 0 | AP29: 2 | AQ29: =AO29-AP29 -> -2 | AR29: 2 | AS29: =SUM(AO29+AR29) -> 2 | AT29: 0 | AU29: 1 | AV29: =AT29-AU29 -> -1 | AW29: 0 | AX29: =SUM(AT29+AW29) -> 0 | AY29: 0 | AZ29: 3 | BA29: =AY29-AZ29 -> -3 | BB29: 3 | BC29: =SUM(AY29+BB29) -> 3 | BD29: 0 | BE29: 1 | BF29: =BD29-BE29 -> -1 | BG29: 0 | BH29: =SUM(BD29+BG29) -> 0 | BI29: 10 | BJ29: 1 | BK29: =BI29-BJ29 -> 9 | BL29: 0 | BM29: =SUM(BI29+BL29) -> 10 | BN29: 0 | BO29: 1 | BP29: =BN29-BO29 -> -1 | BQ29: 0 | BR29: =SUM(BN29+BQ29) -> 0 | BS29: 0 | BT29: 1 | BU29: =BS29-BT29 -> -1 | BV29: 0 | BW29: =SUM(BS29+BV29) -> 0 | BZ29: =BX29-BY29 -> 0 | CD29: =CB29-CC29 -> 0
A30: 28 | B30: осигуряване на подслон за пълнолетни лица, пострадали от домашно насилие и лица жертви на трафик | C30: 6 | D30: 10 | E30: =K30+P30+U30+Z30+AE30+AJ30+AO30+AT30+AY30+BD30+BI30+BN30+BS30+BX30+CB30 -> 23 | F30: =L30+Q30+V30+AA30+AF30+AK30+AP30+AU30+AZ30+BE30+BJ30+BO30+BT30+BY30+CC30 -> 44 | G30: =M30+R30+W30+AB30+AG30+AL30+AQ30+AV30+BA30+BF30+BK30+BP30+BU30+BZ30+CD30 -> -21 | H30: =N30+S30+X30+AC30+AH30+AM30+AR30+AW30+BB30+BG30+BL30+BQ30+BV30+CA30+CE30 -> 21 | I30: =SUM(O30+T30+Y30+AD30+AI30+AN30+AS30+AX30+BC30+BH30+BM30+BR30+BW30) -> 44 | J30: =E30+H30-F30 -> 0 | K30: 0 | L30: 3 | M30: =K30-L30 -> -3 | N30: 3 | O30: =SUM(K30+N30) -> 3 | P30: 23 | Q30: 19 | R30: =P30-Q30 -> 4 | S30: 0 | T30: =SUM(P30+S30) -> 23 | U30: 0 | V30: 1 | W30: =U30-V30 -> -1 | X30: 1 | Y30: =SUM(U30+X30) -> 1 | Z30: 0 | AA30: 3 | AB30: =Z30-AA30 -> -3 | AC30: 3 | AD30: =SUM(Z30+AC30) -> 3 | AE30: 0 | AF30: 1 | AG30: =AE30-AF30 -> -1 | AH30: 1 | AI30: =SUM(AE30+AH30) -> 1 | AJ30: 0 | AK30: 3 | AL30: =AJ30-AK30 -> -3 | AM30: 3 | AN30: =SUM(AJ30+AM30) -> 3 | AO30: 0 | AP30: 3 | AQ30: =AO30-AP30 -> -3 | AR30: 3 | AS30: =SUM(AO30+AR30) -> 3 | AT30: 0 | AU30: 1 | AV30: =AT30-AU30 -> -1 | AW30: 1 | AX30: =SUM(AT30+AW30) -> 1 | AY30: 0 | AZ30: 3 | BA30: =AY30-AZ30 -> -3 | BB30: 3 | BC30: =SUM(AY30+BB30) -> 3 | BD30: 0 | BE30: 2 | BF30: =BD30-BE30 -> -2 | BG30: 2 | BH30: =SUM(BD30+BG30) -> 2 | BI30: 0 | BJ30: 2 | BK30: =BI30-BJ30 -> -2 | BL30: 0 | BM30: =SUM(BI30+BL30) -> 0 | BN30: 0 | BO30: 2 | BP30: =BN30-BO30 -> -2 | BQ30: 0 | BR30: =SUM(BN30+BQ30) -> 0 | BS30: 0 | BT30: 1 | BU30: =BS30-BT30 -> -1 | BV30: 1 | BW30: =SUM(BS30+BV30) -> 1 | BZ30: =BX30-BY30 -> 0 | CD30: =CB30-CC30 -> 0

Sheet Област Варна
A1: КАРТА ОБЛАСТ | E1: ОБЛАСТ Варна | J1: Разпределени +/- | K1: Община Аврен | P1: Община Аксаково | U1: Община Белослав | Z1: Община Бяла | AE1: Община Варна | AJ1: Община Ветрино | AO1: Община Вълчи дол | AT1: Община Девня | AY1: Община Долни Чифлик | BD1: Община Дългопол | BI1: Община Провадия | BN1: Община Суворово | BS1: Община 13 | BW1: Община 14 | CA1: Община 15
A2: № | B2: Дейност по Чл. 15 от ЗСУ | C2: min | D2: max | E2: СУ | F2: П5 | G2: Р | H2: П | I2: K | K2: СУ | L2: П5 | M2: Р | N2: П | O2: K | P2: СУ | Q2: П5 | R2: Р | S2: П | T2: K | U2: СУ | V2: П5 | W2: Р | X2: П | Y2: К | Z2: СУ | AA2: П5 | AB2: Р | AC2: П | AD2: K | AE2: СУ | AF2: П5 | AG2: Р | AH2: П | AI2: K | AJ2: СУ | AK2: П5 | AL2: Р | AM2: П | AN2: K | AO2: СУ | AP2: П5 | AQ2: Р | AR2: П | AS2: K | AT2: СУ | AU2: П5 | AV2: Р | AW2: П | AX2: K | AY2: СУ | AZ2: П5 | BA2: Р | BB2: П | BC2: K | BD2: СУ | BE2: П5 | BF2: Р | BG2: П | BH2: K | BI2: СУ | BJ2: П5 | BK2: Р | BL2: П | BM2: K | BN2: СУ | BO2: П5 | BP2: Р | BQ2: П | BR2: K | BS2: СУ | BT2: П5 | BU2: Р | BV2: П | BW2: СУ | BX2: П5 | BY2: Р | BZ2: П | CA2: СУ | CB2: П5 | CC2: Р | CD2: П
A3: 1 | B3: информиране, консултиране и обучение за реализиране на социални права и за развиване на умения (като общодостъпна услуга) | C3: 10 | D3: 40 | E3: =K3+P3+U3+Z3+AE3+AJ3+AO3+AT3+AY3+BD3+BI3+BN3+BS3+BW3+CA3 -> 0 | F3: =L3+Q3+V3+AA3+AF3+AK3+AP3+AU3+AZ3+BE3+BJ3+BO3+BT3+BX3+CB3 -> 144 | G3: =M3+R3+W3+AB3+AG3+AL3+AQ3+AV3+BA3+BF3+BK3+BP3+BU3+BY3+CC3 -> -144 | H3: =N3+S3+X3+AC3+AH3+AM3+AR3+AW3+BB3+BG3+BL3+BQ3+BV3+BZ3+CD3 -> 144 | I3: =SUM(O3+T3+Y3+AD3+AI3+AN3+AS3+AX3+BH3+BM3+BR3) -> 137 | J3: =E3+H3-F3 -> 0 | K3: 0 | L3: 3 | M3: =K3-L3 -> -3 | N3: 3 | O3: =SUM(K3+N3) -> 3 | P3: 0 | Q3: 7 | R3: =P3-Q3 -> -7 | S3: 7 | T3: =SUM(P3+S3) -> 7 | U3: 0 | V3: 4 | W3: =U3-V3 -> -4 | X3: 4 | Y3: =SUM(U3+X3) -> 4 | Z3: 0 | AA3: 2 | AB3: =Z3-AA3 -> -2 | AC3: 2 | AD3: =SUM(Z3+AC3) -> 2 | AE3: 0 | AF3: 98 | AG3: =AE3-AF3 -> -98 | AH3: 98 | AI3: =SUM(AE3+AH3) -> 98 | AJ3: 0 | AK3: 2 | AL3: =AJ3-AK3 -> -2 | AM3: 2 | AN3: =SUM(AJ3+AM3) -> 2 | AO3: 0 | AP3: 3 | AQ3: =AO3-AP3 -> -3 | AR3: 3 | AS3: =SUM(AO3+AR3) -> 3 | AT3: 0 | AU3: 3 | AV3: =AT3-AU3 -> -3 | AW3: 3 | AX3: =SUM(AT3+AW3) -> 3 | AY3: 0 | AZ3: 7 | BA3: =AY3-AZ3 -> -7 | BB3: 7 | BC3: =SUM(AY3+BB3) -> 7 | BD3: 0 | BE3: 5 | BF3: =BD3-BE3 -> -5 | BG3: 5 | BH3: =SUM(BD3+BG3) -> 5 | BI3: 0 | BJ3: 7 | BK3: =BI3-BJ3 -> -7 | BL3: 7 | BM3: =SUM(BI3+BL3) -> 7 | BN3: 0 | BO3: 3 | BP3: =BN3-BO3 -> -3 | BQ3: 3 | BR3: =SUM(BN3+BQ3) -> 3 | BU3: =BS3-BT3 -> 0 | BY3: =BW3-BX3 -> 0 | CC3: =CA3-CB3 -> 0
A4: 2 | B4: мобилна превантивна общностна работа( като общодостъпна услуга) | C4: - | D4: - | E4: =K4+P4+U4+Z4+AE4+AJ4+AO4+AT4+AY4+BD4+BI4+BN4+BS4+BW4+CA4 -> 0 | F4: =L4+Q4+V4+AA4+AF4+AK4+AP4+AU4+AZ4+BE4+BJ4+BO4+BT4+BX4+CB4 -> 199 | G4: =M4+R4+W4+AB4+AG4+AL4+AQ4+AV4+BA4+BF4+BK4+BP4+BU4+BY4+CC4 -> -199 | H4: =N4+S4+X4+AC4+AH4+AM4+AR4+AW4+BB4+BG4+BL4+BQ4+BV4+BZ4+CD4 -> 199 | I4: =SUM(O4+T4+Y4+AD4+AI4+AN4+AS4+AX4+BH4+BM4+BR4) -> 189 | J4: =E4+H4-F4 -> 0 | K4: 0 | L4: 5 | M4: =K4-L4 -> -5 | N4: 5 | O4: =SUM(K4+N4) -> 5 | P4: 0 | Q4: 10 | R4: =P4-Q4 -> -10 | S4: 10 | T4: =SUM(P4+S4) -> 10 | U4: 0 | V4: 5 | W4: =U4-V4 -> -5 | X4: 5 | Y4: =SUM(U4+X4) -> 5 | Z4: 0 | AA4: 2 | AB4: =Z4-AA4 -> -2 | AC4: 2 | AD4: =SUM(Z4+AC4) -> 2 | AE4: 0 | AF4: 136 | AG4: =AE4-AF4 -> -136 | AH4: 136 | AI4: =SUM(AE4+AH4) -> 136 | AJ4: 0 | AK4: 3 | AL4: =AJ4-AK4 -> -3 | AM4: 3 | AN4: =SUM(AJ4+AM4) -> 3 | AO4: 0 | AP4: 4 | AQ4: =AO4-AP4 -> -4 | AR4: 4 | AS4: =SUM(AO4+AR4) -> 4 | AT4: 0 | AU4: 4 | AV4: =AT4-AU4 -> -4 | AW4: 4 | AX4: =SUM(AT4+AW4) -> 4 | AY4: 0 | AZ4: 10 | BA4: =AY4-AZ4 -> -10 | BB4: 10 | BC4: =SUM(AY4+BB4) -> 10 | BD4: 0 | BE4: 6 | BF4: =BD4-BE4 -> -6 | BG4: 6 | BH4: =SUM(BD4+BG4) -> 6 | BI4: 0 | BJ4: 10 | BK4: =BI4-BJ4 -> -10 | BL4: 10 | BM4: =SUM(BI4+BL4) -> 10 | BN4: 0 | BO4: 4 | BP4: =BN4-BO4 -> -4 | BQ4: 4 | BR4: =SUM(BN4+BQ4) -> 4 | BU4: =BS4-BT4 -> 0 | BY4: =BW4-BX4 -> 0 | CC4: =CA4-CB4 -> 0
A5: 3 | B5: информиране и консултиране (специализирана) | C5: 4 | D5: 35 | E5: =K5+P5+U5+Z5+AE5+AJ5+AO5+AT5+AY5+BD5+BI5+BN5+BS5+BW5+CA5 -> 344 | F5: =L5+Q5+V5+AA5+AF5+AK5+AP5+AU5+AZ5+BE5+BJ5+BO5+BT5+BX5+CB5 -> 669 | G5: =M5+R5+W5+AB5+AG5+AL5+AQ5+AV5+BA5+BF5+BK5+BP5+BU5+BY5+CC5 -> -325 | H5: =N5+S5+X5+AC5+AH5+AM5+AR5+AW5+BB5+BG5+BL5+BQ5+BV5+BZ5+CD5 -> 344 | I5: =SUM(O5+T5+Y5+AD5+AI5+AN5+AS5+AX5+BH5+BM5+BR5) -> 652 | J5: =E5+H5-F5 -> 19 | K5: 24 | L5: 12 | M5: =K5-L5 -> 12 | N5: 0 | O5: =SUM(K5+N5) -> 24 | P5: 14 | Q5: 32 | R5: =P5-Q5 -> -18 | S5: 18 | T5: =SUM(P5+S5) -> 32 | U5: 0 | V5: 16 | W5: =U5-V5 -> -16 | X5: 16 | Y5: =SUM(U5+X5) -> 16 | Z5: 1 | AA5: 5 | AB5: =Z5-AA5 -> -4 | AC5: 4 | AD5: =SUM(Z5+AC5) -> 5 | AE5: 220 | AF5: 475 | AG5: =AE5-AF5 -> -255 | AH5: 255 | AI5: =SUM(AE5+AH5) -> 475 | AJ5: 11 | AK5: 7 | AL5: =AJ5-AK5 -> 4 | AM5: 0 | AN5: =SUM(AJ5+AM5) -> 11 | AO5: 0 | AP5: 11 | AQ5: =AO5-AP5 -> -11 | AR5: 11 | AS5: =SUM(AO5+AR5) -> 11 | AT5: 6 | AU5: 13 | AV5: =AT5-AU5 -> -7 | AW5: 7 | AX5: =SUM(AT5+AW5) -> 13 | AY5: 36 | AZ5: 33 | BA5: =AY5-AZ5 -> 3 | BB5: 0 | BC5: =SUM(AY5+BB5) -> 36 | BD5: 4 | BE5: 21 | BF5: =BD5-BE5 -> -17 | BG5: 17 | BH5: =SUM(BD5+BG5) -> 21 | BI5: 19 | BJ5: 32 | BK5: =BI5-BJ5 -> -13 | BL5: 13 | BM5: =SUM(BI5+BL5) -> 32 | BN5: 9 | BO5: 12 | BP5: =BN5-BO5 -> -3 | BQ5: 3 | BR5: =SUM(BN5+BQ5) -> 12 | BU5: =BS5-BT5 -> 0 | BY5: =BW5-BX5 -> 0 | CC5: =CA5-CB5 -> 0
A6: 4 | B6: застъпничество и посредничество | C6: 8 | D6: 25 | E6: =K6+P6+U6+Z6+AE6+AJ6+AO6+AT6+AY6+BD6+BI6+BN6+BS6+BW6+CA6 -> 332 | F6: =L6+Q6+V6+AA6+AF6+AK6+AP6+AU6+AZ6+BE6+BJ6+BO6+BT6+BX6+CB6 -> 454 | G6: =M6+R6+W6+AB6+AG6+AL6+AQ6+AV6+BA6+BF6+BK6+BP6+BU6+BY6+CC6 -> -122 | H6: =N6+S6+X6+AC6+AH6+AM6+AR6+AW6+BB6+BG6+BL6+BQ6+BV6+BZ6+CD6 -> 158 | I6: =SUM(O6+T6+Y6+AD6+AI6+AN6+AS6+AX6+BH6+BM6+BR6) -> 462 | J6: =E6+H6-F6 -> 36 | K6: 36 | L6: 9 | M6: =K6-L6 -> 27 | N6: 0 | O6: =SUM(K6+N6) -> 36 | P6: 16 | Q6: 22 | R6: =P6-Q6 -> -6 | S6: 6 | T6: =SUM(P6+S6) -> 22 | U6: 0 | V6: 11 | W6: =U6-V6 -> -11 | X6: 11 | Y6: =SUM(U6+X6) -> 11 | Z6: 1 | AA6: 4 | AB6: =Z6-AA6 -> -3 | AC6: 3 | AD6: =SUM(Z6+AC6) -> 4 | AE6: 204 | AF6: 312 | AG6: =AE6-AF6 -> -108 | AH6: 108 | AI6: =SUM(AE6+AH6) -> 312 | AJ6: 8 | AK6: 6 | AL6: =AJ6-AK6 -> 2 | AM6: 0 | AN6: =SUM(AJ6+AM6) -> 8 | AO6: 0 | AP6: 10 | AQ6: =AO6-AP6 -> -10 | AR6: 10 | AS6: =SUM(AO6+AR6) -> 10 | AT6: 4 | AU6: 9 | AV6: =AT6-AU6 -> -5 | AW6: 5 | AX6: =SUM(AT6+AW6) -> 9 | AY6: 28 | AZ6: 23 | BA6: =AY6-AZ6 -> 5 | BB6: 0 | BC6: =SUM(AY6+BB6) -> 28 | BD6: 3 | BE6: 16 | BF6: =BD6-BE6 -> -13 | BG6: 13 | BH6: =SUM(BD6+BG6) -> 16 | BI6: 24 | BJ6: 23 | BK6: =BI6-BJ6 -> 1 | BL6: 1 | BM6: =SUM(BI6+BL6) -> 25 | BN6: 8 | BO6: 9 | BP6: =BN6-BO6 -> -1 | BQ6: 1 | BR6: =SUM(BN6+BQ6) -> 9 | BU6: =BS6-BT6 -> 0 | BY6: =BW6-BX6 -> 0 | CC6: =CA6-CB6 -> 0
A7: 5 | B7: терапия и рехабилитация | C7: 20 | D7: 50 | E7: =K7+P7+U7+Z7+AE7+AJ7+AO7+AT7+AY7+BD7+BI7+BN7+BS7+BW7+CA7 -> 564 | F7: =L7+Q7+V7+AA7+AF7+AK7+AP7+AU7+AZ7+BE7+BJ7+BO7+BT7+BX7+CB7 -> 810 | G7: =M7+R7+W7+AB7+AG7+AL7+AQ7+AV7+BA7+BF7+BK7+BP7+BU7+BY7+CC7 -> -246 | H7: =N7+S7+X7+AC7+AH7+AM7+AR7+AW7+BB7+BG7+BL7+BQ7+BV7+BZ7+CD7 -> 296 | I7: =SUM(O7+T7+Y7+AD7+AI7+AN7+AS7+AX7+BH7+BM7+BR7) -> 809 | J7: =E7+H7-F7 -> 50 | K7: 30 | L7: 15 | M7: =K7-L7 -> 15 | N7: 0 | O7: =SUM(K7+N7) -> 30 | P7: 20 | Q7: 40 | R7: =P7-Q7 -> -20 | S7: 20 | T7: =SUM(P7+S7) -> 40 | U7: 0 | V7: 20 | W7: =U7-V7 -> -20 | X7: 20 | Y7: =SUM(U7+X7) -> 20 | Z7: 0 | AA7: 6 | AB7: =Z7-AA7 -> -6 | AC7: 6 | AD7: =SUM(Z7+AC7) -> 6 | AE7: 361 | AF7: 564 | AG7: =AE7-AF7 -> -203 | AH7: 203 | AI7: =SUM(AE7+AH7) -> 564 | AJ7: 25 | AK7: 9 | AL7: =AJ7-AK7 -> 16 | AM7: 0 | AN7: =SUM(AJ7+AM7) -> 25 | AO7: 0 | AP7: 15 | AQ7: =AO7-AP7 -> -15 | AR7: 15 | AS7: =SUM(AO7+AR7) -> 15 | AT7: 14 | AU7: 16 | AV7: =AT7-AU7 -> -2 | AW7: 2 | AX7: =SUM(AT7+AW7) -> 16 | AY7: 51 | AZ7: 42 | BA7: =AY7-AZ7 -> 9 | BB7: 0 | BC7: =SUM(AY7+BB7) -> 51 | BD7: 10 | BE7: 27 | BF7: =BD7-BE7 -> -17 | BG7: 17 | BH7: =SUM(BD7+BG7) -> 27 | BI7: 28 | BJ7: 41 | BK7: =BI7-BJ7 -> -13 | BL7: 13 | BM7: =SUM(BI7+BL7) -> 41 | BN7: 25 | BO7: 15 | BP7: =BN7-BO7 -> 10 | BQ7: 0 | BR7: =SUM(BN7+BQ7) -> 25 | BU7: =BS7-BT7 -> 0 | BY7: =BW7-BX7 -> 0 | CC7: =CA7-CB7 -> 0
A8: 6 | B8: обучение за придобиване на умения | C8: 8 | D8: 35 | E8: =K8+P8+U8+Z8+AE8+AJ8+AO8+AT8+AY8+BD8+BI8+BN8+BS8+BW8+CA8 -> 464 | F8: =L8+Q8+V8+AA8+AF8+AK8+AP8+AU8+AZ8+BE8+BJ8+BO8+BT8+BX8+CB8 -> 562 | G8: =M8+R8+W8+AB8+AG8+AL8+AQ8+AV8+BA8+BF8+BK8+BP8+BU8+BY8+CC8 -> -98 | H8: =N8+S8+X8+AC8+AH8+AM8+AR8+AW8+BB8+BG8+BL8+BQ8+BV8+BZ8+CD8 -> 161 | I8: =SUM(O8+T8+Y8+AD8+AI8+AN8+AS8+AX8+BH8+BM8+BR8) -> 572 | J8: =E8+H8-F8 -> 63 | K8: 36 | L8: 10 | M8: =K8-L8 -> 26 | N8: 0 | O8: =SUM(K8+N8) -> 36 | P8: 20 | Q8: 26 | R8: =P8-Q8 -> -6 | S8: 6 | T8: =SUM(P8+S8) -> 26 | U8: 0 | V8: 14 | W8: =U8-V8 -> -14 | X8: 14 | Y8: =SUM(U8+X8) -> 14 | Z8: 2 | AA8: 5 | AB8: =Z8-AA8 -> -3 | AC8: 3 | AD8: =SUM(Z8+AC8) -> 5 | AE8: 279 | AF8: 388 | AG8: =AE8-AF8 -> -109 | AH8: 109 | AI8: =SUM(AE8+AH8) -> 388 | AJ8: 15 | AK8: 7 | AL8: =AJ8-AK8 -> 8 | AM8: 0 | AN8: =SUM(AJ8+AM8) -> 15 | AO8: 0 | AP8: 11 | AQ8: =AO8-AP8 -> -11 | AR8: 11 | AS8: =SUM(AO8+AR8) -> 11 | AT8: 8 | AU8: 11 | AV8: =AT8-AU8 -> -3 | AW8: 3 | AX8: =SUM(AT8+AW8) -> 11 | AY8: 53 | AZ8: 30 | BA8: =AY8-AZ8 -> 23 | BB8: 0 | BC8: =SUM(AY8+BB8) -> 53 | BD8: 6 | BE8: 20 | BF8: =BD8-BE8 -> -14 | BG8: 14 | BH8: =SUM(BD8+BG8) -> 20 | BI8: 30 | BJ8: 29 | BK8: =BI8-BJ8 -> 1 | BL8: 1 | BM8: =SUM(BI8+BL8) -> 31 | BN8: 15 | BO8: 11 | BP8: =BN8-BO8 -> 4 | BQ8: 0 | BR8: =SUM(BN8+BQ8) -> 15 | BU8: =BS8-BT8 -> 0 | BY8: =BW8-BX8 -> 0 | CC8: =CA8-CB8 -> 0
A9: 7 | B9: подкрепа за придобиване на трудови умения | C9: 8 | D9: 30 | E9: =K9+P9+U9+Z9+AE9+AJ9+AO9+AT9+AY9+BD9+BI9+BN9+BS9+BW9+CA9 -> 211 | F9: =L9+Q9+V9+AA9+AF9+AK9+AP9+AU9+AZ9+BE9+BJ9+BO9+BT9+BX9+CB9 -> 281 | G9: =M9+R9+W9+AB9+AG9+AL9+AQ9+AV9+BA9+BF9+BK9+BP9+BU9+BY9+CC9 -> -70 | H9: =N9+S9+X9+AC9+AH9+AM9+AR9+AW9+BB9+BG9+BL9+BQ9+BV9+BZ9+CD9 -> 95 | I9: =SUM(O9+T9+Y9+AD9+AI9+AN9+AS9+AX9+BH9+BM9+BR9) -> 283 | J9: =E9+H9-F9 -> 25 | K9: 0 | L9: 6 | M9: =K9-L9 -> -6 | N9: 6 | O9: =SUM(K9+N9) -> 6 | P9: 6 | Q9: 12 | R9: =P9-Q9 -> -6 | S9: 6 | T9: =SUM(P9+S9) -> 12 | U9: 0 | V9: 7 | W9: =U9-V9 -> -7 | X9: 7 | Y9: =SUM(U9+X9) -> 7 | Z9: 0 | AA9: 2 | AB9: =Z9-AA9 -> -2 | AC9: 2 | AD9: =SUM(Z9+AC9) -> 2 | AE9: 136 | AF9: 194 | AG9: =AE9-AF9 -> -58 | AH9: 58 | AI9: =SUM(AE9+AH9) -> 194 | AJ9: 15 | AK9: 3 | AL9: =AJ9-AK9 -> 12 | AM9: 0 | AN9: =SUM(AJ9+AM9) -> 15 | AO9: 0 | AP9: 6 | AQ9: =AO9-AP9 -> -6 | AR9: 6 | AS9: =SUM(AO9+AR9) -> 6 | AT9: 8 | AU9: 6 | AV9: =AT9-AU9 -> 2 | AW9: 0 | AX9: =SUM(AT9+AW9) -> 8 | AY9: 23 | AZ9: 16 | BA9: =AY9-AZ9 -> 7 | BB9: 0 | BC9: =SUM(AY9+BB9) -> 23 | BD9: 6 | BE9: 11 | BF9: =BD9-BE9 -> -5 | BG9: 5 | BH9: =SUM(BD9+BG9) -> 11 | BI9: 8 | BJ9: 13 | BK9: =BI9-BJ9 -> -5 | BL9: 5 | BM9: =SUM(BI9+BL9) -> 13 | BN9: 9 | BO9: 5 | BP9: =BN9-BO9 -> 4 | BQ9: 0 | BR9: =SUM(BN9+BQ9) -> 9 | BU9: =BS9-BT9 -> 0 | BY9: =BW9-BX9 -> 0 | CC9: =CA9-CB9 -> 0
A10: 8 | B10: дневна грижа за деца с трайни увреждания | C10: 20 | D10: 30 | E10: =K10+P10+U10+Z10+AE10+AJ10+AO10+AT10+AY10+BD10+BI10+BN10+BS10+BW10+CA10 -> 60 | F10: =L10+Q10+V10+AA10+AF10+AK10+AP10+AU10+AZ10+BE10+BJ10+BO10+BT10+BX10+CB10 -> 273 | G10: =M10+R10+W10+AB10+AG10+AL10+AQ10+AV10+BA10+BF10+BK10+BP10+BU10+BY10+CC10 -> -213 | H10: =N10+S10+X10+AC10+AH10+AM10+AR10+AW10+BB10+BG10+BL10+BQ10+BV10+BZ10+CD10 -> 219 | I10: =SUM(O10+T10+Y10+AD10+AI10+AN10+AS10+AX10+BH10+BM10+BR10) -> 259 | J10: =E10+H10-F10 -> 6 | K10: 0 | L10: 6 | M10: =K10-L10 -> -6 | N10: 6 | O10: =SUM(K10+N10) -> 6 | P10: 0 | Q10: 15 | R10: =P10-Q10 -> -15 | S10: 15 | T10: =SUM(P10+S10) -> 15 | U10: 0 | V10: 7 | W10: =U10-V10 -> -7 | X10: 7 | Y10: =SUM(U10+X10) -> 7 | Z10: 0 | AA10: 2 | AB10: =Z10-AA10 -> -2 | AC10: 2 | AD10: =SUM(Z10+AC10) -> 2 | AE10: 40 | AF10: 191 | AG10: =AE10-AF10 -> -151 | AH10: 151 | AI10: =SUM(AE10+AH10) -> 191 | AJ10: 0 | AK10: 3 | AL10: =AJ10-AK10 -> -3 | AM10: 3 | AN10: =SUM(AJ10+AM10) -> 3 | AO10: 0 | AP10: 4 | AQ10: =AO10-AP10 -> -4 | AR10: 4 | AS10: =SUM(AO10+AR10) -> 4 | AT10: 0 | AU10: 5 | AV10: =AT10-AU10 -> -5 | AW10: 5 | AX10: =SUM(AT10+AW10) -> 5 | AY10: 20 | AZ10: 14 | BA10: =AY10-AZ10 -> 6 | BB10: 0 | BC10: =SUM(AY10+BB10) -> 20 | BD10: 0 | BE10: 7 | BF10: =BD10-BE10 -> -7 | BG10: 7 | BH10: =SUM(BD10+BG10) -> 7 | BI10: 0 | BJ10: 13 | BK10: =BI10-BJ10 -> -13 | BL10: 13 | BM10: =SUM(BI10+BL10) -> 13 | BN10: 0 | BO10: 6 | BP10: =BN10-BO10 -> -6 | BQ10: 6 | BR10: =SUM(BN10+BQ10) -> 6 | BU10: =BS10-BT10 -> 0 | BY10: =BW10-BX10 -> 0 | CC10: =CA10-CB10 -> 0
A11: 9 | B11: дневна грижа за пълнолетни лица с трайни увреждания | C11: 20 | D11: 30 | E11: =K11+P11+U11+Z11+AE11+AJ11+AO11+AT11+AY11+BD11+BI11+BN11+BS11+BW11+CA11 -> 170 | F11: =L11+Q11+V11+AA11+AF11+AK11+AP11+AU11+AZ11+BE11+BJ11+BO11+BT11+BX11+CB11 -> 1096 | G11: =M11+R11+W11+AB11+AG11+AL11+AQ11+AV11+BA11+BF11+BK11+BP11+BU11+BY11+CC11 -> -926 | H11: =N11+S11+X11+AC11+AH11+AM11+AR11+AW11+BB11+BG11+BL11+BQ11+BV11+BZ11+CD11 -> 950 | I11: =SUM(E11+H11) -> 1120 | J11: =E11+H11-F11 -> 24 | K11: 0 | L11: 13 | M11: =K11-L11 -> -13 | N11: 13 | O11: =SUM(K11+N11) -> 13 | P11: 0 | Q11: 36 | R11: =P11-Q11 -> -36 | S11: 36 | T11: =SUM(P11+S11) -> 36 | U11: 0 | V11: 20 | W11: =U11-V11 -> -20 | X11: 20 | Y11: =SUM(U11+X11) -> 20 | Z11: 0 | AA11: 6 | AB11: =Z11-AA11 -> -6 | AC11: 6 | AD11: =SUM(Z11+AC11) -> 6 | AE11: 130 | AF11: 778 | AG11: =AE11-AF11 -> -648 | AH11: 648 | AI11: =SUM(AE11+AH11) -> 778 | AJ11: 0 | AK11: 10 | AL11: =AJ11-AK11 -> -10 | AM11: 10 | AN11: =SUM(AJ11+AM11) -> 10 | AO11: 0 | AP11: 19 | AQ11: =AO11-AP11 -> -19 | AR11: 19 | AS11: =SUM(AO11+AR11) -> 19 | AT11: 40 | AU11: 16 | AV11: =AT11-AU11 -> 24 | AW11: 0 | AX11: =SUM(AT11+AW11) -> 40 | AY11: 0 | AZ11: 76 | BA11: =AY11-AZ11 -> -76 | BB11: 76 | BC11: =SUM(AY11+BB11) -> 76 | BD11: 0 | BE11: 66 | BF11: =BD11-BE11 -> -66 | BG11: 66 | BH11: =SUM(BD11+BG11) -> 66 | BI11: 0 | BJ11: 42 | BK11: =BI11-BJ11 -> -42 | BL11: 42 | BM11: =SUM(BI11+BL11) -> 42 | BN11: 0 | BO11: 14 | BP11: =BN11-BO11 -> -14 | BQ11: 14 | BR11: =SUM(BN11+BQ11) -> 14 | BU11: =BS11-BT11 -> 0 | BY11: =BW11-BX11 -> 0 | CC11: =CA11-CB11 -> 0
A12: 10 | B12: осигуряване на подслон за бездомни лица | C12: 10 | D12: 50 | E12: =K12+P12+U12+Z12+AE12+AJ12+AO12+AT12+AY12+BD12+BI12+BN12+BS12+BW12+CA12 -> 50 | F12: =L12+Q12+V12+AA12+AF12+AK12+AP12+AU12+AZ12+BE12+BJ12+BO12+BT12+BX12+CB12 -> 30 | G12: =M12+R12+W12+AB12+AG12+AL12+AQ12+AV12+BA12+BF12+BK12+BP12+BU12+BY12+CC12 -> 20 | H12: =N12+S12+X12+AC12+AH12+AM12+AR12+AW12+BB12+BG12+BL12+BQ12+BV12+BZ12+CD12 -> 14 | I12: =SUM(O12+T12+Y12+AD12+AI12+AN12+AS12+AX12+BH12+BM12+BR12) -> 62 | J12: =E12+H12-F12 -> 34 | K12: 0 | L12: 1 | M12: =K12-L12 -> -1 | N12: 1 | O12: =SUM(K12+N12) -> 1 | P12: 0 | Q12: 2 | R12: =P12-Q12 -> -2 | S12: 2 | T12: =SUM(P12+S12) -> 2 | U12: 0 | V12: 1 | W12: =U12-V12 -> -1 | X12: 1 | Y12: =SUM(U12+X12) -> 1 | Z12: 0 | AA12: 1 | AB12: =Z12-AA12 -> -1 | AC12: 1 | AD12: =SUM(Z12+AC12) -> 1 | AE12: 50 | AF12: 16 | AG12: =AE12-AF12 -> 34 | AH12: 0 | AI12: =SUM(AE12+AH12) -> 50 | AJ12: 0 | AK12: 1 | AL12: =AJ12-AK12 -> -1 | AM12: 1 | AN12: =SUM(AJ12+AM12) -> 1 | AO12: 0 | AP12: 1 | AQ12: =AO12-AP12 -> -1 | AR12: 1 | AS12: =SUM(AO12+AR12) -> 1 | AT12: 0 | AU12: 1 | AV12: =AT12-AU12 -> -1 | AW12: 1 | AX12: =SUM(AT12+AW12) -> 1 | AY12: 0 | AZ12: 2 | BA12: =AY12-AZ12 -> -2 | BB12: 2 | BC12: =SUM(AY12+BB12) -> 2 | BD12: 0 | BE12: 1 | BF12: =BD12-BE12 -> -1 | BG12: 1 | BH12: =SUM(BD12+BG12) -> 1 | BI12: 0 | BJ12: 2 | BK12: =BI12-BJ12 -> -2 | BL12: 2 | BM12: =SUM(BI12+BL12) -> 2 | BN12: 0 | BO12: 1 | BP12: =BN12-BO12 -> -1 | BQ12: 1 | BR12: =SUM(BN12+BQ12) -> 1 | BU12: =BS12-BT12 -> 0 | BY12: =BW12-BX12 -> 0 | CC12: =CA12-CB12 -> 0
A13: 11 | B13: асистентска подкрепа | C13: - | D13: - | E13: =K13+P13+U13+Z13+AE13+AJ13+AO13+AT13+AY13+BD13+BI13+BN13+BS13+BW13+CA13 -> 1128 | F13: =L13+Q13+V13+AA13+AF13+AK13+AP13+AU13+AZ13+BE13+BJ13+BO13+BT13+BX13+CB13 -> 0 | G13: =M13+R13+W13+AB13+AG13+AL13+AQ13+AV13+BA13+BF13+BK13+BP13+BU13+BY13+CC13 -> 1128 | H13: =N13+S13+X13+AC13+AH13+AM13+AR13+AW13+BB13+BG13+BL13+BQ13+BV13+BZ13+CD13 -> 205 | I13: =SUM(O13+T13+Y13+AD13+AI13+AN13+AS13+AX13+BH13+BM13+BR13) -> 1273 | J13: =E13+H13-F13 -> 1333 | K13: 31 | L13: 0 | M13: =K13-L13 -> 31 | N13: 0 | O13: =SUM(K13+N13) -> 31 | P13: 57 | Q13: 0 | R13: =P13-Q13 -> 57 | S13: 0 | T13: =SUM(P13+S13) -> 57 | U13: 27 | V13: 0 | W13: =U13-V13 -> 27 | X13: 10 | Y13: =SUM(U13+X13) -> 37 | Z13: 11 | AA13: 0 | AB13: =Z13-AA13 -> 11 | AC13: 19 | AD13: =SUM(Z13+AC13) -> 30 | AE13: 728 | AF13: 0 | AG13: =AE13-AF13 -> 728 | AH13: 0 | AI13: =SUM(AE13+AH13) -> 728 | AJ13: 22 | AK13: 0 | AL13: =AJ13-AK13 -> 22 | AM13: 38 | AN13: =SUM(AJ13+AM13) -> 60 | AO13: 40 | AP13: 0 | AQ13: =AO13-AP13 -> 40 | AR13: 84 | AS13: =SUM(AO13+AR13) -> 124 | AT13: 21 | AU13: 0 | AV13: =AT13-AU13 -> 21 | AW13: 0 | AX13: =SUM(AT13+AW13) -> 21 | AY13: 51 | AZ13: 0 | BA13: =AY13-AZ13 -> 51 | BB13: 9 | BC13: =SUM(AY13+BB13) -> 60 | BD13: 48 | BE13: 0 | BF13: =BD13-BE13 -> 48 | BG13: 2 | BH13: =SUM(BD13+BG13) -> 50 | BI13: 70 | BJ13: 0 | BK13: =BI13-BJ13 -> 70 | BL13: 30 | BM13: =SUM(BI13+BL13) -> 100 | BN13: 22 | BO13: 0 | BP13: =BN13-BO13 -> 22 | BQ13: 13 | BR13: =SUM(BN13+BQ13) -> 35 | BU13: =BS13-BT13 -> 0 | BY13: =BW13-BX13 -> 0 | CC13: =CA13-CB13 -> 0
A14: 12 | B14: резидентна грижа за деца без увреждания | C14: 8 | D14: 12 | E14: =K14+P14+U14+Z14+AE14+AJ14+AO14+AT14+AY14+BD14+BI14+BN14+BS14+BW14+CA14 -> 59 | F14: =L14+Q14+V14+AA14+AF14+AK14+AP14+AU14+AZ14+BE14+BJ14+BO14+BT14+BX14+CB14 -> 79 | G14: =M14+R14+W14+AB14+AG14+AL14+AQ14+AV14+BA14+BF14+BK14+BP14+BU14+BY14+CC14 -> -20 | H14: =N14+S14+X14+AC14+AH14+AM14+AR14+AW14+BB14+BG14+BL14+BQ14+BV14+BZ14+CD14 -> 20 | I14: =SUM(O14+T14+Y14+AD14+AI14+AN14+AS14+AX14+BH14+BM14+BR14) -> 75 | J14: =E14+H14-F14 -> 0 | K14: 0 | L14: 2 | M14: =K14-L14 -> -2 | N14: 0 | O14: =SUM(K14+N14) -> 0 | P14: 15 | Q14: 4 | R14: =P14-Q14 -> 11 | S14: 0 | T14: =SUM(P14+S14) -> 15 | U14: 0 | V14: 2 | W14: =U14-V14 -> -2 | X14: 0 | Y14: =SUM(U14+X14) -> 0 | Z14: 0 | AA14: 1 | AB14: =Z14-AA14 -> -1 | AC14: 0 | AD14: =SUM(Z14+AC14) -> 0 | AE14: 36 | AF14: 52 | AG14: =AE14-AF14 -> -16 | AH14: 16 | AI14: =SUM(AE14+AH14) -> 52 | AJ14: 0 | AK14: 1 | AL14: =AJ14-AK14 -> -1 | AM14: 0 | AN14: =SUM(AJ14+AM14) -> 0 | AO14: 0 | AP14: 1 | AQ14: =AO14-AP14 -> -1 | AR14: 0 | AS14: =SUM(AO14+AR14) -> 0 | AT14: 0 | AU14: 2 | AV14: =AT14-AU14 -> -2 | AW14: 0 | AX14: =SUM(AT14+AW14) -> 0 | AY14: 0 | AZ14: 5 | BA14: =AY14-AZ14 -> -5 | BB14: 4 | BC14: =SUM(AY14+BB14) -> 4 | BD14: 0 | BE14: 3 | BF14: =BD14-BE14 -> -3 | BH14: =SUM(BD14+BG14) -> 0 | BI14: 8 | BJ14: 4 | BK14: =BI14-BJ14 -> 4 | BL14: 0 | BM14: =SUM(BI14+BL14) -> 8 | BN14: 0 | BO14: 2 | BP14: =BN14-BO14 -> -2 | BQ14: 0 | BR14: =SUM(BN14+BQ14) -> 0 | BU14: =BS14-BT14 -> 0 | BY14: =BW14-BX14 -> 0 | CC14: =CA14-CB14 -> 0
A15: 13 | B15: резидентна грижа за младежи до 25 г. | C15: 4 | D15: 6 | E15: =K15+P15+U15+Z15+AE15+AJ15+AO15+AT15+AY15+BD15+BI15+BN15+BS15+BW15+CA15 -> 4 | F15: =L15+Q15+V15+AA15+AF15+AK15+AP15+AU15+AZ15+BE15+BJ15+BO15+BT15+BX15+CB15 -> 0 | G15: =M15+R15+W15+AB15+AG15+AL15+AQ15+AV15+BA15+BF15+BK15+BP15+BU15+BY15+CC15 -> 4 | H15: =N15+S15+X15+AC15+AH15+AM15+AR15+AW15+BB15+BG15+BL15+BQ15+BV15+BZ15+CD15 -> 0 | I15: =SUM(O15+T15+Y15+AD15+AI15+AN15+AS15+AX15+BH15+BM15+BR15) -> 4 | J15: =E15+H15-F15 -> 4 | K15: 0 | L15: 0 | M15: =K15-L15 -> 0 | N15: 0 | O15: =SUM(K15+N15) -> 0 | P15: 0 | Q15: 0 | R15: =P15-Q15 -> 0 | S15: 0 | T15: =SUM(P15+S15) -> 0 | U15: 0 | V15: 0 | W15: =U15-V15 -> 0 | X15: 0 | Y15: =SUM(U15+X15) -> 0 | Z15: 0 | AA15: 0 | AB15: =Z15-AA15 -> 0 | AC15: 0 | AD15: =SUM(Z15+AC15) -> 0 | AE15: 4 | AF15: 0 | AG15: =AE15-AF15 -> 4 | AH15: 0 | AI15: =SUM(AE15+AH15) -> 4 | AJ15: 0 | AK15: 0 | AL15: =AJ15-AK15 -> 0 | AM15: 0 | AN15: =SUM(AJ15+AM15) -> 0 | AO15: 0 | AP15: 0 | AQ15: =AO15-AP15 -> 0 | AR15: 0 | AS15: =SUM(AO15+AR15) -> 0 | AT15: 0 | AU15: 0 | AV15: =AT15-AU15 -> 0 | AW15: 0 | AX15: =SUM(AT15+AW15) -> 0 | AY15: 0 | AZ15: 0 | BA15: =AY15-AZ15 -> 0 | BB15: 0 | BC15: =SUM(AY15+BB15) -> 0 | BD15: 0 | BE15: 0 | BF15: =BD15-BE15 -> 0 | BG15: 0 | BH15: =SUM(BD15+BG15) -> 0 | BI15: 0 | BJ15: 0 | BK15: =BI15-BJ15 -> 0 | BL15: 0 | BM15: =SUM(BI15+BL15) -> 0 | BN15: 0 | BO15: 0 | BP15: =BN15-BO15 -> 0 | BQ15: 0 | BR15: =SUM(BN15+BQ15) -> 0 | BU15: =BS15-BT15 -> 0 | BY15: =BW15-BX15 -> 0 | CC15: =CA15-CB15 -> 0
A16: 14 | B16: резидентна грижа за деца с трайни увреждания | C16: 8 | D16: 12 | E16: =K16+P16+U16+Z16+AE16+AJ16+AO16+AT16+AY16+BD16+BI16+BN16+BS16+BW16+CA16 -> 94 | F16: =L16+Q16+V16+AA16+AF16+AK16+AP16+AU16+AZ16+BE16+BJ16+BO16+BT16+BX16+CB16 -> 76 | G16: =M16+R16+W16+AB16+AG16+AL16+AQ16+AV16+BA16+BF16+BK16+BP16+BU16+BY16+CC16 -> 18 | H16: =N16+S16+X16+AC16+AH16+AM16+AR16+AW16+BB16+BG16+BL16+BQ16+BV16+BZ16+CD16 -> 0 | I16: =SUM(O16+T16+Y16+AD16+AI16+AN16+AS16+AX16+BH16+BM16+BR16) -> 80 | J16: =E16+H16-F16 -> 18 | K16: 0 | L16: 2 | M16: =K16-L16 -> -2 | N16: 0 | O16: =SUM(K16+N16) -> 0 | P16: 0 | Q16: 4 | R16: =P16-Q16 -> -4 | S16: 0 | T16: =SUM(P16+S16) -> 0 | U16: 0 | V16: 2 | W16: =U16-V16 -> -2 | X16: 0 | Y16: =SUM(U16+X16) -> 0 | Z16: 0 | AA16: 1 | AB16: =Z16-AA16 -> -1 | AC16: 0 | AD16: =SUM(Z16+AC16) -> 0 | AE16: 80 | AF16: 51 | AG16: =AE16-AF16 -> 29 | AH16: 0 | AI16: =SUM(AE16+AH16) -> 80 | AJ16: 0 | AK16: 1 | AL16: =AJ16-AK16 -> -1 | AM16: 0 | AN16: =SUM(AJ16+AM16) -> 0 | AO16: 0 | AP16: 1 | AQ16: =AO16-AP16 -> -1 | AR16: 0 | AS16: =SUM(AO16+AR16) -> 0 | AT16: 0 | AU16: 2 | AV16: =AT16-AU16 -> -2 | AW16: 0 | AX16: =SUM(AT16+AW16) -> 0 | AY16: 14 | AZ16: 4 | BA16: =AY16-AZ16 -> 10 | BB16: 0 | BC16: =SUM(AY16+BB16) -> 14 | BD16: 0 | BE16: 2 | BF16: =BD16-BE16 -> -2 | BG16: 0 | BH16: =SUM(BD16+BG16) -> 0 | BI16: 0 | BJ16: 4 | BK16: =BI16-BJ16 -> -4 | BL16: 0 | BM16: =SUM(BI16+BL16) -> 0 | BN16: 0 | BO16: 2 | BP16: =BN16-BO16 -> -2 | BQ16: 0 | BR16: =SUM(BN16+BQ16) -> 0 | BU16: =BS16-BT16 -> 0 | BY16: =BW16-BX16 -> 0 | CC16: =CA16-CB16 -> 0
A17: 15 | B17: резидентна грижа за пълнолетни лица с психични разстройства | C17: 8 | D17: 20 | E17: =K17+P17+U17+Z17+AE17+AJ17+AO17+AT17+AY17+BD17+BI17+BN17+BS17+BW17+CA17 -> 31 | F17: =L17+Q17+V17+AA17+AF17+AK17+AP17+AU17+AZ17+BE17+BJ17+BO17+BT17+BX17+CB17 -> 481 | G17: =M17+R17+W17+AB17+AG17+AL17+AQ17+AV17+BA17+BF17+BK17+BP17+BU17+BY17+CC17 -> -450 | H17: =N17+S17+X17+AC17+AH17+AM17+AR17+AW17+BB17+BG17+BL17+BQ17+BV17+BZ17+CD17 -> 450 | I17: =SUM(O17+T17+Y17+AD17+AI17+AN17+AS17+AX17+BH17+BM17+BR17) -> 338 | J17: =E17+H17-F17 -> 0 | K17: 0 | L17: 6 | M17: =K17-L17 -> -6 | N17: 0 | O17: =SUM(K17+N17) -> 0 | P17: 0 | Q17: 19 | R17: =P17-Q17 -> -19 | S17: 19 | T17: =SUM(P17+S17) -> 19 | U17: 0 | V17: 7 | W17: =U17-V17 -> -7 | X17: 0 | Y17: =SUM(U17+X17) -> 0 | Z17: 0 | AA17: 4 | AB17: =Z17-AA17 -> -4 | AC17: 0 | AD17: =SUM(Z17+AC17) -> 0 | AE17: 8 | AF17: 343 | AG17: =AE17-AF17 -> -335 | AH17: 311 | AI17: =SUM(AE17+AH17) -> 319 | AJ17: 0 | AK17: 8 | AL17: =AJ17-AK17 -> -8 | AM17: 0 | AN17: =SUM(AJ17+AM17) -> 0 | AO17: 0 | AP17: 15 | AQ17: =AO17-AP17 -> -15 | AR17: 0 | AS17: =SUM(AO17+AR17) -> 0 | AT17: 0 | AU17: 8 | AV17: =AT17-AU17 -> -8 | AW17: 0 | AX17: =SUM(AT17+AW17) -> 0 | AY17: 23 | AZ17: 27 | BA17: =AY17-AZ17 -> -4 | BB17: 120 | BC17: =SUM(AY17+BB17) -> 143 | BD17: 0 | BE17: 11 | BF17: =BD17-BE17 -> -11 | BG17: 0 | BH17: =SUM(BD17+BG17) -> 0 | BI17: 0 | BJ17: 27 | BK17: =BI17-BJ17 -> -27 | BL17: 0 | BM17: =SUM(BI17+BL17) -> 0 | BN17: 0 | BO17: 6 | BP17: =BN17-BO17 -> -6 | BQ17: 0 | BR17: =SUM(BN17+BQ17) -> 0 | BU17: =BS17-BT17 -> 0 | BY17: =BW17-BX17 -> 0 | CC17: =CA17-CB17 -> 0
A18: 16 | B18: резидентна грижа за пълнолетни лица с интелектуални затруднения | C18: 8 | D18: 30 | E18: =K18+P18+U18+Z18+AE18+AJ18+AO18+AT18+AY18+BD18+BI18+BN18+BS18+BW18+CA18 -> 162 | F18: =L18+Q18+V18+AA18+AF18+AK18+AP18+AU18+AZ18+BE18+BJ18+BO18+BT18+BX18+CB18 -> 293 | G18: =M18+R18+W18+AB18+AG18+AL18+AQ18+AV18+BA18+BF18+BK18+BP18+BU18+BY18+CC18 -> -131 | H18: =N18+S18+X18+AC18+AH18+AM18+AR18+AW18+BB18+BG18+BL18+BQ18+BV18+BZ18+CD18 -> 131 | I18: =SUM(O18+T18+Y18+AD18+AI18+AN18+AS18+AX18+BH18+BM18+BR18) -> 203 | J18: =E18+H18-F18 -> 0 | K18: 0 | L18: 5 | M18: =K18-L18 -> -5 | N18: 0 | O18: =SUM(K18+N18) -> 0 | P18: 0 | Q18: 12 | R18: =P18-Q18 -> -12 | S18: 0 | T18: =SUM(P18+S18) -> 0 | U18: 0 | V18: 8 | W18: =U18-V18 -> -8 | X18: 0 | Y18: =SUM(U18+X18) -> 0 | Z18: 0 | AA18: 2 | AB18: =Z18-AA18 -> -2 | AC18: 0 | AD18: =SUM(Z18+AC18) -> 0 | AE18: 10 | AF18: 185 | AG18: =AE18-AF18 -> -175 | AH18: 72 | AI18: =SUM(AE18+AH18) -> 82 | AJ18: 0 | AK18: 5 | AL18: =AJ18-AK18 -> -5 | AM18: 0 | AN18: =SUM(AJ18+AM18) -> 0 | AO18: 90 | AP18: 11 | AQ18: =AO18-AP18 -> 79 | AR18: 0 | AS18: =SUM(AO18+AR18) -> 90 | AT18: 0 | AU18: 7 | AV18: =AT18-AU18 -> -7 | AW18: 15 | AX18: =SUM(AT18+AW18) -> 15 | AY18: 54 | AZ18: 20 | BA18: =AY18-AZ18 -> 34 | BB18: 36 | BC18: =SUM(AY18+BB18) -> 90 | BD18: 0 | BE18: 14 | BF18: =BD18-BE18 -> -14 | BG18: 0 | BH18: =SUM(BD18+BG18) -> 0 | BI18: 8 | BJ18: 18 | BK18: =BI18-BJ18 -> -10 | BL18: 8 | BM18: =SUM(BI18+BL18) -> 16 | BN18: 0 | BO18: 6 | BP18: =BN18-BO18 -> -6 | BQ18: 0 | BR18: =SUM(BN18+BQ18) -> 0 | BU18: =BS18-BT18 -> 0 | BY18: =BW18-BX18 -> 0 | CC18: =CA18-CB18 -> 0
A19: 17 | B19: резидентна грижа за пълнолетни лица с физически увреждания | C19: 8 | D19: 30 | E19: =K19+P19+U19+Z19+AE19+AJ19+AO19+AT19+AY19+BD19+BI19+BN19+BS19+BW19+CA19 -> 55 | F19: =L19+Q19+V19+AA19+AF19+AK19+AP19+AU19+AZ19+BE19+BJ19+BO19+BT19+BX19+CB19 -> 911 | G19: =M19+R19+W19+AB19+AG19+AL19+AQ19+AV19+BA19+BF19+BK19+BP19+BU19+BY19+CC19 -> -856 | H19: =N19+S19+X19+AC19+AH19+AM19+AR19+AW19+BB19+BG19+BL19+BQ19+BV19+BZ19+CD19 -> 856 | I19: =SUM(O19+T19+Y19+AD19+AI19+AN19+AS19+AX19+BH19+BM19+BR19) -> 801 | J19: =E19+H19-F19 -> 0 | K19: 0 | L19: 15 | M19: =K19-L19 -> -15 | N19: 15 | O19: =SUM(K19+N19) -> 15 | P19: 0 | Q19: 65 | R19: =P19-Q19 -> -65 | S19: 65 | T19: =SUM(P19+S19) -> 65 | U19: 0 | V19: 25 | W19: =U19-V19 -> -25 | X19: 30 | Y19: =SUM(U19+X19) -> 30 | Z19: 8 | AA19: 7 | AB19: =Z19-AA19 -> 1 | AC19: 7 | AD19: =SUM(Z19+AC19) -> 15 | AE19: 0 | AF19: 339 | AG19: =AE19-AF19 -> -339 | AH19: 339 | AI19: =SUM(AE19+AH19) -> 339 | AJ19: 0 | AK19: 33 | AL19: =AJ19-AK19 -> -33 | AM19: 21 | AN19: =SUM(AJ19+AM19) -> 21 | AO19: 0 | AP19: 50 | AQ19: =AO19-AP19 -> -50 | AR19: 50 | AS19: =SUM(AO19+AR19) -> 50 | AT19: 0 | AU19: 17 | AV19: =AT19-AU19 -> -17 | AW19: 30 | AX19: =SUM(AT19+AW19) -> 30 | AY19: 0 | AZ19: 110 | BA19: =AY19-AZ19 -> -110 | BB19: 110 | BC19: =SUM(AY19+BB19) -> 110 | BD19: 0 | BE19: 109 | BF19: =BD19-BE19 -> -109 | BG19: 109 | BH19: =SUM(BD19+BG19) -> 109 | BI19: 47 | BJ19: 127 | BK19: =BI19-BJ19 -> -80 | BL19: 60 | BM19: =SUM(BI19+BL19) -> 107 | BN19: 0 | BO19: 14 | BP19: =BN19-BO19 -> -14 | BQ19: 20 | BR19: =SUM(BN19+BQ19) -> 20 | BU19: =BS19-BT19 -> 0 | BY19: =BW19-BX19 -> 0 | CC19: =CA19-CB19 -> 0
A20: 18 | B20: резидентна грижа за пълнолетни лица с деменция | C20: 8 | D20: 20 | E20: =K20+P20+U20+Z20+AE20+AJ20+AO20+AT20+AY20+BD20+BI20+BN20+BS20+BW20+CA20 -> 15 | F20: =L20+Q20+V20+AA20+AF20+AK20+AP20+AU20+AZ20+BE20+BJ20+BO20+BT20+BX20+CB20 -> 114 | G20: =M20+R20+W20+AB20+AG20+AL20+AQ20+AV20+BA20+BF20+BK20+BP20+BU20+BY20+CC20 -> -99 | H20: =N20+S20+X20+AC20+AH20+AM20+AR20+AW20+BB20+BG20+BL20+BQ20+BV20+BZ20+CD20 -> 99 | I20: =SUM(O20+T20+Y20+AD20+AI20+AN20+AS20+AX20+BH20+BM20+BR20) -> 114 | J20: =E20+H20-F20 -> 0 | K20: 0 | L20: 2 | M20: =K20-L20 -> -2 | N20: 0 | O20: =SUM(K20+N20) -> 0 | P20: 0 | Q20: 5 | R20: =P20-Q20 -> -5 | S20: 30 | T20: =SUM(P20+S20) -> 30 | U20: 0 | V20: 3 | W20: =U20-V20 -> -3 | X20: 0 | Y20: =SUM(U20+X20) -> 0 | Z20: 0 | AA20: 1 | AB20: =Z20-AA20 -> -1 | AC20: 0 | AD20: =SUM(Z20+AC20) -> 0 | AE20: 15 | AF20: 76 | AG20: =AE20-AF20 -> -61 | AH20: 60 | AI20: =SUM(AE20+AH20) -> 75 | AJ20: 0 | AK20: 2 | AL20: =AJ20-AK20 -> -2 | AM20: 0 | AN20: =SUM(AJ20+AM20) -> 0 | AO20: 0 | AP20: 3 | AQ20: =AO20-AP20 -> -3 | AR20: 0 | AS20: =SUM(AO20+AR20) -> 0 | AT20: 0 | AU20: 3 | AV20: =AT20-AU20 -> -3 | AW20: 0 | AX20: =SUM(AT20+AW20) -> 0 | AY20: 0 | AZ20: 6 | BA20: =AY20-AZ20 -> -6 | BB20: 0 | BC20: =SUM(AY20+BB20) -> 0 | BD20: 0 | BE20: 5 | BF20: =BD20-BE20 -> -5 | BG20: 1 | BH20: =SUM(BD20+BG20) -> 1 | BI20: 0 | BJ20: 6 | BK20: =BI20-BJ20 -> -6 | BL20: 6 | BM20: =SUM(BI20+BL20) -> 6 | BN20: 0 | BO20: 2 | BP20: =BN20-BO20 -> -2 | BQ20: 2 | BR20: =SUM(BN20+BQ20) -> 2 | BU20: =BS20-BT20 -> 0 | BY20: =BW20-BX20 -> 0 | CC20: =CA20-CB20 -> 0
