Workbook

Sheet НКСУ
A1: ПРЕДЛОЖЕНИЕ ЗА НАЦИОНАЛНА КАРТА НА СОЦИАЛНИТЕ УСЛУГИ
A2: № | B2: СОЦИАЛНА УСЛУГА | C2: КАРТА
A3: 1 | B3: информиране, консултиране и обучение за реализиране на социални права и за развиване на умения (общодостъпна услуга) | C3: =SUM('Р БЪЛГАРИЯ'!I4) -> 2360
A4: 2 | B4: мобилна превантивна общностна работа(общодостъпна услуга) | C4: =SUM('Р БЪЛГАРИЯ'!I5) -> 3256
A5: 3 | B5: информиране и консултиране (специализирана) | C5: =SUM('Р БЪЛГАРИЯ'!I6) -> 11260
A6: 4 | B6: застъпничество и посредничество | C6: =SUM('Р БЪЛГАРИЯ'!I7) -> 8438
A7: 5 | B7: терапия и рехабилитация | C7: =SUM('Р БЪЛГАРИЯ'!I8) -> 14773
A8: 6 | B8: обучение за придобиване на умения | C8: =SUM('Р БЪЛГАРИЯ'!I9) -> 11063
A9: 7 | B9: подкрепа за придобиване на трудови умения | C9: =SUM('Р БЪЛГАРИЯ'!I10) -> 4927
A10: 8 | B10: дневна грижа за деца с трайни увреждания | C10: =SUM('Р БЪЛГАРИЯ'!I11) -> 5874
A11: 9 | B11: дневна грижа за пълнолетни лица с трайни увреждания | C11: =SUM('Р БЪЛГАРИЯ'!I12) -> 15372
A12: 10 | B12: осигуряване на подслон за бездомни лица | C12: =SUM('Р БЪЛГАРИЯ'!I13) -> 1163
A13: 11 | B13: асистентска подкрепа | C13: =SUM('Р БЪЛГАРИЯ'!I14) -> 23577
A14: 12 | B14: резидентна грижа за деца без увреждания | C14: =SUM('Р БЪЛГАРИЯ'!I15) -> 2082
... A30: 28 | B30: осигуряване на подслон за пълнолетни лица, пострадали от домашно насилие и лица жертви на трафик | C30: =SUM('Р БЪЛГАРИЯ'!I31) -> 791

Sheet Р БЪЛГАРИЯ
A1: РЕПУБЛИКА БЪЛГАРИЯ
A2: № | B2: Социална услуга | C2: Брой на лицата, ползващи социалната услуга, съгласно разпоредбите на НКСУ | E2: СУ | F2: П5 | G2: Р | H2: П | I2: К
C3: мин. | D3: макс.
A4: 1 | B4: информиране, консултиране и обучение за реализиране на социални права и за развиване на умения (общодостъпна услуга) | C4: 10 | D4: 40 | E4: ='Област Благоевград'!E3+'Област Бургас'!E3+'Област Варна'!E3+'Област В. Търново'!E3+'Област Видин'!E3+'Област Враца'!E3+'Област Габрово'!E3+'Област Добрич'!E3+'Област Кърджали'!E3+'Област Кюстендил'!E3+'Област Ловеч'!E3+'Област Монтана'!E3+'Област Пазарджик'!E3+'Област Перник'!E3+'Област Плевен'!E3+'Област Пловдив'!E3+'Област Разград'!E3+'Област Русе'!E3+'Област Силистра'!E3+'Област Сливен'!E3+'Област Смолян'!E3+'Област София'!E3+'Област София-град'!E3+'Област Стара Загора'!E3+'Област Търговище'!E3+'Област Хасково'!E3+'Област Шумен'!E3+'Област Ямбол'!E3 -> 0 | F4: ='Област Благоевград'!F3+'Област Бургас'!F3+'Област Варна'!F3+'Област В. Търново'!F3+'Област Видин'!F3+'Област Враца'!F3+'Област Габрово'!F3+'Област Добрич'!F3+'Област Кърджали'!F3+'Област Кюстендил'!F3+'Област Ловеч'!F3+'Област Монтана'!F3+'Област Пазарджик'!F3+'Област Перник'!F3+'Област Плевен'!F3+'Област Пловдив'!F3+'Област Разград'!F3+'Област Русе'!F3+'Област Силистра'!F3+'Област Сливен'!F3+'Област Смолян'!F3+'Област София'!F3+'Област София-град'!F3+'Област Стара Загора'!F3+'Област Търговище'!F3+'Област Хасково'!F3+'Област Шумен'!F3+'Област Ямбол'!F3 -> 2372 | G4: ='Област Благоевград'!G3+'Област Бургас'!G3+'Област Варна'!G3+'Област В. Търново'!G3+'Област Видин'!G3+'Област Враца'!G3+'Област Габрово'!G3+'Област Добрич'!G3+'Област Кърджали'!G3+'Област Кюстендил'!G3+'Област Ловеч'!G3+'Област Монтана'!G3+'Област Пазарджик'!G3+'Област Перник'!G3+'Област Плевен'!G3+'Област Пловдив'!G3+'Област Разград'!G3+'Област Русе'!G3+'Област Силистра'!G3+'Област Сливен'!G3+'Област Смолян'!G3+'Област София'!G3+'Област София-град'!G3+'Област Стара Загора'!G3+'Област Търговище'!G3+'Област Хасково'!G3+'Област Шумен'!G3+'Област Ямбол'!G3 -> -2372 | H4: ='Област Благоевград'!H3+'Област Бургас'!H3+'Област Варна'!H3+'Област В. Търново'!H3+'Област Видин'!H3+'Област Враца'!H3+'Област Габрово'!H3+'Област Добрич'!H3+'Област Кърджали'!H3+'Област Кюстендил'!H3+'Област Ловеч'!H3+'Област Монтана'!H3+'Област Пазарджик'!H3+'Област Перник'!H3+'Област Плевен'!H3+'Област Пловдив'!H3+'Област Разград'!H3+'Област Русе'!H3+'Област Силистра'!H3+'Област Сливен'!H3+'Област Смолян'!H3+'Област София'!H3+'Област София-град'!H3+'Област Стара Загора'!H3+'Област Търговище'!H3+'Област Хасково'!H3+'Област Шумен'!H3+'Област Ямбол'!H3 -> 2373 | I4: ='Област Благоевград'!I3+'Област Бургас'!I3+'Област Варна'!I3+'Област В. Търново'!I3+'Област Видин'!I3+'Област Враца'!I3+'Област Габрово'!I3+'Област Добрич'!I3+'Област Кърджали'!I3+'Област Кюстендил'!I3+'Област Ловеч'!I3+'Област Монтана'!I3+'Област Пазарджик'!I3+'Област Перник'!I3+'Област Плевен'!I3+'Област Пловдив'!I3+'Област Разград'!I3+'Област Русе'!I3+'Област Силистра'!I3+'Област Сливен'!I3+'Област Смолян'!I3+'Област София'!I3+'Област София-град'!I3+'Област Стара Загора'!I3+'Област Търговище'!I3+'Област Хасково'!I3+'Област Шумен'!I3+'Област Ямбол'!I3 -> 2360
A5: 2 | B5: мобилна превантивна общностна работа(общодостъпна услуга) | C5: - | D5: - | E5: ='Област Благоевград'!E4+'Област Бургас'!E4+'Област Варна'!E4+'Област В. Търново'!E4+'Област Видин'!E4+'Област Враца'!E4+'Област Габрово'!E4+'Област Добрич'!E4+'Област Кърджали'!E4+'Област Кюстендил'!E4+'Област Ловеч'!E4+'Област Монтана'!E4+'Област Пазарджик'!E4+'Област Перник'!E4+'Област Плевен'!E4+'Област Пловдив'!E4+'Област Разград'!E4+'Област Русе'!E4+'Област Силистра'!E4+'Област Сливен'!E4+'Област Смолян'!E4+'Област София'!E4+'Област София-град'!E4+'Област Стара Загора'!E4+'Област Търговище'!E4+'Област Хасково'!E4+'Област Шумен'!E4+'Област Ямбол'!E4 -> 0 | F5: ='Област Благоевград'!F4+'Област Бургас'!F4+'Област Варна'!F4+'Област В. Търново'!F4+'Област Видин'!F4+'Област Враца'!F4+'Област Габрово'!F4+'Област Добрич'!F4+'Област Кърджали'!F4+'Област Кюстендил'!F4+'Област Ловеч'!F4+'Област Монтана'!F4+'Област Пазарджик'!F4+'Област Перник'!F4+'Област Плевен'!F4+'Област Пловдив'!F4+'Област Разград'!F4+'Област Русе'!F4+'Област Силистра'!F4+'Област Сливен'!F4+'Област Смолян'!F4+'Област София'!F4+'Област София-град'!F4+'Област Стара Загора'!F4+'Област Търговище'!F4+'Област Хасково'!F4+'Област Шумен'!F4+'Област Ямбол'!F4 -> 3273 | G5: ='Област Благоевград'!G4+'Област Бургас'!G4+'Област Варна'!G4+'Област В. Търново'!G4+'Област Видин'!G4+'Област Враца'!G4+'Област Габрово'!G4+'Област Добрич'!G4+'Област Кърджали'!G4+'Област Кюстендил'!G4+'Област Ловеч'!G4+'Област Монтана'!G4+'Област Пазарджик'!G4+'Област Перник'!G4+'Област Плевен'!G4+'Област Пловдив'!G4+'Област Разград'!G4+'Област Русе'!G4+'Област Силистра'!G4+'Област Сливен'!G4+'Област Смолян'!G4+'Област София'!G4+'Област София-град'!G4+'Област Стара Загора'!G4+'Област Търговище'!G4+'Област Хасково'!G4+'Област Шумен'!G4+'Област Ямбол'!G4 -> -3273 | H5: ='Област Благоевград'!H4+'Област Бургас'!H4+'Област Варна'!H4+'Област В. Търново'!H4+'Област Видин'!H4+'Област Враца'!H4+'Област Габрово'!H4+'Област Добрич'!H4+'Област Кърджали'!H4+'Област Кюстендил'!H4+'Област Ловеч'!H4+'Област Монтана'!H4+'Област Пазарджик'!H4+'Област Перник'!H4+'Област Плевен'!H4+'Област Пловдив'!H4+'Област Разград'!H4+'Област Русе'!H4+'Област Силистра'!H4+'Област Сливен'!H4+'Област Смолян'!H4+'Област София'!H4+'Област София-град'!H4+'Област Стара Загора'!H4+'Област Търговище'!H4+'Област Хасково'!H4+'Област Шумен'!H4+'Област Ямбол'!H4 -> 3275 | I5: ='Област Благоевград'!I4+'Област Бургас'!I4+'Област Варна'!I4+'Област В. Търново'!I4+'Област Видин'!I4+'Област Враца'!I4+'Област Габрово'!I4+'Област Добрич'!I4+'Област Кърджали'!I4+'Област Кюстендил'!I4+'Област Ловеч'!I4+'Област Монтана'!I4+'Област Пазарджик'!I4+'Област Перник'!I4+'Област Плевен'!I4+'Област Пловдив'!I4+'Област Разград'!I4+'Област Русе'!I4+'Област Силистра'!I4+'Област Сливен'!I4+'Област Смолян'!I4+'Област София'!I4+'Област София-град'!I4+'Област Стара Загора'!I4+'Област Търговище'!I4+'Област Хасково'!I4+'Област Шумен'!I4+'Област Ямбол'!I4 -> 3256
A6: 3 | B6: информиране и консултиране (специализирана) | C6: 4 | D6: 35 | E6: ='Област Благоевград'!E5+'Област Бургас'!E5+'Област Варна'!E5+'Област В. Търново'!E5+'Област Видин'!E5+'Област Враца'!E5+'Област Габрово'!E5+'Област Добрич'!E5+'Област Кърджали'!E5+'Област Кюстендил'!E5+'Област Ловеч'!E5+'Област Монтана'!E5+'Област Пазарджик'!E5+'Област Перник'!E5+'Област Плевен'!E5+'Област Пловдив'!E5+'Област Разград'!E5+'Област Русе'!E5+'Област Силистра'!E5+'Област Сливен'!E5+'Област Смолян'!E5+'Област София'!E5+'Област София-град'!E5+'Област Стара Загора'!E5+'Област Търговище'!E5+'Област Хасково'!E5+'Област Шумен'!E5+'Област Ямбол'!E5 -> 6792 | F6: ='Област Благоевград'!F5+'Област Бургас'!F5+'Област Варна'!F5+'Област В. Търново'!F5+'Област Видин'!F5+'Област Враца'!F5+'Област Габрово'!F5+'Област Добрич'!F5+'Област Кърджали'!F5+'Област Кюстендил'!F5+'Област Ловеч'!F5+'Област Монтана'!F5+'Област Пазарджик'!F5+'Област Перник'!F5+'Област Плевен'!F5+'Област Пловдив'!F5+'Област Разград'!F5+'Област Русе'!F5+'Област Силистра'!F5+'Област Сливен'!F5+'Област Смолян'!F5+'Област София'!F5+'Област София-град'!F5+'Област Стара Загора'!F5+'Област Търговище'!F5+'Област Хасково'!F5+'Област Шумен'!F5+'Област Ямбол'!F5 -> 10717 | G6: ='Област Благоевград'!G5+'Област Бургас'!G5+'Област Варна'!G5+'Област В. Търново'!G5+'Област Видин'!G5+'Област Враца'!G5+'Област Габрово'!G5+'Област Добрич'!G5+'Област Кърджали'!G5+'Област Кюстендил'!G5+'Област Ловеч'!G5+'Област Монтана'!G5+'Област Пазарджик'!G5+'Област Перник'!G5+'Област Плевен'!G5+'Област Пловдив'!G5+'Област Разград'!G5+'Област Русе'!G5+'Област Силистра'!G5+'Област Сливен'!G5+'Област Смолян'!G5+'Област София'!G5+'Област София-град'!G5+'Област Стара Загора'!G5+'Област Търговище'!G5+'Област Хасково'!G5+'Област Шумен'!G5+'Област Ямбол'!G5 -> -3925 | H6: ='Област Благоевград'!H5+'Област Бургас'!H5+'Област Варна'!H5+'Област В. Търново'!H5+'Област Видин'!H5+'Област Враца'!H5+'Област Габрово'!H5+'Област Добрич'!H5+'Област Кърджали'!H5+'Област Кюстендил'!H5+'Област Ловеч'!H5+'Област Монтана'!H5+'Област Пазарджик'!H5+'Област Перник'!H5+'Област Плевен'!H5+'Област Пловдив'!H5+'Област Разград'!H5+'Област Русе'!H5+'Област Силистра'!H5+'Област Сливен'!H5+'Област Смолян'!H5+'Област София'!H5+'Област София-град'!H5+'Област Стара Загора'!H5+'Област Търговище'!H5+'Област Хасково'!H5+'Област Шумен'!H5+'Област Ямбол'!H5 -> 4532 | I6: ='Област Благоевград'!I5+'Област Бургас'!I5+'Област Варна'!I5+'Област В. Търново'!I5+'Област Видин'!I5+'Област Враца'!I5+'Област Габрово'!I5+'Област Добрич'!I5+'Област Кърджали'!I5+'Област Кюстендил'!I5+'Област Ловеч'!I5+'Област Монтана'!I5+'Област Пазарджик'!I5+'Област Перник'!I5+'Област Плевен'!I5+'Област Пловдив'!I5+'Област Разград'!I5+'Област Русе'!I5+'Област Силистра'!I5+'Област Сливен'!I5+'Област Смолян'!I5+'Област София'!I5+'Област София-град'!I5+'Област Стара Загора'!I5+'Област Търговище'!I5+'Област Хасково'!I5+'Област Шумен'!I5+'Област Ямбол'!I5 -> 11260
A7: 4 | B7: застъпничество и посредничество | C7: 8 | D7: 25 | E7: ='Област Благоевград'!E6+'Област Бургас'!E6+'Област Варна'!E6+'Област В. Търново'!E6+'Област Видин'!E6+'Област Враца'!E6+'Област Габрово'!E6+'Област Добрич'!E6+'Област Кърджали'!E6+'Област Кюстендил'!E6+'Област Ловеч'!E6+'Област Монтана'!E6+'Област Пазарджик'!E6+'Област Перник'!E6+'Област Плевен'!E6+'Област Пловдив'!E6+'Област Разград'!E6+'Област Русе'!E6+'Област Силистра'!E6+'Област Сливен'!E6+'Област Смолян'!E6+'Област София'!E6+'Област София-град'!E6+'Област Стара Загора'!E6+'Област Търговище'!E6+'Област Хасково'!E6+'Област Шумен'!E6+'Област Ямбол'!E6 -> 6140 | F7: ='Област Благоевград'!F6+'Област Бургас'!F6+'Област Варна'!F6+'Област В. Търново'!F6+'Област Видин'!F6+'Област Враца'!F6+'Област Габрово'!F6+'Област Добрич'!F6+'Област Кърджали'!F6+'Област Кюстендил'!F6+'Област Ловеч'!F6+'Област Монтана'!F6+'Област Пазарджик'!F6+'Област Перник'!F6+'Област Плевен'!F6+'Област Пловдив'!F6+'Област Разград'!F6+'Област Русе'!F6+'Област Силистра'!F6+'Област Сливен'!F6+'Област Смолян'!F6+'Област София'!F6+'Област София-град'!F6+'Област Стара Загора'!F6+'Област Търговище'!F6+'Област Хасково'!F6+'Област Шумен'!F6+'Област Ямбол'!F6 -> 7591 | G7: ='Област Благоевград'!G6+'Област Бургас'!G6+'Област Варна'!G6+'Област В. Търново'!G6+'Област Видин'!G6+'Област Враца'!G6+'Област Габрово'!G6+'Област Добрич'!G6+'Област Кърджали'!G6+'Област Кюстендил'!G6+'Област Ловеч'!G6+'Област Монтана'!G6+'Област Пазарджик'!G6+'Област Перник'!G6+'Област Плевен'!G6+'Област Пловдив'!G6+'Област Разград'!G6+'Област Русе'!G6+'Област Силистра'!G6+'Област Сливен'!G6+'Област Смолян'!G6+'Област София'!G6+'Област София-град'!G6+'Област Стара Загора'!G6+'Област Търговище'!G6+'Област Хасково'!G6+'Област Шумен'!G6+'Област Ямбол'!G6 -> -1483 | H7: ='Област Благоевград'!H6+'Област Бургас'!H6+'Област Варна'!H6+'Област В. Търново'!H6+'Област Видин'!H6+'Област Враца'!H6+'Област Габрово'!H6+'Област Добрич'!H6+'Област Кърджали'!H6+'Област Кюстендил'!H6+'Област Ловеч'!H6+'Област Монтана'!H6+'Област Пазарджик'!H6+'Област Перник'!H6+'Област Плевен'!H6+'Област Пловдив'!H6+'Област Разград'!H6+'Област Русе'!H6+'Област Силистра'!H6+'Област Сливен'!H6+'Област Смолян'!H6+'Област София'!H6+'Област София-град'!H6+'Област Стара Загора'!H6+'Област Търговище'!H6+'Област Хасково'!H6+'Област Шумен'!H6+'Област Ямбол'!H6 -> 2345 | I7: ='Област Благоевград'!I6+'Област Бургас'!I6+'Област Варна'!I6+'Област В. Търново'!I6+'Област Видин'!I6+'Област Враца'!I6+'Област Габрово'!I6+'Област Добрич'!I6+'Област Кърджали'!I6+'Област Кюстендил'!I6+'Област Ловеч'!I6+'Област Монтана'!I6+'Област Пазарджик'!I6+'Област Перник'!I6+'Област Плевен'!I6+'Област Пловдив'!I6+'Област Разград'!I6+'Област Русе'!I6+'Област Силистра'!I6+'Област Сливен'!I6+'Област Смолян'!I6+'Област София'!I6+'Област София-град'!I6+'Област Стара Загора'!I6+'Област Търговище'!I6+'Област Хасково'!I6+'Област Шумен'!I6+'Област Ямбол'!I6 -> 8438
A8: 5 | B8: терапия и рехабилитация | C8: 20 | D8: 50 | E8: ='Област Благоевград'!E7+'Област Бургас'!E7+'Област Варна'!E7+'Област В. Търново'!E7+'Област Видин'!E7+'Област Враца'!E7+'Област Габрово'!E7+'Област Добрич'!E7+'Област Кърджали'!E7+'Област Кюстендил'!E7+'Област Ловеч'!E7+'Област Монтана'!E7+'Област Пазарджик'!E7+'Област Перник'!E7+'Област Плевен'!E7+'Област Пловдив'!E7+'Област Разград'!E7+'Област Русе'!E7+'Област Силистра'!E7+'Област Сливен'!E7+'Област Смолян'!E7+'Област София'!E7+'Област София-град'!E7+'Област Стара Загора'!E7+'Област Търговище'!E7+'Област Хасково'!E7+'Област Шумен'!E7+'Област Ямбол'!E7 -> 9170 | F8: ='Област Благоевград'!F7+'Област Бургас'!F7+'Област Варна'!F7+'Област В. Търново'!F7+'Област Видин'!F7+'Област Враца'!F7+'Област Габрово'!F7+'Област Добрич'!F7+'Област Кърджали'!F7+'Област Кюстендил'!F7+'Област Ловеч'!F7+'Област Монтана'!F7+'Област Пазарджик'!F7+'Област Перник'!F7+'Област Плевен'!F7+'Област Пловдив'!F7+'Област Разград'!F7+'Област Русе'!F7+'Област Силистра'!F7+'Област Сливен'!F7+'Област Смолян'!F7+'Област София'!F7+'Област София-град'!F7+'Област Стара Загора'!F7+'Област Търговище'!F7+'Област Хасково'!F7+'Област Шумен'!F7+'Област Ямбол'!F7 -> 13697 | G8: ='Област Благоевград'!G7+'Област Бургас'!G7+'Област Варна'!G7+'Област В. Търново'!G7+'Област Видин'!G7+'Област Враца'!G7+'Област Габрово'!G7+'Област Добрич'!G7+'Област Кърджали'!G7+'Област Кюстендил'!G7+'Област Ловеч'!G7+'Област Монтана'!G7+'Област Пазарджик'!G7+'Област Перник'!G7+'Област Плевен'!G7+'Област Пловдив'!G7+'Област Разград'!G7+'Област Русе'!G7+'Област Силистра'!G7+'Област Сливен'!G7+'Област Смолян'!G7+'Област София'!G7+'Област София-град'!G7+'Област Стара Загора'!G7+'Област Търговище'!G7+'Област Хасково'!G7+'Област Шумен'!G7+'Област Ямбол'!G7 -> -4527 | H8: ='Област Благоевград'!H7+'Област Бургас'!H7+'Област Варна'!H7+'Област В. Търново'!H7+'Област Видин'!H7+'Област Враца'!H7+'Област Габрово'!H7+'Област Добрич'!H7+'Област Кърджали'!H7+'Област Кюстендил'!H7+'Област Ловеч'!H7+'Област Монтана'!H7+'Област Пазарджик'!H7+'Област Перник'!H7+'Област Плевен'!H7+'Област Пловдив'!H7+'Област Разград'!H7+'Област Русе'!H7+'Област Силистра'!H7+'Област Сливен'!H7+'Област Смолян'!H7+'Област София'!H7+'Област София-град'!H7+'Област Стара Загора'!H7+'Област Търговище'!H7+'Област Хасково'!H7+'Област Шумен'!H7+'Област Ямбол'!H7 -> 5702 | I8: ='Област Благоевград'!I7+'Област Бургас'!I7+'Област Варна'!I7+'Област В. Търново'!I7+'Област Видин'!I7+'Област Враца'!I7+'Област Габрово'!I7+'Област Добрич'!I7+'Област Кърджали'!I7+'Област Кюстендил'!I7+'Област Ловеч'!I7+'Област Монтана'!I7+'Област Пазарджик'!I7+'Област Перник'!I7+'Област Плевен'!I7+'Област Пловдив'!I7+'Област Разград'!I7+'Област Русе'!I7+'Област Силистра'!I7+'Област Сливен'!I7+'Област Смолян'!I7+'Област София'!I7+'Област София-град'!I7+'Област Стара Загора'!I7+'Област Търговище'!I7+'Област Хасково'!I7+'Област Шумен'!I7+'Област Ямбол'!I7 -> 14773
A9: 6 | B9: обучение за придобиване на умения | C9: 8 | D9: 35 | E9: ='Област Благоевград'!E8+'Област Бургас'!E8+'Област Варна'!E8+'Област В. Търново'!E8+'Област Видин'!E8+'Област Враца'!E8+'Област Габрово'!E8+'Област Добрич'!E8+'Област Кърджали'!E8+'Област Кюстендил'!E8+'Област Ловеч'!E8+'Област Монтана'!E8+'Област Пазарджик'!E8+'Област Перник'!E8+'Област Плевен'!E8+'Област Пловдив'!E8+'Област Разград'!E8+'Област Русе'!E8+'Област Силистра'!E8+'Област Сливен'!E8+'Област Смолян'!E8+'Област София'!E8+'Област София-град'!E8+'Област Стара Загора'!E8+'Област Търговище'!E8+'Област Хасково'!E8+'Област Шумен'!E8+'Област Ямбол'!E8 -> 8504 | F9: ='Област Благоевград'!F8+'Област Бургас'!F8+'Област Варна'!F8+'Област В. Търново'!F8+'Област Видин'!F8+'Област Враца'!F8+'Област Габрово'!F8+'Област Добрич'!F8+'Област Кърджали'!F8+'Област Кюстендил'!F8+'Област Ловеч'!F8+'Област Монтана'!F8+'Област Пазарджик'!F8+'Област Перник'!F8+'Област Плевен'!F8+'Област Пловдив'!F8+'Област Разград'!F8+'Област Русе'!F8+'Област Силистра'!F8+'Област Сливен'!F8+'Област Смолян'!F8+'Област София'!F8+'Област София-град'!F8+'Област Стара Загора'!F8+'Област Търговище'!F8+'Област Хасково'!F8+'Област Шумен'!F8+'Област Ямбол'!F8 -> 9266 | G9: ='Област Благоевград'!G8+'Област Бургас'!G8+'Област Варна'!G8+'Област В. Търново'!G8+'Област Видин'!G8+'Област Враца'!G8+'Област Габрово'!G8+'Област Добрич'!G8+'Област Кърджали'!G8+'Област Кюстендил'!G8+'Област Ловеч'!G8+'Област Монтана'!G8+'Област Пазарджик'!G8+'Област Перник'!G8+'Област Плевен'!G8+'Област Пловдив'!G8+'Област Разград'!G8+'Област Русе'!G8+'Област Силистра'!G8+'Област Сливен'!G8+'Област Смолян'!G8+'Област София'!G8+'Област София-град'!G8+'Област Стара Загора'!G8+'Област Търговище'!G8+'Област Хасково'!G8+'Област Шумен'!G8+'Област Ямбол'!G8 -> -762 | H9: ='Област Благоевград'!H8+'Област Бургас'!H8+'Област Варна'!H8+'Област В. Търново'!H8+'Област Видин'!H8+'Област Враца'!H8+'Област Габрово'!H8+'Област Добрич'!H8+'Област Кърджали'!H8+'Област Кюстендил'!H8+'Област Ловеч'!H8+'Област Монтана'!H8+'Област Пазарджик'!H8+'Област Перник'!H8+'Област Плевен'!H8+'Област Пловдив'!H8+'Област Разград'!H8+'Област Русе'!H8+'Област Силистра'!H8+'Област Сливен'!H8+'Област Смолян'!H8+'Област София'!H8+'Област София-град'!H8+'Област Стара Загора'!H8+'Област Търговище'!H8+'Област Хасково'!H8+'Област Шумен'!H8+'Област Ямбол'!H8 -> 2646 | I9: ='Област Благоевград'!I8+'Област Бургас'!I8+'Област Варна'!I8+'Област В. Търново'!I8+'Област Видин'!I8+'Област Враца'!I8+'Област Габрово'!I8+'Област Добрич'!I8+'Област Кърджали'!I8+'Област Кюстендил'!I8+'Област Ловеч'!I8+'Област Монтана'!I8+'Област Пазарджик'!I8+'Област Перник'!I8+'Област Плевен'!I8+'Област Пловдив'!I8+'Област Разград'!I8+'Област Русе'!I8+'Област Силистра'!I8+'Област Сливен'!I8+'Област Смолян'!I8+'Област София'!I8+'Област София-град'!I8+'Област Стара Загора'!I8+'Област Търговище'!I8+'Област Хасково'!I8+'Област Шумен'!I8+'Област Ямбол'!I8 -> 11063
A10: 7 | B10: подкрепа за придобиване на трудови умения | C10: 8 | D10: 30 | E10: ='Област Благоевград'!E9+'Област Бургас'!E9+'Област Варна'!E9+'Област В. Търново'!E9+'Област Видин'!E9+'Област Враца'!E9+'Област Габрово'!E9+'Област Добрич'!E9+'Област Кърджали'!E9+'Област Кюстендил'!E9+'Област Ловеч'!E9+'Област Монтана'!E9+'Област Пазарджик'!E9+'Област Перник'!E9+'Област Плевен'!E9+'Област Пловдив'!E9+'Област Разград'!E9+'Област Русе'!E9+'Област Силистра'!E9+'Област Сливен'!E9+'Област Смолян'!E9+'Област София'!E9+'Област София-град'!E9+'Област Стара Загора'!E9+'Област Търговище'!E9+'Област Хасково'!E9+'Област Шумен'!E9+'Област Ямбол'!E9 -> 3185 | F10: ='Област Благоевград'!F9+'Област Бургас'!F9+'Област Варна'!F9+'Област В. Търново'!F9+'Област Видин'!F9+'Област Враца'!F9+'Област Габрово'!F9+'Област Добрич'!F9+'Област Кърджали'!F9+'Област Кюстендил'!F9+'Област Ловеч'!F9+'Област Монтана'!F9+'Област Пазарджик'!F9+'Област Перник'!F9+'Област Плевен'!F9+'Област Пловдив'!F9+'Област Разград'!F9+'Област Русе'!F9+'Област Силистра'!F9+'Област Сливен'!F9+'Област Смолян'!F9+'Област София'!F9+'Област София-град'!F9+'Област Стара Загора'!F9+'Област Търговище'!F9+'Област Хасково'!F9+'Област Шумен'!F9+'Област Ямбол'!F9 -> 4327 | G10: ='Област Благоевград'!G9+'Област Бургас'!G9+'Област Варна'!G9+'Област В. Търново'!G9+'Област Видин'!G9+'Област Враца'!G9+'Област Габрово'!G9+'Област Добрич'!G9+'Област Кърджали'!G9+'Област Кюстендил'!G9+'Област Ловеч'!G9+'Област Монтана'!G9+'Област Пазарджик'!G9+'Област Перник'!G9+'Област Плевен'!G9+'Област Пловдив'!G9+'Област Разград'!G9+'Област Русе'!G9+'Област Силистра'!G9+'Област Сливен'!G9+'Област Смолян'!G9+'Област София'!G9+'Област София-град'!G9+'Област Стара Загора'!G9+'Област Търговище'!G9+'Област Хасково'!G9+'Област Шумен'!G9+'Област Ямбол'!G9 -> -1142 | H10: ='Област Благоевград'!H9+'Област Бургас'!H9+'Област Варна'!H9+'Област В. Търново'!H9+'Област Видин'!H9+'Област Враца'!H9+'Област Габрово'!H9+'Област Добрич'!H9+'Област Кърджали'!H9+'Област Кюстендил'!H9+'Област Ловеч'!H9+'Област Монтана'!H9+'Област Пазарджик'!H9+'Област Перник'!H9+'Област Плевен'!H9+'Област Пловдив'!H9+'Област Разград'!H9+'Област Русе'!H9+'Област Силистра'!H9+'Област Сливен'!H9+'Област Смолян'!H9+'Област София'!H9+'Област София-град'!H9+'Област Стара Загора'!H9+'Област Търговище'!H9+'Област Хасково'!H9+'Област Шумен'!H9+'Област Ямбол'!H9 -> 1798 | I10: ='Област Благоевград'!I9+'Област Бургас'!I9+'Област Варна'!I9+'Област В. Търново'!I9+'Област Видин'!I9+'Област Враца'!I9+'Област Габрово'!I9+'Област Добрич'!I9+'Област Кърджали'!I9+'Област Кюстендил'!I9+'Област Ловеч'!I9+'Област Монтана'!I9+'Област Пазарджик'!I9+'Област Перник'!I9+'Област Плевен'!I9+'Област Пловдив'!I9+'Област Разград'!I9+'Област Русе'!I9+'Област Силистра'!I9+'Област Сливен'!I9+'Област Смолян'!I9+'Област София'!I9+'Област София-град'!I9+'Област Стара Загора'!I9+'Област Търговище'!I9+'Област Хасково'!I9+'Област Шумен'!I9+'Област Ямбол'!I9 -> 4927
A11: 8 | B11: дневна грижа за деца с трайни увреждания | C11: 20 | D11: 30 | E11: ='Област Благоевград'!E10+'Област Бургас'!E10+'Област Варна'!E10+'Област В. Търново'!E10+'Област Видин'!E10+'Област Враца'!E10+'Област Габрово'!E10+'Област Добрич'!E10+'Област Кърджали'!E10+'Област Кюстендил'!E10+'Област Ловеч'!E10+'Област Монтана'!E10+'Област Пазарджик'!E10+'Област Перник'!E10+'Област Плевен'!E10+'Област Пловдив'!E10+'Област Разград'!E10+'Област Русе'!E10+'Област Силистра'!E10+'Област Сливен'!E10+'Област Смолян'!E10+'Област София'!E10+'Област София-град'!E10+'Област Стара Загора'!E10+'Област Търговище'!E10+'Област Хасково'!E10+'Област Шумен'!E10+'Област Ямбол'!E10 -> 3868 | F11: ='Област Благоевград'!F10+'Област Бургас'!F10+'Област Варна'!F10+'Област В. Търново'!F10+'Област Видин'!F10+'Област Враца'!F10+'Област Габрово'!F10+'Област Добрич'!F10+'Област Кърджали'!F10+'Област Кюстендил'!F10+'Област Ловеч'!F10+'Област Монтана'!F10+'Област Пазарджик'!F10+'Област Перник'!F10+'Област Плевен'!F10+'Област Пловдив'!F10+'Област Разград'!F10+'Област Русе'!F10+'Област Силистра'!F10+'Област Сливен'!F10+'Област Смолян'!F10+'Област София'!F10+'Област София-град'!F10+'Област Стара Загора'!F10+'Област Търговище'!F10+'Област Хасково'!F10+'Област Шумен'!F10+'Област Ямбол'!F10 -> 4744 | G11: ='Област Благоевград'!G10+'Област Бургас'!G10+'Област Варна'!G10+'Област В. Търново'!G10+'Област Видин'!G10+'Област Враца'!G10+'Област Габрово'!G10+'Област Добрич'!G10+'Област Кърджали'!G10+'Област Кюстендил'!G10+'Област Ловеч'!G10+'Област Монтана'!G10+'Област Пазарджик'!G10+'Област Перник'!G10+'Област Плевен'!G10+'Област Пловдив'!G10+'Област Разград'!G10+'Област Русе'!G10+'Област Силистра'!G10+'Област Сливен'!G10+'Област Смолян'!G10+'Област София'!G10+'Област София-град'!G10+'Област Стара Загора'!G10+'Област Търговище'!G10+'Област Хасково'!G10+'Област Шумен'!G10+'Област Ямбол'!G10 -> -882 | H11: ='Област Благоевград'!H10+'Област Бургас'!H10+'Област Варна'!H10+'Област В. Търново'!H10+'Област Видин'!H10+'Област Враца'!H10+'Област Габрово'!H10+'Област Добрич'!H10+'Област Кърджали'!H10+'Област Кюстендил'!H10+'Област Ловеч'!H10+'Област Монтана'!H10+'Област Пазарджик'!H10+'Област Перник'!H10+'Област Плевен'!H10+'Област Пловдив'!H10+'Област Разград'!H10+'Област Русе'!H10+'Област Силистра'!H10+'Област Сливен'!H10+'Област Смолян'!H10+'Област София'!H10+'Област София-град'!H10+'Област Стара Загора'!H10+'Област Търговище'!H10+'Област Хасково'!H10+'Област Шумен'!H10+'Област Ямбол'!H10 -> 2058 | I11: ='Област Благоевград'!I10+'Област Бургас'!I10+'Област Варна'!I10+'Област В. Търново'!I10+'Област Видин'!I10+'Област Враца'!I10+'Област Габрово'!I10+'Област Добрич'!I10+'Област Кърджали'!I10+'Област Кюстендил'!I10+'Област Ловеч'!I10+'Област Монтана'!I10+'Област Пазарджик'!I10+'Област Перник'!I10+'Област Плевен'!I10+'Област Пловдив'!I10+'Област Разград'!I10+'Област Русе'!I10+'Област Силистра'!I10+'Област Сливен'!I10+'Област Смолян'!I10+'Област София'!I10+'Област София-град'!I10+'Област Стара Загора'!I10+'Област Търговище'!I10+'Област Хасково'!I10+'Област Шумен'!I10+'Област Ямбол'!I10 -> 5874
A12: 9 | B12: дневна грижа за пълнолетни лица с трайни увреждания | C12: 20 | D12: 30 | E12: ='Област Благоевград'!E11+'Област Бургас'!E11+'Област Варна'!E11+'Област В. Търново'!E11+'Област Видин'!E11+'Област Враца'!E11+'Област Габрово'!E11+'Област Добрич'!E11+'Област Кърджали'!E11+'Област Кюстендил'!E11+'Област Ловеч'!E11+'Област Монтана'!E11+'Област Пазарджик'!E11+'Област Перник'!E11+'Област Плевен'!E11+'Област Пловдив'!E11+'Област Разград'!E11+'Област Русе'!E11+'Област Силистра'!E11+'Област Сливен'!E11+'Област Смолян'!E11+'Област София'!E11+'Област София-град'!E11+'Област Стара Загора'!E11+'Област Търговище'!E11+'Област Хасково'!E11+'Област Шумен'!E11+'Област Ямбол'!E11 -> 2949 | F12: ='Област Благоевград'!F11+'Област Бургас'!F11+'Област Варна'!F11+'Област В. Търново'!F11+'Област Видин'!F11+'Област Враца'!F11+'Област Габрово'!F11+'Област Добрич'!F11+'Област Кърджали'!F11+'Област Кюстендил'!F11+'Област Ловеч'!F11+'Област Монтана'!F11+'Област Пазарджик'!F11+'Област Перник'!F11+'Област Плевен'!F11+'Област Пловдив'!F11+'Област Разград'!F11+'Област Русе'!F11+'Област Силистра'!F11+'Област Сливен'!F11+'Област Смолян'!F11+'Област София'!F11+'Област София-град'!F11+'Област Стара Загора'!F11+'Област Търговище'!F11+'Област Хасково'!F11+'Област Шумен'!F11+'Област Ямбол'!F11 -> 15149 | G12: ='Област Благоевград'!G11+'Област Бургас'!G11+'Област Варна'!G11+'Област В. Търново'!G11+'Област Видин'!G11+'Област Враца'!G11+'Област Габрово'!G11+'Област Добрич'!G11+'Област Кърджали'!G11+'Област Кюстендил'!G11+'Област Ловеч'!G11+'Област Монтана'!G11+'Област Пазарджик'!G11+'Област Перник'!G11+'Област Плевен'!G11+'Област Пловдив'!G11+'Област Разград'!G11+'Област Русе'!G11+'Област Силистра'!G11+'Област Сливен'!G11+'Област Смолян'!G11+'Област София'!G11+'Област София-град'!G11+'Област Стара Загора'!G11+'Област Търговище'!G11+'Област Хасково'!G11+'Област Шумен'!G11+'Област Ямбол'!G11 -> -12200 | H12: ='Област Благоевград'!H11+'Област Бургас'!H11+'Област Варна'!H11+'Област В. Търново'!H11+'Област Видин'!H11+'Област Враца'!H11+'Област Габрово'!H11+'Област Добрич'!H11+'Област Кърджали'!H11+'Област Кюстендил'!H11+'Област Ловеч'!H11+'Област Монтана'!H11+'Област Пазарджик'!H11+'Област Перник'!H11+'Област Плевен'!H11+'Област Пловдив'!H11+'Област Разград'!H11+'Област Русе'!H11+'Област Силистра'!H11+'Област Сливен'!H11+'Област Смолян'!H11+'Област София'!H11+'Област София-град'!H11+'Област Стара Загора'!H11+'Област Търговище'!H11+'Област Хасково'!H11+'Област Шумен'!H11+'Област Ямбол'!H11 -> 12458 | I12: ='Област Благоевград'!I11+'Област Бургас'!I11+'Област Варна'!I11+'Област В. Търново'!I11+'Област Видин'!I11+'Област Враца'!I11+'Област Габрово'!I11+'Област Добрич'!I11+'Област Кърджали'!I11+'Област Кюстендил'!I11+'Област Ловеч'!I11+'Област Монтана'!I11+'Област Пазарджик'!I11+'Област Перник'!I11+'Област Плевен'!I11+'Област Пловдив'!I11+'Област Разград'!I11+'Област Русе'!I11+'Област Силистра'!I11+'Област Сливен'!I11+'Област Смолян'!I11+'Област София'!I11+'Област София-град'!I11+'Област Стара Загора'!I11+'Област Търговище'!I11+'Област Хасково'!I11+'Област Шумен'!I11+'Област Ямбол'!I11 -> 15372
A13: 10 | B13: осигуряване на подслон за бездомни лица | C13: 10 | D13: 50 | E13: ='Област Благоевград'!E12+'Област Бургас'!E12+'Област Варна'!E12+'Област В. Търново'!E12+'Област Видин'!E12+'Област Враца'!E12+'Област Габрово'!E12+'Област Добрич'!E12+'Област Кърджали'!E12+'Област Кюстендил'!E12+'Област Ловеч'!E12+'Област Монтана'!E12+'Област Пазарджик'!E12+'Област Перник'!E12+'Област Плевен'!E12+'Област Пловдив'!E12+'Област Разград'!E12+'Област Русе'!E12+'Област Силистра'!E12+'Област Сливен'!E12+'Област Смолян'!E12+'Област София'!E12+'Област София-град'!E12+'Област Стара Загора'!E12+'Област Търговище'!E12+'Област Хасково'!E12+'Област Шумен'!E12+'Област Ямбол'!E12 -> 865 | F13: ='Област Благоевград'!F12+'Област Бургас'!F12+'Област Варна'!F12+'Област В. Търново'!F12+'Област Видин'!F12+'Област Враца'!F12+'Област Габрово'!F12+'Област Добрич'!F12+'Област Кърджали'!F12+'Област Кюстендил'!F12+'Област Ловеч'!F12+'Област Монтана'!F12+'Област Пазарджик'!F12+'Област Перник'!F12+'Област Плевен'!F12+'Област Пловдив'!F12+'Област Разград'!F12+'Област Русе'!F12+'Област Силистра'!F12+'Област Сливен'!F12+'Област Смолян'!F12+'Област София'!F12+'Област София-град'!F12+'Област Стара Загора'!F12+'Област Търговище'!F12+'Област Хасково'!F12+'Област Шумен'!F12+'Област Ямбол'!F12 -> 503 | G13: ='Област Благоевград'!G12+'Област Бургас'!G12+'Област Варна'!G12+'Област В. Търново'!G12+'Област Видин'!G12+'Област Враца'!G12+'Област Габрово'!G12+'Област Добрич'!G12+'Област Кърджали'!G12+'Област Кюстендил'!G12+'Област Ловеч'!G12+'Област Монтана'!G12+'Област Пазарджик'!G12+'Област Перник'!G12+'Област Плевен'!G12+'Област Пловдив'!G12+'Област Разград'!G12+'Област Русе'!G12+'Област Силистра'!G12+'Област Сливен'!G12+'Област Смолян'!G12+'Област София'!G12+'Област София-град'!G12+'Област Стара Загора'!G12+'Област Търговище'!G12+'Област Хасково'!G12+'Област Шумен'!G12+'Област Ямбол'!G12 -> 362 | H13: ='Област Благоевград'!H12+'Област Бургас'!H12+'Област Варна'!H12+'Област В. Търново'!H12+'Област Видин'!H12+'Област Враца'!H12+'Област Габрово'!H12+'Област Добрич'!H12+'Област Кърджали'!H12+'Област Кюстендил'!H12+'Област Ловеч'!H12+'Област Монтана'!H12+'Област Пазарджик'!H12+'Област Перник'!H12+'Област Плевен'!H12+'Област Пловдив'!H12+'Област Разград'!H12+'Област Русе'!H12+'Област Силистра'!H12+'Област Сливен'!H12+'Област Смолян'!H12+'Област София'!H12+'Област София-град'!H12+'Област Стара Загора'!H12+'Област Търговище'!H12+'Област Хасково'!H12+'Област Шумен'!H12+'Област Ямбол'!H12 -> 300 | I13: ='Област Благоевград'!I12+'Област Бургас'!I12+'Област Варна'!I12+'Област В. Търново'!I12+'Област Видин'!I12+'Област Враца'!I12+'Област Габрово'!I12+'Област Добрич'!I12+'Област Кърджали'!I12+'Област Кюстендил'!I12+'Област Ловеч'!I12+'Област Монтана'!I12+'Област Пазарджик'!I12+'Област Перник'!I12+'Област Плевен'!I12+'Област Пловдив'!I12+'Област Разград'!I12+'Област Русе'!I12+'Област Силистра'!I12+'Област Сливен'!I12+'Област Смолян'!I12+'Област София'!I12+'Област София-град'!I12+'Област Стара Загора'!I12+'Област Търговище'!I12+'Област Хасково'!I12+'Област Шумен'!I12+'Област Ямбол'!I12 -> 1163
A14: 11 | B14: асистентска подкрепа | C14: - | D14: - | E14: ='Област Благоевград'!E13+'Област Бургас'!E13+'Област Варна'!E13+'Област В. Търново'!E13+'Област Видин'!E13+'Област Враца'!E13+'Област Габрово'!E13+'Област Добрич'!E13+'Област Кърджали'!E13+'Област Кюстендил'!E13+'Област Ловеч'!E13+'Област Монтана'!E13+'Област Пазарджик'!E13+'Област Перник'!E13+'Област Плевен'!E13+'Област Пловдив'!E13+'Област Разград'!E13+'Област Русе'!E13+'Област Силистра'!E13+'Област Сливен'!E13+'Област Смолян'!E13+'Област София'!E13+'Област София-град'!E13+'Област Стара Загора'!E13+'Област Търговище'!E13+'Област Хасково'!E13+'Област Шумен'!E13+'Област Ямбол'!E13 -> 21370 | F14: ='Област Благоевград'!F13+'Област Бургас'!F13+'Област Варна'!F13+'Област В. Търново'!F13+'Област Видин'!F13+'Област Враца'!F13+'Област Габрово'!F13+'Област Добрич'!F13+'Област Кърджали'!F13+'Област Кюстендил'!F13+'Област Ловеч'!F13+'Област Монтана'!F13+'Област Пазарджик'!F13+'Област Перник'!F13+'Област Плевен'!F13+'Област Пловдив'!F13+'Област Разград'!F13+'Област Русе'!F13+'Област Силистра'!F13+'Област Сливен'!F13+'Област Смолян'!F13+'Област София'!F13+'Област София-град'!F13+'Област Стара Загора'!F13+'Област Търговище'!F13+'Област Хасково'!F13+'Област Шумен'!F13+'Област Ямбол'!F13 -> 0 | G14: ='Област Благоевград'!G13+'Област Бургас'!G13+'Област Варна'!G13+'Област В. Търново'!G13+'Област Видин'!G13+'Област Враца'!G13+'Област Габрово'!G13+'Област Добрич'!G13+'Област Кърджали'!G13+'Област Кюстендил'!G13+'Област Ловеч'!G13+'Област Монтана'!G13+'Област Пазарджик'!G13+'Област Перник'!G13+'Област Плевен'!G13+'Област Пловдив'!G13+'Област Разград'!G13+'Област Русе'!G13+'Област Силистра'!G13+'Област Сливен'!G13+'Област Смолян'!G13+'Област София'!G13+'Област София-град'!G13+'Област Стара Загора'!G13+'Област Търговище'!G13+'Област Хасково'!G13+'Област Шумен'!G13+'Област Ямбол'!G13 -> 21370 | H14: ='Област Благоевград'!H13+'Област Бургас'!H13+'Област Варна'!H13+'Област В. Търново'!H13+'Област Видин'!H13+'Област Враца'!H13+'Област Габрово'!H13+'Област Добрич'!H13+'Област Кърджали'!H13+'Област Кюстендил'!H13+'Област Ловеч'!H13+'Област Монтана'!H13+'Област Пазарджик'!H13+'Област Перник'!H13+'Област Плевен'!H13+'Област Пловдив'!H13+'Област Разград'!H13+'Област Русе'!H13+'Област Силистра'!H13+'Област Сливен'!H13+'Област Смолян'!H13+'Област София'!H13+'Област София-град'!H13+'Област Стара Загора'!H13+'Област Търговище'!H13+'Област Хасково'!H13+'Област Шумен'!H13+'Област Ямбол'!H13 -> 2141 | I14: ='Област Благоевград'!I13+'Област Бургас'!I13+'Област Варна'!I13+'Област В. Търново'!I13+'Област Видин'!I13+'Област Враца'!I13+'Област Габрово'!I13+'Област Добрич'!I13+'Област Кърджали'!I13+'Област Кюстендил'!I13+'Област Ловеч'!I13+'Област Монтана'!I13+'Област Пазарджик'!I13+'Област Перник'!I13+'Област Плевен'!I13+'Област Пловдив'!I13+'Област Разград'!I13+'Област Русе'!I13+'Област Силистра'!I13+'Област Сливен'!I13+'Област Смолян'!I13+'Област София'!I13+'Област София-град'!I13+'Област Стара Загора'!I13+'Област Търговище'!I13+'Област Хасково'!I13+'Област Шумен'!I13+'Област Ямбол'!I13 -> 23577
A15: 12 | B15: резидентна грижа за деца без увреждания | C15: 8 | D15: 12 | E15: ='Област Благоевград'!E14+'Област Бургас'!E14+'Област Варна'!E14+'Област В. Търново'!E14+'Област Видин'!E14+'Област Враца'!E14+'Област Габрово'!E14+'Област Добрич'!E14+'Област Кърджали'!E14+'Област Кюстендил'!E14+'Област Ловеч'!E14+'Област Монтана'!E14+'Област Пазарджик'!E14+'Област Перник'!E14+'Област Плевен'!E14+'Област Пловдив'!E14+'Област Разград'!E14+'Област Русе'!E14+'Област Силистра'!E14+'Област Сливен'!E14+'Област Смолян'!E14+'Област София'!E14+'Област София-град'!E14+'Област Стара Загора'!E14+'Област Търговище'!E14+'Област Хасково'!E14+'Област Шумен'!E14+'Област Ямбол'!E14 -> 1943 | F15: ='Област Благоевград'!F14+'Област Бургас'!F14+'Област Варна'!F14+'Област В. Търново'!F14+'Област Видин'!F14+'Област Враца'!F14+'Област Габрово'!F14+'Област Добрич'!F14+'Област Кърджали'!F14+'Област Кюстендил'!F14+'Област Ловеч'!F14+'Област Монтана'!F14+'Област Пазарджик'!F14+'Област Перник'!F14+'Област Плевен'!F14+'Област Пловдив'!F14+'Област Разград'!F14+'Област Русе'!F14+'Област Силистра'!F14+'Област Сливен'!F14+'Област Смолян'!F14+'Област София'!F14+'Област София-град'!F14+'Област Стара Загора'!F14+'Област Търговище'!F14+'Област Хасково'!F14+'Област Шумен'!F14+'Област Ямбол'!F14 -> 1272 | G15: ='Област Благоевград'!G14+'Област Бургас'!G14+'Област Варна'!G14+'Област В. Търново'!G14+'Област Видин'!G14+'Област Враца'!G14+'Област Габрово'!G14+'Област Добрич'!G14+'Област Кърджали'!G14+'Област Кюстендил'!G14+'Област Ловеч'!G14+'Област Монтана'!G14+'Област Пазарджик'!G14+'Област Перник'!G14+'Област Плевен'!G14+'Област Пловдив'!G14+'Област Разград'!G14+'Област Русе'!G14+'Област Силистра'!G14+'Област Сливен'!G14+'Област Смолян'!G14+'Област София'!G14+'Област София-град'!G14+'Област Стара Загора'!G14+'Област Търговище'!G14+'Област Хасково'!G14+'Област Шумен'!G14+'Област Ямбол'!G14 -> 671 | H15: ='Област Благоевград'!H14+'Област Бургас'!H14+'Област Варна'!H14+'Област В. Търново'!H14+'Област Видин'!H14+'Област Враца'!H14+'Област Габрово'!H14+'Област Добрич'!H14+'Област Кърджали'!H14+'Област Кюстендил'!H14+'Област Ловеч'!H14+'Област Монтана'!H14+'Област Пазарджик'!H14+'Област Перник'!H14+'Област Плевен'!H14+'Област Пловдив'!H14+'Област Разград'!H14+'Област Русе'!H14+'Област Силистра'!H14+'Област Сливен'!H14+'Област Смолян'!H14+'Област София'!H14+'Област София-град'!H14+'Област Стара Загора'!H14+'Област Търговище'!H14+'Област Хасково'!H14+'Област Шумен'!H14+'Област Ямбол'!H14 -> 143 | I15: ='Област Благоевград'!I14+'Област Бургас'!I14+'Област Варна'!I14+'Област В. Търново'!I14+'Област Видин'!I14+'Област Враца'!I14+'Област Габрово'!I14+'Област Добрич'!I14+'Област Кърджали'!I14+'Област Кюстендил'!I14+'Област Ловеч'!I14+'Област Монтана'!I14+'Област Пазарджик'!I14+'Област Перник'!I14+'Област Плевен'!I14+'Област Пловдив'!I14+'Област Разград'!I14+'Област Русе'!I14+'Област Силистра'!I14+'Област Сливен'!I14+'Област Смолян'!I14+'Област София'!I14+'Област София-град'!I14+'Област Стара Загора'!I14+'Област Търговище'!I14+'Област Хасково'!I14+'Област Шумен'!I14+'Област Ямбол'!I14 -> 2082
A16: 13 | B16: резидентна грижа за младежи до 25 г. * | C16: 4 | D16: 6 | E16: ='Област Благоевград'!E15+'Област Бургас'!E15+'Област Варна'!E15+'Област В. Търново'!E15+'Област Видин'!E15+'Област Враца'!E15+'Област Габрово'!E15+'Област Добрич'!E15+'Област Кърджали'!E15+'Област Кюстендил'!E15+'Област Ловеч'!E15+'Област Монтана'!E15+'Област Пазарджик'!E15+'Област Перник'!E15+'Област Плевен'!E15+'Област Пловдив'!E15+'Област Разград'!E15+'Област Русе'!E15+'Област Силистра'!E15+'Област Сливен'!E15+'Област Смолян'!E15+'Област София'!E15+'Област София-град'!E15+'Област Стара Загора'!E15+'Област Търговище'!E15+'Област Хасково'!E15+'Област Шумен'!E15+'Област Ямбол'!E15 -> 116 | F16: ='Област Благоевград'!F15+'Област Бургас'!F15+'Област Варна'!F15+'Област В. Търново'!F15+'Област Видин'!F15+'Област Враца'!F15+'Област Габрово'!F15+'Област Добрич'!F15+'Област Кърджали'!F15+'Област Кюстендил'!F15+'Област Ловеч'!F15+'Област Монтана'!F15+'Област Пазарджик'!F15+'Област Перник'!F15+'Област Плевен'!F15+'Област Пловдив'!F15+'Област Разград'!F15+'Област Русе'!F15+'Област Силистра'!F15+'Област Сливен'!F15+'Област Смолян'!F15+'Област София'!F15+'Област София-град'!F15+'Област Стара Загора'!F15+'Област Търговище'!F15+'Област Хасково'!F15+'Област Шумен'!F15+'Област Ямбол'!F15 -> 0 | G16: ='Област Благоевград'!G15+'Област Бургас'!G15+'Област Варна'!G15+'Област В. Търново'!G15+'Област Видин'!G15+'Област Враца'!G15+'Област Габрово'!G15+'Област Добрич'!G15+'Област Кърджали'!G15+'Област Кюстендил'!G15+'Област Ловеч'!G15+'Област Монтана'!G15+'Област Пазарджик'!G15+'Област Перник'!G15+'Област Плевен'!G15+'Област Пловдив'!G15+'Област Разград'!G15+'Област Русе'!G15+'Област Силистра'!G15+'Област Сливен'!G15+'Област Смолян'!G15+'Област София'!G15+'Област София-град'!G15+'Област Стара Загора'!G15+'Област Търговище'!G15+'Област Хасково'!G15+'Област Шумен'!G15+'Област Ямбол'!G15 -> 116 | H16: ='Област Благоевград'!H15+'Област Бургас'!H15+'Област Варна'!H15+'Област В. Търново'!H15+'Област Видин'!H15+'Област Враца'!H15+'Област Габрово'!H15+'Област Добрич'!H15+'Област Кърджали'!H15+'Област Кюстендил'!H15+'Област Ловеч'!H15+'Област Монтана'!H15+'Област Пазарджик'!H15+'Област Перник'!H15+'Област Плевен'!H15+'Област Пловдив'!H15+'Област Разград'!H15+'Област Русе'!H15+'Област Силистра'!H15+'Област Сливен'!H15+'Област Смолян'!H15+'Област София'!H15+'Област София-град'!H15+'Област Стара Загора'!H15+'Област Търговище'!H15+'Област Хасково'!H15+'Област Шумен'!H15+'Област Ямбол'!H15 -> 0 | I16: ='Област Благоевград'!I15+'Област Бургас'!I15+'Област Варна'!I15+'Област В. Търново'!I15+'Област Видин'!I15+'Област Враца'!I15+'Област Габрово'!I15+'Област Добрич'!I15+'Област Кърджали'!I15+'Област Кюстендил'!I15+'Област Ловеч'!I15+'Област Монтана'!I15+'Област Пазарджик'!I15+'Област Перник'!I15+'Област Плевен'!I15+'Област Пловдив'!I15+'Област Разград'!I15+'Област Русе'!I15+'Област Силистра'!I15+'Област Сливен'!I15+'Област Смолян'!I15+'Област София'!I15+'Област София-град'!I15+'Област Стара Загора'!I15+'Област Търговище'!I15+'Област Хасково'!I15+'Област Шумен'!I15+'Област Ямбол'!I15 -> 116
A17: 14 | B17: резидентна грижа за деца с трайни увреждания | C17: 8 | D17: 12 | E17: ='Област Благоевград'!E16+'Област Бургас'!E16+'Област Варна'!E16+'Област В. Търново'!E16+'Област Видин'!E16+'Област Враца'!E16+'Област Габрово'!E16+'Област Добрич'!E16+'Област Кърджали'!E16+'Област Кюстендил'!E16+'Област Ловеч'!E16+'Област Монтана'!E16+'Област Пазарджик'!E16+'Област Перник'!E16+'Област Плевен'!E16+'Област Пловдив'!E16+'Област Разград'!E16+'Област Русе'!E16+'Област Силистра'!E16+'Област Сливен'!E16+'Област Смолян'!E16+'Област София'!E16+'Област София-град'!E16+'Област Стара Загора'!E16+'Област Търговище'!E16+'Област Хасково'!E16+'Област Шумен'!E16+'Област Ямбол'!E16 -> 1531 | F17: ='Област Благоевград'!F16+'Област Бургас'!F16+'Област Варна'!F16+'Област В. Търново'!F16+'Област Видин'!F16+'Област Враца'!F16+'Област Габрово'!F16+'Област Добрич'!F16+'Област Кърджали'!F16+'Област Кюстендил'!F16+'Област Ловеч'!F16+'Област Монтана'!F16+'Област Пазарджик'!F16+'Област Перник'!F16+'Област Плевен'!F16+'Област Пловдив'!F16+'Област Разград'!F16+'Област Русе'!F16+'Област Силистра'!F16+'Област Сливен'!F16+'Област Смолян'!F16+'Област София'!F16+'Област София-град'!F16+'Област Стара Загора'!F16+'Област Търговище'!F16+'Област Хасково'!F16+'Област Шумен'!F16+'Област Ямбол'!F16 -> 1363 | G17: ='Област Благоевград'!G16+'Област Бургас'!G16+'Област Варна'!G16+'Област В. Търново'!G16+'Област Видин'!G16+'Област Враца'!G16+'Област Габрово'!G16+'Област Добрич'!G16+'Област Кърджали'!G16+'Област Кюстендил'!G16+'Област Ловеч'!G16+'Област Монтана'!G16+'Област Пазарджик'!G16+'Област Перник'!G16+'Област Плевен'!G16+'Област Пловдив'!G16+'Област Разград'!G16+'Област Русе'!G16+'Област Силистра'!G16+'Област Сливен'!G16+'Област Смолян'!G16+'Област София'!G16+'Област София-град'!G16+'Област Стара Загора'!G16+'Област Търговище'!G16+'Област Хасково'!G16+'Област Шумен'!G16+'Област Ямбол'!G16 -> 118 | H17: ='Област Благоевград'!H16+'Област Бургас'!H16+'Област Варна'!H16+'Област В. Търново'!H16+'Област Видин'!H16+'Област Враца'!H16+'Област Габрово'!H16+'Област Добрич'!H16+'Област Кърджали'!H16+'Област Кюстендил'!H16+'Област Ловеч'!H16+'Област Монтана'!H16+'Област Пазарджик'!H16+'Област Перник'!H16+'Област Плевен'!H16+'Област Пловдив'!H16+'Област Разград'!H16+'Област Русе'!H16+'Област Силистра'!H16+'Област Сливен'!H16+'Област Смолян'!H16+'Област София'!H16+'Област София-град'!H16+'Област Стара Загора'!H16+'Област Търговище'!H16+'Област Хасково'!H16+'Област Шумен'!H16+'Област Ямбол'!H16 -> 206 | I17: ='Област Благоевград'!I16+'Област Бургас'!I16+'Област Варна'!I16+'Област В. Търново'!I16+'Област Видин'!I16+'Област Враца'!I16+'Област Габрово'!I16+'Област Добрич'!I16+'Област Кърджали'!I16+'Област Кюстендил'!I16+'Област Ловеч'!I16+'Област Монтана'!I16+'Област Пазарджик'!I16+'Област Перник'!I16+'Област Плевен'!I16+'Област Пловдив'!I16+'Област Разград'!I16+'Област Русе'!I16+'Област Силистра'!I16+'Област Сливен'!I16+'Област Смолян'!I16+'Област София'!I16+'Област София-град'!I16+'Област Стара Загора'!I16+'Област Търговище'!I16+'Област Хасково'!I16+'Област Шумен'!I16+'Област Ямбол'!I16 -> 1723
A18: 15 | B18: резидентна грижа за пълнолетни лица с психични разстройства | C18: 8 | D18: 20 | E18: ='Област Благоевград'!E17+'Област Бургас'!E17+'Област Варна'!E17+'Област В. Търново'!E17+'Област Видин'!E17+'Област Враца'!E17+'Област Габрово'!E17+'Област Добрич'!E17+'Област Кърджали'!E17+'Област Кюстендил'!E17+'Област Ловеч'!E17+'Област Монтана'!E17+'Област Пазарджик'!E17+'Област Перник'!E17+'Област Плевен'!E17+'Област Пловдив'!E17+'Област Разград'!E17+'Област Русе'!E17+'Област Силистра'!E17+'Област Сливен'!E17+'Област Смолян'!E17+'Област София'!E17+'Област София-град'!E17+'Област Стара Загора'!E17+'Област Търговище'!E17+'Област Хасково'!E17+'Област Шумен'!E17+'Област Ямбол'!E17 -> 1908 | F18: ='Област Благоевград'!F17+'Област Бургас'!F17+'Област Варна'!F17+'Област В. Търново'!F17+'Област Видин'!F17+'Област Враца'!F17+'Област Габрово'!F17+'Област Добрич'!F17+'Област Кърджали'!F17+'Област Кюстендил'!F17+'Област Ловеч'!F17+'Област Монтана'!F17+'Област Пазарджик'!F17+'Област Перник'!F17+'Област Плевен'!F17+'Област Пловдив'!F17+'Област Разград'!F17+'Област Русе'!F17+'Област Силистра'!F17+'Област Сливен'!F17+'Област Смолян'!F17+'Област София'!F17+'Област София-град'!F17+'Област Стара Загора'!F17+'Област Търговище'!F17+'Област Хасково'!F17+'Област Шумен'!F17+'Област Ямбол'!F17 -> 8033 | G18: ='Област Благоевград'!G17+'Област Бургас'!G17+'Област Варна'!G17+'Област В. Търново'!G17+'Област Видин'!G17+'Област Враца'!G17+'Област Габрово'!G17+'Област Добрич'!G17+'Област Кърджали'!G17+'Област Кюстендил'!G17+'Област Ловеч'!G17+'Област Монтана'!G17+'Област Пазарджик'!G17+'Област Перник'!G17+'Област Плевен'!G17+'Област Пловдив'!G17+'Област Разград'!G17+'Област Русе'!G17+'Област Силистра'!G17+'Област Сливен'!G17+'Област Смолян'!G17+'Област София'!G17+'Област София-град'!G17+'Област Стара Загора'!G17+'Област Търговище'!G17+'Област Хасково'!G17+'Област Шумен'!G17+'Област Ямбол'!G17 -> -6105 | H18: ='Област Благоевград'!H17+'Област Бургас'!H17+'Област Варна'!H17+'Област В. Търново'!H17+'Област Видин'!H17+'Област Враца'!H17+'Област Габрово'!H17+'Област Добрич'!H17+'Област Кърджали'!H17+'Област Кюстендил'!H17+'Област Ловеч'!H17+'Област Монтана'!H17+'Област Пазарджик'!H17+'Област Перник'!H17+'Област Плевен'!H17+'Област Пловдив'!H17+'Област Разград'!H17+'Област Русе'!H17+'Област Силистра'!H17+'Област Сливен'!H17+'Област Смолян'!H17+'Област София'!H17+'Област София-град'!H17+'Област Стара Загора'!H17+'Област Търговище'!H17+'Област Хасково'!H17+'Област Шумен'!H17+'Област Ямбол'!H17 -> 6182 | I18: ='Област Благоевград'!I17+'Област Бургас'!I17+'Област Варна'!I17+'Област В. Търново'!I17+'Област Видин'!I17+'Област Враца'!I17+'Област Габрово'!I17+'Област Добрич'!I17+'Област Кърджали'!I17+'Област Кюстендил'!I17+'Област Ловеч'!I17+'Област Монтана'!I17+'Област Пазарджик'!I17+'Област Перник'!I17+'Област Плевен'!I17+'Област Пловдив'!I17+'Област Разград'!I17+'Област Русе'!I17+'Област Силистра'!I17+'Област Сливен'!I17+'Област Смолян'!I17+'Област София'!I17+'Област София-град'!I17+'Област Стара Загора'!I17+'Област Търговище'!I17+'Област Хасково'!I17+'Област Шумен'!I17+'Област Ямбол'!I17 -> 7923
A19: 16 | B19: резидентна грижа за пълнолетни лица с интелектуални затруднения | C19: 8 | D19: 30 | E19: ='Област Благоевград'!E18+'Област Бургас'!E18+'Област Варна'!E18+'Област В. Търново'!E18+'Област Видин'!E18+'Област Враца'!E18+'Област Габрово'!E18+'Област Добрич'!E18+'Област Кърджали'!E18+'Област Кюстендил'!E18+'Област Ловеч'!E18+'Област Монтана'!E18+'Област Пазарджик'!E18+'Област Перник'!E18+'Област Плевен'!E18+'Област Пловдив'!E18+'Област Разград'!E18+'Област Русе'!E18+'Област Силистра'!E18+'Област Сливен'!E18+'Област Смолян'!E18+'Област София'!E18+'Област София-град'!E18+'Област Стара Загора'!E18+'Област Търговище'!E18+'Област Хасково'!E18+'Област Шумен'!E18+'Област Ямбол'!E18 -> 3095 | F19: ='Област Благоевград'!F18+'Област Бургас'!F18+'Област Варна'!F18+'Област В. Търново'!F18+'Област Видин'!F18+'Област Враца'!F18+'Област Габрово'!F18+'Област Добрич'!F18+'Област Кърджали'!F18+'Област Кюстендил'!F18+'Област Ловеч'!F18+'Област Монтана'!F18+'Област Пазарджик'!F18+'Област Перник'!F18+'Област Плевен'!F18+'Област Пловдив'!F18+'Област Разград'!F18+'Област Русе'!F18+'Област Силистра'!F18+'Област Сливен'!F18+'Област Смолян'!F18+'Област София'!F18+'Област София-град'!F18+'Област Стара Загора'!F18+'Област Търговище'!F18+'Област Хасково'!F18+'Област Шумен'!F18+'Област Ямбол'!F18 -> 5399 | G19: ='Област Благоевград'!G18+'Област Бургас'!G18+'Област Варна'!G18+'Област В. Търново'!G18+'Област Видин'!G18+'Област Враца'!G18+'Област Габрово'!G18+'Област Добрич'!G18+'Област Кърджали'!G18+'Област Кюстендил'!G18+'Област Ловеч'!G18+'Област Монтана'!G18+'Област Пазарджик'!G18+'Област Перник'!G18+'Област Плевен'!G18+'Област Пловдив'!G18+'Област Разград'!G18+'Област Русе'!G18+'Област Силистра'!G18+'Област Сливен'!G18+'Област Смолян'!G18+'Област София'!G18+'Област София-град'!G18+'Област Стара Загора'!G18+'Област Търговище'!G18+'Област Хасково'!G18+'Област Шумен'!G18+'Област Ямбол'!G18 -> -2295 | H19: ='Област Благоевград'!H18+'Област Бургас'!H18+'Област Варна'!H18+'Област В. Търново'!H18+'Област Видин'!H18+'Област Враца'!H18+'Област Габрово'!H18+'Област Добрич'!H18+'Област Кърджали'!H18+'Област Кюстендил'!H18+'Област Ловеч'!H18+'Област Монтана'!H18+'Област Пазарджик'!H18+'Област Перник'!H18+'Област Плевен'!H18+'Област Пловдив'!H18+'Област Разград'!H18+'Област Русе'!H18+'Област Силистра'!H18+'Област Сливен'!H18+'Област Смолян'!H18+'Област София'!H18+'Област София-град'!H18+'Област Стара Загора'!H18+'Област Търговище'!H18+'Област Хасково'!H18+'Област Шумен'!H18+'Област Ямбол'!H18 -> 2668 | I19: ='Област Благоевград'!I18+'Област Бургас'!I18+'Област Варна'!I18+'Област В. Търново'!I18+'Област Видин'!I18+'Област Враца'!I18+'Област Габрово'!I18+'Област Добрич'!I18+'Област Кърджали'!I18+'Област Кюстендил'!I18+'Област Ловеч'!I18+'Област Монтана'!I18+'Област Пазарджик'!I18+'Област Перник'!I18+'Област Плевен'!I18+'Област Пловдив'!I18+'Област Разград'!I18+'Област Русе'!I18+'Област Силистра'!I18+'Област Сливен'!I18+'Област Смолян'!I18+'Област София'!I18+'Област София-град'!I18+'Област Стара Загора'!I18+'Област Търговище'!I18+'Област Хасково'!I18+'Област Шумен'!I18+'Област Ямбол'!I18 -> 5673
A20: 17 | B20: резидентна грижа за пълнолетни лица с физически увреждания | C20: 8 | D20: 30 | E20: ='Област Благоевград'!E19+'Област Бургас'!E19+'Област Варна'!E19+'Област В. Търново'!E19+'Област Видин'!E19+'Област Враца'!E19+'Област Габрово'!E19+'Област Добрич'!E19+'Област Кърджали'!E19+'Област Кюстендил'!E19+'Област Ловеч'!E19+'Област Монтана'!E19+'Област Пазарджик'!E19+'Област Перник'!E19+'Област Плевен'!E19+'Област Пловдив'!E19+'Област Разград'!E19+'Област Русе'!E19+'Област Силистра'!E19+'Област Сливен'!E19+'Област Смолян'!E19+'Област София'!E19+'Област София-град'!E19+'Област Стара Загора'!E19+'Област Търговище'!E19+'Област Хасково'!E19+'Област Шумен'!E19+'Област Ямбол'!E19 -> 926 | F20: ='Област Благоевград'!F19+'Област Бургас'!F19+'Област Варна'!F19+'Област В. Търново'!F19+'Област Видин'!F19+'Област Враца'!F19+'Област Габрово'!F19+'Област Добрич'!F19+'Област Кърджали'!F19+'Област Кюстендил'!F19+'Област Ловеч'!F19+'Област Монтана'!F19+'Област Пазарджик'!F19+'Област Перник'!F19+'Област Плевен'!F19+'Област Пловдив'!F19+'Област Разград'!F19+'Област Русе'!F19+'Област Силистра'!F19+'Област Сливен'!F19+'Област Смолян'!F19+'Област София'!F19+'Област София-град'!F19+'Област Стара Загора'!F19+'Област Търговище'!F19+'Област Хасково'!F19+'Област Шумен'!F19+'Област Ямбол'!F19 -> 12886 | G20: ='Област Благоевград'!G19+'Област Бургас'!G19+'Област Варна'!G19+'Област В. Търново'!G19+'Област Видин'!G19+'Област Враца'!G19+'Област Габрово'!G19+'Област Добрич'!G19+'Област Кърджали'!G19+'Област Кюстендил'!G19+'Област Ловеч'!G19+'Област Монтана'!G19+'Област Пазарджик'!G19+'Област Перник'!G19+'Област Плевен'!G19+'Област Пловдив'!G19+'Област Разград'!G19+'Област Русе'!G19+'Област Силистра'!G19+'Област Сливен'!G19+'Област Смолян'!G19+'Област София'!G19+'Област София-град'!G19+'Област Стара Загора'!G19+'Област Търговище'!G19+'Област Хасково'!G19+'Област Шумен'!G19+'Област Ямбол'!G19 -> -11960 | H20: ='Област Благоевград'!H19+'Област Бургас'!H19+'Област Варна'!H19+'Област В. Търново'!H19+'Област Видин'!H19+'Област Враца'!H19+'Област Габрово'!H19+'Област Добрич'!H19+'Област Кърджали'!H19+'Област Кюстендил'!H19+'Област Ловеч'!H19+'Област Монтана'!H19+'Област Пазарджик'!H19+'Област Перник'!H19+'Област Плевен'!H19+'Област Пловдив'!H19+'Област Разград'!H19+'Област Русе'!H19+'Област Силистра'!H19+'Област Сливен'!H19+'Област Смолян'!H19+'Област София'!H19+'Област София-град'!H19+'Област Стара Загора'!H19+'Област Търговище'!H19+'Област Хасково'!H19+'Област Шумен'!H19+'Област Ямбол'!H19 -> 11960 | I20: ='Област Благоевград'!I19+'Област Бургас'!I19+'Област Варна'!I19+'Област В. Търново'!I19+'Област Видин'!I19+'Област Враца'!I19+'Област Габрово'!I19+'Област Добрич'!I19+'Област Кърджали'!I19+'Област Кюстендил'!I19+'Област Ловеч'!I19+'Област Монтана'!I19+'Област Пазарджик'!I19+'Област Перник'!I19+'Област Плевен'!I19+'Област Пловдив'!I19+'Област Разград'!I19+'Област Русе'!I19+'Област Силистра'!I19+'Област Сливен'!I19+'Област Смолян'!I19+'Област София'!I19+'Област София-град'!I19+'Област Стара Загора'!I19+'Област Търговище'!I19+'Област Хасково'!I19+'Област Шумен'!I19+'Област Ямбол'!I19 -> 12757
A21: 18 | B21: резидентна грижа за пълнолетни лица с деменция | C21: 8 | D21: 20 | E21: ='Област Благоевград'!E20+'Област Бургас'!E20+'Област Варна'!E20+'Област В. Търново'!E20+'Област Видин'!E20+'Област Враца'!E20+'Област Габрово'!E20+'Област Добрич'!E20+'Област Кърджали'!E20+'Област Кюстендил'!E20+'Област Ловеч'!E20+'Област Монтана'!E20+'Област Пазарджик'!E20+'Област Перник'!E20+'Област Плевен'!E20+'Област Пловдив'!E20+'Област Разград'!E20+'Област Русе'!E20+'Област Силистра'!E20+'Област Сливен'!E20+'Област Смолян'!E20+'Област София'!E20+'Област София-град'!E20+'Област Стара Загора'!E20+'Област Търговище'!E20+'Област Хасково'!E20+'Област Шумен'!E20+'Област Ямбол'!E20 -> 875 | F21: ='Област Благоевград'!F20+'Област Бургас'!F20+'Област Варна'!F20+'Област В. Търново'!F20+'Област Видин'!F20+'Област Враца'!F20+'Област Габрово'!F20+'Област Добрич'!F20+'Област Кърджали'!F20+'Област Кюстендил'!F20+'Област Ловеч'!F20+'Област Монтана'!F20+'Област Пазарджик'!F20+'Област Перник'!F20+'Област Плевен'!F20+'Област Пловдив'!F20+'Област Разград'!F20+'Област Русе'!F20+'Област Силистра'!F20+'Област Сливен'!F20+'Област Смолян'!F20+'Област София'!F20+'Област София-град'!F20+'Област Стара Загора'!F20+'Област Търговище'!F20+'Област Хасково'!F20+'Област Шумен'!F20+'Област Ямбол'!F20 -> 2002 | G21: ='Област Благоевград'!G20+'Област Бургас'!G20+'Област Варна'!G20+'Област В. Търново'!G20+'Област Видин'!G20+'Област Враца'!G20+'Област Габрово'!G20+'Област Добрич'!G20+'Област Кърджали'!G20+'Област Кюстендил'!G20+'Област Ловеч'!G20+'Област Монтана'!G20+'Област Пазарджик'!G20+'Област Перник'!G20+'Област Плевен'!G20+'Област Пловдив'!G20+'Област Разград'!G20+'Област Русе'!G20+'Област Силистра'!G20+'Област Сливен'!G20+'Област Смолян'!G20+'Област София'!G20+'Област София-град'!G20+'Област Стара Загора'!G20+'Област Търговище'!G20+'Област Хасково'!G20+'Област Шумен'!G20+'Област Ямбол'!G20 -> -1127 | H21: ='Област Благоевград'!H20+'Област Бургас'!H20+'Област Варна'!H20+'Област В. Търново'!H20+'Област Видин'!H20+'Област Враца'!H20+'Област Габрово'!H20+'Област Добрич'!H20+'Област Кърджали'!H20+'Област Кюстендил'!H20+'Област Ловеч'!H20+'Област Монтана'!H20+'Област Пазарджик'!H20+'Област Перник'!H20+'Област Плевен'!H20+'Област Пловдив'!H20+'Област Разград'!H20+'Област Русе'!H20+'Област Силистра'!H20+'Област Сливен'!H20+'Област Смолян'!H20+'Област София'!H20+'Област София-град'!H20+'Област Стара Загора'!H20+'Област Търговище'!H20+'Област Хасково'!H20+'Област Шумен'!H20+'Област Ямбол'!H20 -> 1287 | I21: ='Област Благоевград'!I20+'Област Бургас'!I20+'Област Варна'!I20+'Област В. Търново'!I20+'Област Видин'!I20+'Област Враца'!I20+'Област Габрово'!I20+'Област Добрич'!I20+'Област Кърджали'!I20+'Област Кюстендил'!I20+'Област Ловеч'!I20+'Област Монтана'!I20+'Област Пазарджик'!I20+'Област Перник'!I20+'Област Плевен'!I20+'Област Пловдив'!I20+'Област Разград'!I20+'Област Русе'!I20+'Област Силистра'!I20+'Област Сливен'!I20+'Област Смолян'!I20+'Област София'!I20+'Област София-град'!I20+'Област Стара Загора'!I20+'Област Търговище'!I20+'Област Хасково'!I20+'Област Шумен'!I20+'Област Ямбол'!I20 -> 2158
A22: 19 | B22: резидентна грижа за пълнолетни лица със сетивни увреждания | C22: 8 | D22: 30 | E22: ='Област Благоевград'!E21+'Област Бургас'!E21+'Област Варна'!E21+'Област В. Търново'!E21+'Област Видин'!E21+'Област Враца'!E21+'Област Габрово'!E21+'Област Добрич'!E21+'Област Кърджали'!E21+'Област Кюстендил'!E21+'Област Ловеч'!E21+'Област Монтана'!E21+'Област Пазарджик'!E21+'Област Перник'!E21+'Област Плевен'!E21+'Област Пловдив'!E21+'Област Разград'!E21+'Област Русе'!E21+'Област Силистра'!E21+'Област Сливен'!E21+'Област Смолян'!E21+'Област София'!E21+'Област София-град'!E21+'Област Стара Загора'!E21+'Област Търговище'!E21+'Област Хасково'!E21+'Област Шумен'!E21+'Област Ямбол'!E21 -> 81 | F22: ='Област Благоевград'!F21+'Област Бургас'!F21+'Област Варна'!F21+'Област В. Търново'!F21+'Област Видин'!F21+'Област Враца'!F21+'Област Габрово'!F21+'Област Добрич'!F21+'Област Кърджали'!F21+'Област Кюстендил'!F21+'Област Ловеч'!F21+'Област Монтана'!F21+'Област Пазарджик'!F21+'Област Перник'!F21+'Област Плевен'!F21+'Област Пловдив'!F21+'Област Разград'!F21+'Област Русе'!F21+'Област Силистра'!F21+'Област Сливен'!F21+'Област Смолян'!F21+'Област София'!F21+'Област София-град'!F21+'Област Стара Загора'!F21+'Област Търговище'!F21+'Област Хасково'!F21+'Област Шумен'!F21+'Област Ямбол'!F21 -> 1063 | G22: ='Област Благоевград'!G21+'Област Бургас'!G21+'Област Варна'!G21+'Област В. Търново'!G21+'Област Видин'!G21+'Област Враца'!G21+'Област Габрово'!G21+'Област Добрич'!G21+'Област Кърджали'!G21+'Област Кюстендил'!G21+'Област Ловеч'!G21+'Област Монтана'!G21+'Област Пазарджик'!G21+'Област Перник'!G21+'Област Плевен'!G21+'Област Пловдив'!G21+'Област Разград'!G21+'Област Русе'!G21+'Област Силистра'!G21+'Област Сливен'!G21+'Област Смолян'!G21+'Област София'!G21+'Област София-град'!G21+'Област Стара Загора'!G21+'Област Търговище'!G21+'Област Хасково'!G21+'Област Шумен'!G21+'Област Ямбол'!G21 -> -976 | H22: ='Област Благоевград'!H21+'Област Бургас'!H21+'Област Варна'!H21+'Област В. Търново'!H21+'Област Видин'!H21+'Област Враца'!H21+'Област Габрово'!H21+'Област Добрич'!H21+'Област Кърджали'!H21+'Област Кюстендил'!H21+'Област Ловеч'!H21+'Област Монтана'!H21+'Област Пазарджик'!H21+'Област Перник'!H21+'Област Плевен'!H21+'Област Пловдив'!H21+'Област Разград'!H21+'Област Русе'!H21+'Област Силистра'!H21+'Област Сливен'!H21+'Област Смолян'!H21+'Област София'!H21+'Област София-град'!H21+'Област Стара Загора'!H21+'Област Търговище'!H21+'Област Хасково'!H21+'Област Шумен'!H21+'Област Ямбол'!H21 -> 1001 | I22: ='Област Благоевград'!I21+'Област Бургас'!I21+'Област Варна'!I21+'Област В. Търново'!I21+'Област Видин'!I21+'Област Враца'!I21+'Област Габрово'!I21+'Област Добрич'!I21+'Област Кърджали'!I21+'Област Кюстендил'!I21+'Област Ловеч'!I21+'Област Монтана'!I21+'Област Пазарджик'!I21+'Област Перник'!I21+'Област Плевен'!I21+'Област Пловдив'!I21+'Област Разград'!I21+'Област Русе'!I21+'Област Силистра'!I21+'Област Сливен'!I21+'Област Смолян'!I21+'Област София'!I21+'Област София-град'!I21+'Област Стара Загора'!I21+'Област Търговище'!I21+'Област Хасково'!I21+'Област Шумен'!I21+'Област Ямбол'!I21 -> 1072
